BEGIN:VCALENDAR
VERSION:2.0
PRODID:-//Paradise News Magazine - ECPv6.15.20//NONSGML v1.0//EN
CALSCALE:GREGORIAN
METHOD:PUBLISH
X-WR-CALNAME:Paradise News Magazine
X-ORIGINAL-URL:https://www.paradisenewsfl.com
X-WR-CALDESC:Events for Paradise News Magazine
REFRESH-INTERVAL;VALUE=DURATION:PT1H
X-Robots-Tag:noindex
X-PUBLISHED-TTL:PT1H
BEGIN:VTIMEZONE
TZID:UTC
BEGIN:STANDARD
TZOFFSETFROM:+0000
TZOFFSETTO:+0000
TZNAME:UTC
DTSTART:20200101T000000
END:STANDARD
END:VTIMEZONE
BEGIN:VEVENT
DTSTART;TZID=UTC:20210903T170000
DTEND;TZID=UTC:20210903T210000
DTSTAMP:20260423T032112
CREATED:20210812T233130Z
LAST-MODIFIED:20210812T233130Z
UID:23996-1630688400-1630702800@www.paradisenewsfl.com
SUMMARY:Gulfport First Friday Art Walk
DESCRIPTION:Gulfport’s First Friday Art Walk occurs each month from 5pm – 9pm. The downtown area comes to life with artists\, musicians and art appreciators. The Gulfport First Friday Art Walk is free to attend with free parking. Hosted by the Gulfport Merchants Chamber\, all safety protocols are met and exceeded to ensure a safe and entertaining night for the entire family.\n\nCome join us with free live music up and down the street. Follow the flags for artist clusters\, displaying paintings\, jewelry\, glass\, mixed media sculpture and more. First Friday Art Walk is a juried event that welcomes emerging and professional artists in all media to engage our arts loving community in a safe\, creative and socially distanced manner. Come join us each First Friday of the month and get inspired! For more information\, please visit http://visitgulfportflorida.com/first-friday-art-walk/
URL:https://www.paradisenewsfl.com/event/gulfport-first-friday-art-walk-7/
LOCATION:Downtown Gulfport\, Shore & Beach Blvd\, Gulfport\, FL\, 33707\, United States
ATTACH;FMTTYPE=image/jpeg:https://www.paradisenewsfl.com/wp-content/uploads/2020/10/first-friday-art-walk.jpg
END:VEVENT
BEGIN:VEVENT
DTSTART;TZID=UTC:20210903T190000
DTEND;TZID=UTC:20210903T220000
DTSTAMP:20260423T032112
CREATED:20210812T233352Z
LAST-MODIFIED:20210812T233352Z
UID:23998-1630695600-1630706400@www.paradisenewsfl.com
SUMMARY:Gulfport First Friday Pop-up Dance Party
DESCRIPTION:Head to the historic Gulfport Casino on the waterfront for live music and cold drinks. Every First Friday\, $10 gets you into the First Friday Pop-Up Dance Party. Local musicians will get you moving\, and the bar will open. After you’re done soaking in the art in downtown Gulfport\, head to the Casino to soak in some live music. Dance the night away… at least\, until 10 p.m.\n\nFor more information\, please visit https://www.gulfporthistoricalsociety.org/
URL:https://www.paradisenewsfl.com/event/gulfport-first-friday-pop-up-dance-party-2/
LOCATION:Gulfport Casino\, 5500 Bayshore Blvd S\, Gulfport\, FL\, 33707\, United States
ATTACH;FMTTYPE=image/jpeg:https://www.paradisenewsfl.com/wp-content/uploads/2016/08/gulfport-historic-society_copy.jpg
END:VEVENT
BEGIN:VEVENT
DTSTART;TZID=UTC:20210904T100000
DTEND;TZID=UTC:20210904T220000
DTSTAMP:20260423T032112
CREATED:20210728T213052Z
LAST-MODIFIED:20210728T213145Z
UID:23600-1630749600-1630792800@www.paradisenewsfl.com
SUMMARY:20th Annual Geckofest
DESCRIPTION:Gulfport invites you to the 20th Annual Geckofest\, celebrating the end of summer with its largest festival of the year\, honoring this waterfront village’s unofficial mascot and favorite reptile\, the Gecko! \nThis year’s theme\, chosen by public voting on the Gecko Ball Facebook page\, is “American Band Stand”! The theme offers inspiration for a wide array of costumes from the 50′ through the 80’s\, as well as music\, dancing\, food and drink. Festival-goers are always encouraged to arrive in costume. \nParking and admission to Geckofest is complimentary and the event is pet and family-friendly.\nFor general information\, please visit www.Facebook.com/SIKPromotions or call 727-322-5217.
URL:https://www.paradisenewsfl.com/event/20th-annual-geckofest/
LOCATION:Downtown Gulfport\, Shore & Beach Blvd\, Gulfport\, FL\, 33707\, United States
ATTACH;FMTTYPE=image/jpeg:https://www.paradisenewsfl.com/wp-content/uploads/2021/07/geckofest.jpeg
END:VEVENT
BEGIN:VEVENT
DTSTART;TZID=UTC:20210917T193000
DTEND;TZID=UTC:20210917T213000
DTSTAMP:20260423T032112
CREATED:20210914T215131Z
LAST-MODIFIED:20210914T215214Z
UID:24357-1631907000-1631914200@www.paradisenewsfl.com
SUMMARY:Gypsy Star Band at Sacred Lands
DESCRIPTION:SACRED LANDS OUTDOOR CONCERT WITH THE GYPSY STAR BAND –\nSACRED LANDS will hold its first CONCERT since before Covid-19 on Friday\, September 17th in the outside garden area with the GYPSY STAR BAND performing on the dolphin stage.\nWe will require that all COVID safety procedures be followed: maintaining safe distancing and masks to be worn except while eating at your table.\nThe concert will start at 7:30 p.m. and seating will be limited to 50 people with a $15.00 admission. Reservations and prepayment required. You can prepay in several ways: 1) Visit the Sacred Lands website at www.sacredlandspreservationandeducation.org and use the Donate button to make your payment or send a check to Sacred Lands\, 1620 Park St. N.\,St. Petersburg\, FL 33710\,\nAny other questions please contact the coordinator at 727-367-3592.\nPlease check out the music videos for the Gypsy Star Band on youtube or their website. The band includes beautiful belly dancers:\nGYPSY STAR BAND\nA DYNAMIC MULTI-GENRE BAND WITH A WORLD BEAT.\nUp-and-coming band Gypsy Star are driven to uplift and enchant listeners with their multi-genre brilliance. Inspired by the likes of icons such as Jesse Cook and Sting\, Gypsy Star’s musical compositions are uniquely represented by World music with elements of Spanish\, Latin\, Celtic\, the Caribbean and sounds of the Middle East underscored by Pop\, Rock and Jazz influences performed on acoustic instruments. With a burning passion to bring their rich and mystical style to audiences everywhere\, Gypsy Star is a stirring addition to the acoustic music scene.\nDINNER WILL BE AVAILABLE FOR $10.00 and it includes: Lasagna with Eggplant\, Green Salad\, Fruit and homemade Brownie. Meal is optional. Please call Sacred Lands with your dinner reservation at the same time as concert reservation so we have enough food available. 727-347-0354\nSEATING WILL BE LIMITED\, SO PLEASE MAKE YOUR RESERVATIONS.\nWEBSITE: www.sacredlandspreservationandeducation.org
URL:https://www.paradisenewsfl.com/event/gypsy-star-band-sacred-lands/
LOCATION:Sacred Lands\, 1620 Park Street North\, St. Petersburg\, FL\, 33710\, United States
ATTACH;FMTTYPE=image/jpeg:https://www.paradisenewsfl.com/wp-content/uploads/2019/03/sacred-lands.jpg
END:VEVENT
BEGIN:VEVENT
DTSTART;TZID=UTC:20210917T193000
DTEND;TZID=UTC:20210917T220000
DTSTAMP:20260423T032112
CREATED:20210914T210255Z
LAST-MODIFIED:20210914T210255Z
UID:24335-1631907000-1631916000@www.paradisenewsfl.com
SUMMARY:JAWS Free Movie on the Beach
DESCRIPTION:Jaws Returns! Join us for a Free Movie on the Beach at Archibald Memorial Beach Park. Movie begins at sunset and attendees are welcome to bring their own chairs\, blankets\, and coolers.\n\nNo glass on the beach and no tents in the viewing area as they will block the view of others.\nParking is available at Archibald Memorial Beach Park until full. Additional parking at City Hall\, 300 Municipal Drive\, for Free. Parking also available at other non-city paid lots.\n\nIf you do not want to bring a chair\, Saltwater Destination with have chairs available for reservation until they are sold out.\n\nFacebook event: Click Here\n\nFor more information\, contact the Madeira Beach Recreation Center at 727-392-0665.
URL:https://www.paradisenewsfl.com/event/jaws-free-movie-on-the-beach/
LOCATION:Archibald Park\, 15100 Gulf Blvd\, Madeira Beach\, FL\, 33708\, United States
ATTACH;FMTTYPE=image/jpeg:https://www.paradisenewsfl.com/wp-content/uploads/2021/09/jaws-movie-beach.jpeg
END:VEVENT
BEGIN:VEVENT
DTSTART;VALUE=DATE:20210918
DTEND;VALUE=DATE:20210919
DTSTAMP:20260423T032112
CREATED:20210914T205512Z
LAST-MODIFIED:20210914T205512Z
UID:24333-1631923200-1632009599@www.paradisenewsfl.com
SUMMARY:Arts Alive Free Museum Day in St. Petersburg
DESCRIPTION:Free Museum Day returns to St. Pete for 2021\, offering free tickets for one day only. As part of the annual celebration of art\, these St. Petersburg museums will be offering free tickets on Saturday\, September 18th. This is known nationwide as Arts Alive\, or Free Museum Day. St. Petersburg Arts Alive! Participants include The James Museum of Western and Wildlife Art\, Imagine Museum\, The Florida Holocaust Museum\, Museum of Fine and The Dali. Check with your favorite local museum to see if they are participating. 
URL:https://www.paradisenewsfl.com/event/arts-alive-free-museum-day-in-st-petersburg/
LOCATION:Various Locations
ATTACH;FMTTYPE=image/jpeg:https://www.paradisenewsfl.com/wp-content/uploads/2021/04/mfa-day.jpg
END:VEVENT
BEGIN:VEVENT
DTSTART;TZID=UTC:20210920T080000
DTEND;TZID=UTC:20210920T170000
DTSTAMP:20260423T032112
CREATED:20210920T193940Z
LAST-MODIFIED:20210920T193940Z
UID:24433-1632124800-1632157200@www.paradisenewsfl.com
SUMMARY:The Amazing Acro-cats Featuring Tuna and the Rock Cats
DESCRIPTION:The Amazing Acro-cats Featuring Tuna and the Rock Cats are a troupe of rescued house cats. This one-of-a-kind\, two hour long purrformance features talented felines roll on balls\, ride skateboards\, jump through hoops\, and more! \nThe finale is the only all-cat band in the entire world – Tuna and the Rock Cats! The current band lineup features St. Clawed on guitar\, Bowie on drums\, Nue on keyboard\, and NOW some brand new members: Ahi on woodblocks and Albacore on cowbell\, Roux on trumpet\, and Oz on Saxophone. There is even a chicken – Cluck Norris – rockin’ the tambourine! \n“I can die happy now!” an audience member has claimed after seeing the band. \nIt all started with Chief Executive Human (or CEH for short) and cat lover Samantha Martin. Training animals at a young age\, she knew instantly she would be working with animals for the rest of her life. By founding Rock Cats Rescue\, the real reason behind having a traveling animal show\, she has saved the lives of over 260 cats and kittens. Using the magic of clicker training\, Samantha (and a few other humans) travel with over 20 cats and kittens all across the United States\, educating and entertaining audiences that cats actually can be trained while she tenaciously continues to save the lives of cats and kittens through rescue\, foster\, and adoption. \nFeatured on Netflix docu-series Cat People\, Tuna and the Rock Cats have also appeared alongside Stephen Colbert on his late night show\, as well as PBS and Animal Planet! \nThe Amazing Acro-cats are performing for 4 shows in Gulfport\, Florida at the Catherine Hickman Theater on 10/23 through 10/24 Their address is 5501 27th Ave S\, Gulfport\, FL 33707\n. Tickets cost $35-45 and can be purchased by visiting www.rockcatsrescue.org or by clicking on https://www.brownpapertickets.com/event/5233235 \nWatch a preview at https://www.youtube.com/watch?v=qTr6yljr1DU.
URL:https://www.paradisenewsfl.com/event/the-amazing-acro-cats-featuring-tuna-and-the-rock-cats/
LOCATION:FL
ATTACH;FMTTYPE=image/jpeg:https://www.paradisenewsfl.com/wp-content/uploads/2021/09/acro-cat.jpg
END:VEVENT
BEGIN:VEVENT
DTSTART;TZID=UTC:20210922T080000
DTEND;TZID=UTC:20210922T170000
DTSTAMP:20260423T032112
CREATED:20210922T234005Z
LAST-MODIFIED:20210922T234005Z
UID:24460-1632297600-1632330000@www.paradisenewsfl.com
SUMMARY:Clothes to Kids 2021 Kick Back One
DESCRIPTION:All children need shoes that fit. Many children we serve come in with shoes that are too small or too\nlarge\, have holes and no support. At Clothes To Kids shoes are part of our school wardrobe that every\nchild gets when they shop at Clothes To Kids. Each year\, we distribute more than 13\,000 pairs of\nshoes. \nWhat is Kick Back One? A fun evening of networking\, live music\, food and open bar on October 21 st\nfrom 6:30 to 8:30 pm at Hyde House. Kick One back will greatly help raise awareness and funds\nneeded in order to give each kid a pair of shoes that fit!! Here is the link to purchase a ticket to the\nevent.  https://clothes-to-kids-inc.networkforgood.com/events/33253-kick-one-back-2021 \nQualifyhyde for free and reduced lunch\, live in Pinellas or Hillsborough counties\, make appointment to come\nshop with us in person. To shop at CTK in person at our Clearwater and St. Pete stores\, please call\n727-441-5050. To shop at our Tampa Store\, schedule an appointment at:\nhttps://app.squarespacescheduling.com/schedule.php?owner=22132487
URL:https://www.paradisenewsfl.com/event/clothes-to-kids-2021-kick-back-one/
LOCATION:Hyde House\, 1646 West Snow Ave\, Tampa\, FL\, 33606\, United States
ATTACH;FMTTYPE=image/jpeg:https://www.paradisenewsfl.com/wp-content/uploads/2016/08/clothes-to-kids.jpg
END:VEVENT
BEGIN:VEVENT
DTSTART;TZID=UTC:20210922T100000
DTEND;TZID=UTC:20210922T120000
DTSTAMP:20260423T032112
CREATED:20210914T213057Z
LAST-MODIFIED:20210914T213057Z
UID:24346-1632304800-1632312000@www.paradisenewsfl.com
SUMMARY:Meet the Women of MOTE- Virtual Event
DESCRIPTION:Take a behind-the-scenes look at the powerful women of Mote Marine Laboratory\, their groundbreaking discoveries and their back-breaking work. You’ll get to know who they are\, how they got here and what amazing accomplishments they’ve made as passionate marine scientists. \nThrough technology\, we’ll bring these amazing changemakers right into your living room. Join us virtually as we celebrate these powerful women and learn about their journeys\, challenges\, and most importantly\, their incredible accomplishments impacting our oceans in our own backyard and across the globe. \nJoin us for three virtual events: \n\nMote’s Coral Crusaders: September 22\, 2021 at 10 a.m.\nMote’s Women Trailblazers: October 5\, 2021 at 10 a.m.\nMote’s Fearless Women: October 22\, 2021 at 10 a.m.
URL:https://www.paradisenewsfl.com/event/meet-the-women-of-mote-virtual-event/
LOCATION:VIRTUAL EVENT
ATTACH;FMTTYPE=image/jpeg:https://www.paradisenewsfl.com/wp-content/uploads/2016/08/mote-marine-logo.jpeg
END:VEVENT
BEGIN:VEVENT
DTSTART;TZID=UTC:20210925T160000
DTEND;TZID=UTC:20210925T210000
DTSTAMP:20260423T032112
CREATED:20210914T211102Z
LAST-MODIFIED:20210914T211102Z
UID:24338-1632585600-1632603600@www.paradisenewsfl.com
SUMMARY:3rd Annual Mad Beach Open at Smugglers Cove Adventure Golf
DESCRIPTION:Join the City of Madeira Beach for the 3rd Annual Mad Beach Open at Smugglers Cove Adventure Golf. With a shotgun start beginning on Saturday September 25th at 4pm\, the tournament will consist of a foursome scoring with the lowest team total taking home the 1st place trophy and bragging rights! Registration 21 & up and is $60/foursome for Madeira Beach residents and $80/foursome for non-residents. Post game party and awards ceremony will take place at a TBD right after the golf has concluded.
URL:https://www.paradisenewsfl.com/event/3rd-annual-mad-beach-open/
LOCATION:Smugglers Cove Adventure Golf\, 15395 Gulf Blvd.\, Madeira Beach\, FL\, 33708\, United States
ATTACH;FMTTYPE=image/jpeg:https://www.paradisenewsfl.com/wp-content/uploads/2021/09/mad-beach-open.jpg
END:VEVENT
BEGIN:VEVENT
DTSTART;TZID=UTC:20210925T180000
DTEND;TZID=UTC:20210925T210000
DTSTAMP:20260423T032112
CREATED:20210817T195238Z
LAST-MODIFIED:20210817T195238Z
UID:24039-1632592800-1632603600@www.paradisenewsfl.com
SUMMARY:SPIRITS of St. Petersburg Presents the World's Largest Ghost Hunt
DESCRIPTION:The SPIRITS of St. Petersburg is participating in it’s fourth installation of the World’s Largest Ghost Hunt\, this year hosted by the Suntan Art Center. We are the only team in West Central Florida to be selected for the event (the other teams are in St. Augustine and South Florida). \nThe Suntan Art Center is housed in the Don Vista building. Built in 1924 by Thomas Rowe\, the famed businessman lived there as he oversaw the building of the Don Cesar. The Don Vista was then converted to administrative offices and a bank for the hotel. After World War II ended\, it was sold along with the hotel to the US Army for back taxes. Then\, the Don Vista held governmental offices and a library for the department of Fish and Wildlife. In 1984\, the Suntan Art Center moved into the building and has inhabited it ever since. \nThis event includes a paranormal investigation course\, breakout sessions to work with special equipment\, and a walk through the historic building. Some still wonder if the energies of the past still linger within its walls. \nThe event has limited seating\, will follow the COVID restrictions set by the art center\, and lasts three hours. It takes place on Sept. 25\, 6 – 9 PM and will be broadcast through the World’s Largest Ghost Hunt livestream from 8 – 9 PM. Tickets are $30\, and 50% of the profits are being donated to the Suntan Art Center\, which is a 501C3. \nFor more information\, contact Brandy Stark at brandybstark13@gmail.com or call 727-821-5759. Website: www.spiritsofstpete.com Ticket link: https://www.thriller.events/tickets/world-s-largest-ghost-hunt-suntan-art-center-220625?r=637634070035907296&fbclid=IwAR0wwv5DFqlWAuhknm9hJaDWWyEgzADoA_WuvBBxOQwsGuo1siltryTEbYM
URL:https://www.paradisenewsfl.com/event/spirits-of-st-petersburg-presents-the-worlds-largest-ghost-hunt/
LOCATION:Suntan Art Center\, 3300 Gulf Blvd\, St. Pete Beach\, FL\, 33706\, United States
ATTACH;FMTTYPE=image/jpeg:https://www.paradisenewsfl.com/wp-content/uploads/2021/08/spirits-suntan.jpg
END:VEVENT
END:VCALENDAR