BEGIN:VCALENDAR
VERSION:2.0
PRODID:-//Paradise News Magazine - ECPv6.15.20//NONSGML v1.0//EN
CALSCALE:GREGORIAN
METHOD:PUBLISH
X-ORIGINAL-URL:https://www.paradisenewsfl.com
X-WR-CALDESC:Events for Paradise News Magazine
REFRESH-INTERVAL;VALUE=DURATION:PT1H
X-Robots-Tag:noindex
X-PUBLISHED-TTL:PT1H
BEGIN:VTIMEZONE
TZID:UTC
BEGIN:STANDARD
TZOFFSETFROM:+0000
TZOFFSETTO:+0000
TZNAME:UTC
DTSTART:20200101T000000
END:STANDARD
END:VTIMEZONE
BEGIN:VEVENT
DTSTART;VALUE=DATE:20210806
DTEND;VALUE=DATE:20210808
DTSTAMP:20260423T043113
CREATED:20210708T200706Z
LAST-MODIFIED:20210708T200706Z
UID:23344-1628208000-1628380799@www.paradisenewsfl.com
SUMMARY:Showstoppers: Today 4 Us at The Straz
DESCRIPTION:Showstoppers: Today 4 Us follows a group of teens in a musical coming-of-age journey that celebrates friendship\, empathy and inclusion. Performed by intermediate to advanced-level performers ages 13 through college\, this musical revue will inspire audience members and spread a message of positivity. \nTickets are $28.75 may be purchased online at www.strazcenter.org or by calling 813.229.STAR (7827) or 800.955.1045 outside Tampa Bay. Handling fees will apply. \nThe Straz Center has received a seal of approval from Tampa General Hospital’s consulting service\, TGH Prevention Response Outreach (TPRO)\, for our campus-wide reopening protocols. This partnership with TPRO will help to keep everyone safe and healthy while on The Straz campus. To learn more visit here.\n\nFor more information about the Straz Center for the Performing Arts and its upcoming events\, visit www.strazcenter.org.
URL:https://www.paradisenewsfl.com/event/showstoppers-today-4-us-at-the-straz/
LOCATION:Straz Center for the Performing Arts\, 1010 N. W.C. MacInnes Place\, Tampa\, FL\, 33602\, United States
CATEGORIES:ALL
ATTACH;FMTTYPE=image/jpeg:https://www.paradisenewsfl.com/wp-content/uploads/2020/10/straz-center.jpg
END:VEVENT
BEGIN:VEVENT
DTSTART;TZID=UTC:20210806T170000
DTEND;TZID=UTC:20210806T190000
DTSTAMP:20260423T043113
CREATED:20210728T215056Z
LAST-MODIFIED:20210728T215056Z
UID:23606-1628269200-1628276400@www.paradisenewsfl.com
SUMMARY:Art Gecko Show 2021
DESCRIPTION:Larger-than-life geckos will be the centerpiece of the show. The geckos will be visualized and created according to each artist’s individual concept. The show will also feature selections from the participating artists’ regular body of work in a variety of media. The reception is free and open to the public and will also include complimentary hors d’oeuvre and a cash bar. The selection of artists’ other work will continue to be displayed through the month of August\, but following the reception\, the geckos themselves will be moved to preview locations in venues throughout Gulfport’s Waterfront village.\n\nThe geckos will then go up for auction at the Annual Gecko Ball on Saturday\, August 24th at the Gulfport Casino Ballroom.
URL:https://www.paradisenewsfl.com/event/art-gecko-show-2021/
LOCATION:Catherine A Hickman Theater\, 5501 27th Avenue South\, Gulfport \, FL\, 33707\, United States
ATTACH;FMTTYPE=image/jpeg:https://www.paradisenewsfl.com/wp-content/uploads/2019/08/geckofest-art-gecko.jpg
END:VEVENT
BEGIN:VEVENT
DTSTART;TZID=UTC:20210806T170000
DTEND;TZID=UTC:20210806T210000
DTSTAMP:20260423T043113
CREATED:20210728T215357Z
LAST-MODIFIED:20210728T215357Z
UID:23608-1628269200-1628283600@www.paradisenewsfl.com
SUMMARY:Gulfport First Friday Art Walk
DESCRIPTION:Gulfport’s First Friday Art Walk occurs each month from 5pm – 9pm. The downtown area comes to life with artists\, musicians and art appreciators. The Gulfport First Friday Art Walk is free to attend with free parking. Hosted by the Gulfport Merchants Chamber\, all safety protocols are met and exceeded to ensure a safe and entertaining night for the entire family.\n\nCome join us with free live music up and down the street. Follow the flags for artist clusters\, displaying paintings\, jewelry\, glass\, mixed media sculpture and more. First Friday Art Walk is a juried event that welcomes emerging and professional artists in all media to engage our arts loving community in a safe\, creative and socially distanced manner. Come join us each First Friday of the month and get inspired! For more information\, please visit http://visitgulfportflorida.com/first-friday-art-walk/
URL:https://www.paradisenewsfl.com/event/gulfport-first-friday-art-walk-6/
LOCATION:Downtown Gulfport\, Shore & Beach Blvd\, Gulfport\, FL\, 33707\, United States
ATTACH;FMTTYPE=image/jpeg:https://www.paradisenewsfl.com/wp-content/uploads/2020/10/first-friday-art-walk-2.jpg
END:VEVENT
BEGIN:VEVENT
DTSTART;TZID=UTC:20210806T190000
DTEND;TZID=UTC:20210806T220000
DTSTAMP:20260423T043113
CREATED:20210728T215601Z
LAST-MODIFIED:20210728T215601Z
UID:23610-1628276400-1628287200@www.paradisenewsfl.com
SUMMARY:Gulfport First Friday Pop-up Dance Party
DESCRIPTION:Head to the historic Gulfport Casino on the waterfront for live music and cold drinks. Every First Friday\, $10 gets you into the First Friday Pop-Up Dance Party. Local musicians will get you moving\, and the bar will open. After you’re done soaking in the art in downtown Gulfport\, head to the Casino to soak in some live music. Dance the night away… at least\, until 10 p.m.\n\nFor more information\, please visit https://www.gulfporthistoricalsociety.org/
URL:https://www.paradisenewsfl.com/event/gulfport-first-friday-pop-up-dance-party/
LOCATION:Gulfport Historical Society\, 5301 28th Ave. S.\, Gulfport\, FL\, 33707\, United States
ATTACH;FMTTYPE=image/jpeg:https://www.paradisenewsfl.com/wp-content/uploads/2016/08/gulfport-historic-society_copy.jpg
END:VEVENT
BEGIN:VEVENT
DTSTART;TZID=UTC:20210807T080000
DTEND;TZID=UTC:20210807T140000
DTSTAMP:20260423T043113
CREATED:20210709T194833Z
LAST-MODIFIED:20210709T194833Z
UID:23371-1628323200-1628344800@www.paradisenewsfl.com
SUMMARY:Angler Armory 2021 Fish Kids
DESCRIPTION:Gates open at 8am. Fishing starts at 10am\nThis is a FREE event open to the general public! \nKIDS SEAWALL TOURNAMENT * DEMONSTRATIONS\nHANDS ON DISPLAYS * FREE RAFFLE\nplus * SPLASH PAD * PLAYGROUND\n* FOOD & DRINKS\n**Seawall tournament open to kids 16 & Younger
URL:https://www.paradisenewsfl.com/event/angler-armory-2021-fish-kids/
LOCATION:ROC Park\, 300 Municipal Drive\, Madeira Beach\, FL\, 33708\, United States
CATEGORIES:ALL
ATTACH;FMTTYPE=image/jpeg:https://www.paradisenewsfl.com/wp-content/uploads/2021/07/fish-kids.jpeg
END:VEVENT
BEGIN:VEVENT
DTSTART;TZID=UTC:20210808T140000
DTEND;TZID=UTC:20210808T140000
DTSTAMP:20260423T043113
CREATED:20210728T215852Z
LAST-MODIFIED:20210728T215852Z
UID:23612-1628431200-1628431200@www.paradisenewsfl.com
SUMMARY:City of Gulfport's Celebration of Life
DESCRIPTION:Thousands of Floridians infected with the coronavirus have passed away. Many people missed the opportunity to go to weddings\, funerals\, and birthday parties during the coronavirus pandemic. Restrictions from the pandemic made gatherings nearly impossible\, and what is worse\, we could not gather and hug and remember and comfort each other. We need your help to tell their stories.\n\nIf you’ve lost a loved one or friend to COVID-19\, please join us in honoring their legacy at the Historic Gulfport Casino Ballroom on Sunday\, August 8th at 2 p.m.\n\nFill out the form at https://mygulfport.us/celebration-of-life/\, to participate and share with the community.
URL:https://www.paradisenewsfl.com/event/city-of-gulfports-celebration-of-life/
LOCATION:Gulfport Casino\, 5500 Bayshore Blvd S\, Gulfport\, FL\, 33707\, United States
END:VEVENT
BEGIN:VEVENT
DTSTART;TZID=UTC:20210813T190000
DTEND;TZID=UTC:20210813T200000
DTSTAMP:20260423T043113
CREATED:20210709T192808Z
LAST-MODIFIED:20210709T192808Z
UID:23361-1628881200-1628884800@www.paradisenewsfl.com
SUMMARY:Madeira Beach Sunset 5K
DESCRIPTION:Join us for the Madeira Beach Sunset 5K presented by: Hooters John’s Pass\, R.O.C. Park\, and the Kids Mile presented by: Holiday Isle Elks Lodge #1912. Both events will start/finish from John’s Pass Park in Madeira Beach. This is a timed event but all runners\, joggers\, and walkers are welcome!\nKids Mile: 7pm – Register Here\nSunset 5K: 7:15pm – Register Here\n*Start times are subject to change*\nPost run party at Hooter’s in John’s Pass Village.\nPre-registered participants will receive a race themed beach towel.\nFor sponsorship information or questions\, please contact the Madeira Beach Recreation Department at 727-392-0665.
URL:https://www.paradisenewsfl.com/event/madeira-beach-sunset-5k/
LOCATION:Johns Pass Park\, 12901 Gulf Blvd\, Madeira Beach\, FL\, 33708\, United States
CATEGORIES:5K,ALL
ATTACH;FMTTYPE=image/jpeg:https://www.paradisenewsfl.com/wp-content/uploads/2021/07/mad-beach-sunset-5k.jpeg
END:VEVENT
BEGIN:VEVENT
DTSTART;TZID=UTC:20210814T160000
DTEND;TZID=UTC:20210814T210000
DTSTAMP:20260423T043113
CREATED:20210728T204356Z
LAST-MODIFIED:20210728T204356Z
UID:23591-1628956800-1628974800@www.paradisenewsfl.com
SUMMARY:16th Annual Gecko Crawl
DESCRIPTION:The 16th annual Gecko Crawl will help again usher in “Gecko Season” in Gulfport with an opportunity to sample drinks at various locations\, a poker run\, and a festive after party in Gulfport’s colorful Waterfront District at Salty’s Gulfport. The Crawl will be held Saturday\, August 14th from 4 p.m. to 9 p.m.\, with the After-Party beginning at 9 p.m. \nGecko Crawl participating locations are – Caddy’s\, Gulfport Brewery\, Neptune Grill\, Salty’s\, Sea Dog Cantina\, Stella’s\, and The North End Taphouse. Salty’s Gulfport will be this year’s host of the after-party and there will be live music. Gecko Crawlers will be able to enjoy a free beverage at participating locations\, all are located within walking distance. \nADVANCE TICKETS WILL GO ON SALE JULY 4TH FOR $20.00 at Gulfport Beach Bazaar\, 3115 Beach Blvd. S. Gulfport\, Florida 33707 or online at VisitGulfportFlorida.com. Tickets are limited to 250 participants and advanced purchase is encouraged\, as this event does sell out.
URL:https://www.paradisenewsfl.com/event/16th-annual-gecko-crawl/
LOCATION:Downtown Gulfport\, Shore & Beach Blvd\, Gulfport\, FL\, 33707\, United States
ATTACH;FMTTYPE=image/jpeg:https://www.paradisenewsfl.com/wp-content/uploads/2021/07/geckocrawl-2021-1.jpeg
END:VEVENT
BEGIN:VEVENT
DTSTART;TZID=UTC:20210820T200000
DTEND;TZID=UTC:20210820T220000
DTSTAMP:20260423T043113
CREATED:20210728T220058Z
LAST-MODIFIED:20210728T220058Z
UID:23615-1629489600-1629496800@www.paradisenewsfl.com
SUMMARY:Florida Summer Cinema Series
DESCRIPTION:Join Gulfport Historical Society for the August edition of our Florida Summer Cinema Series!\n\nThis month’s movie tells the story of Jack Chester\, a stressed-out air traffic controller who goes on vacation with his family. Things don’t exactly go as planned\, and a final showdown between Jack and the owner of his dubious rental property takes place\, of course\, as a boat race! Much of the film was shot in St. Pete and several local landmarks make an appearance\, including the old St. Petersburg Pier and the old Sunshine Skyway. This film is rated PG.\n\nPack a picnic\, bring chairs\, and join us for the screening on the back lawn of the Gulfport History Museum. Doors open at 7:30\, film begins at sunset. This event is free and open to the public.\n\nWe offer a huge thanks to Ken Simmons\, a wonderful supporter of Gulfport Historical Society\, who is sponsoring our August film.\n\nFor more information\, please visit https://www.gulfporthistoricalsociety.org/\n\nhttps://www.facebook.com/GulfportHistoricalSociety
URL:https://www.paradisenewsfl.com/event/florida-summer-cinema-series-2/
LOCATION:Gulfport Historical Society\, 5301 28th Ave. S.\, Gulfport\, FL\, 33707\, United States
ATTACH;FMTTYPE=image/jpeg:https://www.paradisenewsfl.com/wp-content/uploads/2016/08/gulfport-historic-society_copy.jpg
END:VEVENT
BEGIN:VEVENT
DTSTART;TZID=UTC:20210821T080000
DTEND;TZID=UTC:20210821T170000
DTSTAMP:20260423T043113
CREATED:20210719T184617Z
LAST-MODIFIED:20210719T184617Z
UID:23499-1629532800-1629565200@www.paradisenewsfl.com
SUMMARY:spirits of the age: an evening of art and tastings
DESCRIPTION:Join The Dali for Spirits of the Age: An Evening of Art and Tastings. In partnership with local distilleries — Dark Door Spirits\, Florida Cane\, Kozuba & Sons Distillery\, St. Petersburg Distillery and the Tampa Bay Rum Company — The Dali invites you to a special evening of art and spirit tasting inspired by a rich period of U.S. history. \nCollectively known as the Modern Age\, The Roaring 20s\, Prohibition and the wartime years of the 1940s encompassed a complex and fascinating period of our history\, including the history of liquor. Partake and immerse yourself in Lee Miller’s photographic record of the times while also learning about the spirits of the Modern Age\, including stories and tastings provided by our distillery partners. \nAs a part of the event\, you will enjoy exclusive after-hours access to The Woman Who Broke Boundaries: Photographer Lee Miller exhibition\, live music\, a photo opportunity and other surreal surprises. In addition to tastings of the top-notch products from Dark Door Spirits\, Florida Cane\, Kozuba\, the St. Petersburg Distillery and the Tampa Bay Rum Company\, you will receive one complimentary signature cocktail. Light fare\, beer\, wine and other beverages from Café Gala will be available for purchase. \nThis event is for our guests 21 years of age and over. \nTickets: $60\nMuseum Members: $50
URL:https://www.paradisenewsfl.com/event/spirits-of-the-age-an-evening-of-art-and-tastings/
LOCATION:The Dali\, 1 Dali Blvd\, St. Petersburg\, FL\, 33701\, United States
CATEGORIES:ALL,Art
ATTACH;FMTTYPE=image/jpeg:https://www.paradisenewsfl.com/wp-content/uploads/2016/10/the-dali-museum.jpg
END:VEVENT
BEGIN:VEVENT
DTSTART;TZID=UTC:20210821T170000
DTEND;TZID=UTC:20210821T210000
DTSTAMP:20260423T043113
CREATED:20210728T220335Z
LAST-MODIFIED:20210728T220335Z
UID:23617-1629565200-1629579600@www.paradisenewsfl.com
SUMMARY:Gulfport Third Saturday IndieFaire
DESCRIPTION:Welcome to Third Saturday IndieFaire! IndieFaire features high quality local art and contemporary crafts from across a wide range of mediums\, as well as jewelry and locally sourced botanicals in an outdoor and socially distanced manner along scenic Beach Boulevard in downtown Gulfport.\n\nFor more information\, visit http://visitgulfportflorida.com/indiefaire/
URL:https://www.paradisenewsfl.com/event/gulfport-third-saturday-indiefaire-5/
LOCATION:Downtown Gulfport\, Shore & Beach Blvd\, Gulfport\, FL\, 33707\, United States
ATTACH;FMTTYPE=image/jpeg:https://www.paradisenewsfl.com/wp-content/uploads/2020/10/gulfport-indie-faerie.jpg
END:VEVENT
BEGIN:VEVENT
DTSTART;TZID=UTC:20210821T200000
DTEND;TZID=UTC:20210821T220000
DTSTAMP:20260423T043113
CREATED:20210812T232848Z
LAST-MODIFIED:20210812T232848Z
UID:23993-1629576000-1629583200@www.paradisenewsfl.com
SUMMARY:Hooked on a Bad Spirit "The Encore Show"
DESCRIPTION:The jaw-dropping stage play that’s going to have you on the end of your seats. Locked up for over a decade\, “Hook” is free and more sneakier than ever. On A mission that only a bad spirit can carry\, he has to battle those that’s most closest to him to succeed\, FAMILY! When Family is involved all hell is bound to break loose. Deep secrets\, lust\, greed and laughs galore is waiting as “Hooked on a Bad Spirit”\, the new stage play is brought to YOU! Buckle your seatbelt cause this is a ride you don’t wanna miss!\n\nFor tickets call Tron Montgomery at (754)367-1492. Cash App and Zelle is accepted. Cash App name $ThatGotdamnTron. Tickets can be delivered personally or picked up at Will-Call the night of the show. PLEASE BRING YOUR ID
URL:https://www.paradisenewsfl.com/event/hooked-on-a-bad-spirit-the-encore-show/
LOCATION:Catherine A Hickman Theater\, 5501 27th Avenue South\, Gulfport \, FL\, 33707\, United States
ATTACH;FMTTYPE=image/jpeg:https://www.paradisenewsfl.com/wp-content/uploads/2021/08/hooked-on-bad-spirit-encore.jpg
END:VEVENT
BEGIN:VEVENT
DTSTART;TZID=UTC:20210826T170000
DTEND;TZID=UTC:20210826T200000
DTSTAMP:20260423T043113
CREATED:20210812T233729Z
LAST-MODIFIED:20210812T233729Z
UID:24000-1629997200-1630008000@www.paradisenewsfl.com
SUMMARY:Bow Wow Beach Day at the Postcard Inn
DESCRIPTION:In celebration of National Dog Day\, the Postcard Inn on St. Pete Beach is hosting HSP at their Bow Wow Beach Day event!\n\nSo grab your pup and head to the beach to celebrate with Postcard Inn and the Humane Society of Pinellas.\n\n\nPups available for adoption with Humane Society of Pinellas\nDoggy menu and doggy beer.\nToys and a fenced in area for the dogs to play\nFood and drink specials for the humans\nDog bandana tie dye station\nRaffles and more!\n\n\nA portion of the proceeds will be donated to the Humane Society of Pinellas. This is a completely free event to attend with food & drink available for purchase. Parking is subject to daily rate.\n\nFor more information on this event click here.
URL:https://www.paradisenewsfl.com/event/bow-wow-beach-day-at-the-postcard-inn/
LOCATION:Postcard Inn\, 6300 Gulf Blvd\, St. Pete Beach\, FL\, 33706\, United States
ATTACH;FMTTYPE=image/jpeg:https://www.paradisenewsfl.com/wp-content/uploads/2021/08/bow-wow-beach-day.jpeg
END:VEVENT
END:VCALENDAR