BEGIN:VCALENDAR
VERSION:2.0
PRODID:-//Paradise News Magazine - ECPv6.15.20//NONSGML v1.0//EN
CALSCALE:GREGORIAN
METHOD:PUBLISH
X-WR-CALNAME:Paradise News Magazine
X-ORIGINAL-URL:https://www.paradisenewsfl.com
X-WR-CALDESC:Events for Paradise News Magazine
REFRESH-INTERVAL;VALUE=DURATION:PT1H
X-Robots-Tag:noindex
X-PUBLISHED-TTL:PT1H
BEGIN:VTIMEZONE
TZID:UTC
BEGIN:STANDARD
TZOFFSETFROM:+0000
TZOFFSETTO:+0000
TZNAME:UTC
DTSTART:20200101T000000
END:STANDARD
END:VTIMEZONE
BEGIN:VEVENT
DTSTART;TZID=UTC:20210704T190000
DTEND;TZID=UTC:20210704T210000
DTSTAMP:20260423T042953
CREATED:20210614T212253Z
LAST-MODIFIED:20210614T212253Z
UID:22989-1625425200-1625432400@www.paradisenewsfl.com
SUMMARY:City of Largo 4th of July Fireworks Celebration
DESCRIPTION:Indian Rocks Baptist Church presents this year’s Fireworks Show. Bring your chairs\, blankets\, and family and enjoy a spectacular fireworks show. Limited on-site parking\, $10. NO pets\, alcohol\, tents\, fireworks or sparklers permitted in the park. Food and beverage vendors will be on-site. Please note that the playground will close at 8:00 pm to prepare for the fireworks show. \nSpecial thanks to Indian Rocks Baptist Church and Fastbreaks Entertainment for sponsoring this year’s event! \nIf you would like to have your logo appear on our screens at the stage\, during the event\, please fill out the Sponsor Form. \nPlease call 727-587-6740 x5014 for more information.
URL:https://www.paradisenewsfl.com/event/city-of-largo-4th-of-july-fireworks-celebration/
LOCATION:Largo Central Park\, 101 Central Park Dr\, Largo\, FL\, 33771\, United States
CATEGORIES:4th of July,ALL
ATTACH;FMTTYPE=image/jpeg:https://www.paradisenewsfl.com/wp-content/uploads/2018/06/fireworks.jpg
END:VEVENT
BEGIN:VEVENT
DTSTART;TZID=UTC:20210704T203000
DTEND;TZID=UTC:20210704T213000
DTSTAMP:20260423T042953
CREATED:20210614T213020Z
LAST-MODIFIED:20210614T213020Z
UID:22991-1625430600-1625434200@www.paradisenewsfl.com
SUMMARY:City of Treasure Island 4th of July Fireworks
DESCRIPTION:Watch as Treasure Island lights up with a stunning fireworks show on the beach at 9 p.m.! Off-site parking will be offered at Treasure Island Park for $20 a vehicle.
URL:https://www.paradisenewsfl.com/event/city-of-treasure-island-4th-of-july-fireworks/
LOCATION:Treasure Island\, Treasure Island\, FL\, United States
CATEGORIES:4th of July,ALL,Treasure Island
ATTACH;FMTTYPE=image/jpeg:https://www.paradisenewsfl.com/wp-content/uploads/2018/06/fireworks.jpg
END:VEVENT
BEGIN:VEVENT
DTSTART;TZID=UTC:20210704T210000
DTEND;TZID=UTC:20210704T210000
DTSTAMP:20260423T042953
CREATED:20210701T184528Z
LAST-MODIFIED:20210701T184528Z
UID:23238-1625432400-1625432400@www.paradisenewsfl.com
SUMMARY:City of Madeira Beach Fireworks
DESCRIPTION:Join the City of Madeira Beach as we Celebrate Independence Day for a spectacular fireworks show. The 4th of July Fireworks are Presented by the City of Madeira Beach and The Alligator & Wildlife Discovery Center located in John’s Pass Village. Fireworks will be launched at approximately 9:00pm from the Madeira Beach Fundamental School athletics field. For safety reasons\, viewing of fireworks will not be permitted on school property or on the the beach located near the base of the bridge. Viewing may take place at ROC Park but attendees are encouraged to car pool and plan accordingly regarding limited parking. More information will follow as to where people may view and park.\n\n\n\nParking Information\nLimited parking is available at R.O.C. Park (2oo Rex Place) and City Hall (300 Municipal Drive). Parking is also available at Archibald Memorial Beach Park for $2.50 an hour. Additional parking is available around the Madeira Way area in numerous paid parking lots (non-city operated). Viewing is also available on the water via boat outside of the fall out zone. Pinellas County Sheriff’s Office will be onsite maintaining the fall out zone.\n\n*Please be aware that traffic patterns may be affected after the fireworks in an effort to get everyone in and out of Madeira Beach safely.*
URL:https://www.paradisenewsfl.com/event/city-of-madeira-beach-fireworks/
LOCATION:ROC Park\, 300 Municipal Drive\, Madeira Beach\, FL\, 33708\, United States
CATEGORIES:4th of July,ALL,Madeira Beach
ATTACH;FMTTYPE=image/jpeg:https://www.paradisenewsfl.com/wp-content/uploads/2021/07/mad-beach-4th.jpeg
END:VEVENT
BEGIN:VEVENT
DTSTART;TZID=UTC:20210704T210000
DTEND;TZID=UTC:20210704T213000
DTSTAMP:20260423T042953
CREATED:20210701T182737Z
LAST-MODIFIED:20210701T182737Z
UID:23233-1625432400-1625434200@www.paradisenewsfl.com
SUMMARY:City of St. Pete Beach Fireworks
DESCRIPTION:Enjoy the 4th of July Fireworks show launched from Upham Beach this year! Bring your lawn chair\, blanket\, snacks and enjoy the spectacular fireworks display brought to you by the City of St. Pete Beach Parks & Recreation Department! \n\nDate: 4th of July\nLocation: Fireworks are launched from the north end of Upham Beach (north end of Upham Beach will be closed)\nTime: Show starts at 9:00pm\n4th of July FAQ’s (PDF)\n4th of July Traffic Pattern (PDF)
URL:https://www.paradisenewsfl.com/event/city-of-st-pete-beach-fireworks/
LOCATION:Upham Beach\, St. Pete Beach\, FL\, 33706\, United States
CATEGORIES:4th of July,ALL
ATTACH;FMTTYPE=image/jpeg:https://www.paradisenewsfl.com/wp-content/uploads/2021/07/spb-4th.jpeg
END:VEVENT
BEGIN:VEVENT
DTSTART;VALUE=DATE:20210705
DTEND;VALUE=DATE:20210717
DTSTAMP:20260423T042953
CREATED:20210708T210318Z
LAST-MODIFIED:20210708T210318Z
UID:23352-1625443200-1626479999@www.paradisenewsfl.com
SUMMARY:Creative Clay's Folk Art Frenzy Online Art Auction
DESCRIPTION:Folk Art Frenzy benefits Creative Clay’s programs that create equality through art by making the arts accessible to all.\nWhat: Folk Art Frenzy: A Kaleidoscope of Art is an online\, virtual auction offering 15 paintings by Creative Clay Member Artists. Participants are invited to bid on favorite original works by Creative Clay artists. All proceeds benefit Creative Clay’s programs that create equality through art by making the arts accessible to all.\nWhy: To support Creative Clay’s member artists and to raise funds for Creative Clay’s programs that create equality through art by making the arts accessible to all.\nWhen: Bid as often as you’d like from July 5-16\, 2021\nWhere: https://creativeclay.cbo.io – online and from the comfort of your home\, office or even the beach!
URL:https://www.paradisenewsfl.com/event/creative-clays-folk-art-frenzy-online-art-auction/
LOCATION:VIRTUAL EVENT
CATEGORIES:ALL,Art
ATTACH;FMTTYPE=image/jpeg:https://www.paradisenewsfl.com/wp-content/uploads/2021/07/folk-art-frenzy.jpg
END:VEVENT
BEGIN:VEVENT
DTSTART;TZID=UTC:20210716T200000
DTEND;TZID=UTC:20210716T220000
DTSTAMP:20260423T042953
CREATED:20210708T193322Z
LAST-MODIFIED:20210708T193322Z
UID:23333-1626465600-1626472800@www.paradisenewsfl.com
SUMMARY:Florida Summer Cinema Series
DESCRIPTION:Join Gulfport Historical Society for the July edition of our Florida Summer Cinema Series!\n\nThis month’s film is set in a South Beach\, where a gay cabaret owner and his drag queen companion agree to put up a false straight front so that their son can introduce them to his fiancée’s right-wing moralistic parents. With leading roles played by Robin Williams and Nathan Lane\, one critic opined that this film was “so boisterously entertaining that it’s easy for the unsuspecting viewer not to realize there’s a message here.” This film is rated R (for profanity).\n\nPack a picnic\, bring chairs\, and join us for the screening on the back lawn of the Gulfport History Museum. Doors open at 7:30\, film starts at sunset. This event is free and open to the public.\n\nBig thanks to A Friend Who Bakes\, who is sponsoring our July film.\n\nFor more information\, please visit https://www.gulfporthistoricalsociety.org/\n\nhttps://www.facebook.com/GulfportHistoricalSociety
URL:https://www.paradisenewsfl.com/event/florida-summer-cinema-series/
LOCATION:Gulfport Historical Society\, 5301 28th Ave. S.\, Gulfport\, FL\, 33707\, United States
CATEGORIES:ALL
ATTACH;FMTTYPE=image/jpeg:https://www.paradisenewsfl.com/wp-content/uploads/2016/08/gulfport-historic-society_copy.jpg
END:VEVENT
BEGIN:VEVENT
DTSTART;TZID=UTC:20210723T190000
DTEND;TZID=UTC:20210723T210000
DTSTAMP:20260423T042953
CREATED:20210705T190922Z
LAST-MODIFIED:20210705T190922Z
UID:23293-1627066800-1627074000@www.paradisenewsfl.com
SUMMARY:St. Petersburg Ballet Conservatory End of Summer Performances
DESCRIPTION:Join the St. Petersburg Ballet Conservatory for a free performance\, Friday\, July 23 at 7:00pm! Tickets available at www.SPBC.dance. Tickets are required! Reserve yours below. \n\n\n“La Sylphide”\, Act II\, will be headlining the show along with original contemporary choreography by Andrew Guilfoil\, Brianna Melton & Cameron Kay and a sneak peek at our upcoming original production\, “Venus” by Andrew. Donations are gratefully accepted. \nFriday\, July 23\n7:00 PM\nSPBC Blue Theater at the Jonathan & Sarah Bailie Studio\n1500 58th Street South\, Gulfport\, FL 33707\n(sw corner of intersection\, next to Most Holy Name Church) \nTickets are required to attend! Click below to reserve your tickets now!
URL:https://www.paradisenewsfl.com/event/st-petersburg-ballet-conservatory-end-of-summer-performances/
LOCATION:St. Petersburg Ballet Conservatory\, 1500 58th Street South\, Gulfport\, FL\, 33707\, United States
CATEGORIES:ALL
ATTACH;FMTTYPE=image/jpeg:https://www.paradisenewsfl.com/wp-content/uploads/2018/04/ballet-1.jpg
END:VEVENT
BEGIN:VEVENT
DTSTART;VALUE=DATE:20210724
DTEND;VALUE=DATE:20210726
DTSTAMP:20260423T042953
CREATED:20210630T225041Z
LAST-MODIFIED:20210630T225041Z
UID:23216-1627084800-1627257599@www.paradisenewsfl.com
SUMMARY:PAVA’s 32nd Annual Cool Art Show
DESCRIPTION:PAVA’s 32nd Annual Cool Art Show is back and better than ever as it returns to the historic St. Petersburg Coliseum in St. Petersburg\, Florida on Saturday\, July 24\, 10am – 5pm\, and Sunday\, July 25\, 10am – 4pm\, showcasing the best of fine art and fine craft of some of the area’s premier artists. \nThis year’s show will include approximately 60 Florida artisans that have been selected to exhibit in this impressive collection of both visual and functional art in the mediums of paint\, wood\, ceramics\, photography\, metal\, glass\, fiber\, digital\, mixed media and jewelry. It features professional fine artists and fine craftsmen who are extremely skilled in their chosen art. Many have received multiple awards at high-end art shows and are represented in both galleries and museums worldwide. This show provides a great opportunity to discover and shop new art\, talk directly to the artists who created it\, and learn about the skills and technique used in their creation process. \nIn addition to the show\, PAVA will also hold special Preview and Encore events at The Cool Art Shop\, their home base and store\, located at 1240 County Road 1 in Dunedin\, Florida. During these two events\, patrons can see and shop the artwork of participating Cool Art Show artists before and after the show. \nThe Cool Art Show Preview will take place July 7th – 17th\, with an open house reception July 9th from 4-8pm. The Cool Art Show Encore will take place July 28th – August 14th. Both the Preview and Encore exhibits are open to the public during the shop’s summer business hours\, Wednesday-Saturday\, 11am – 4pm. \nThe Coliseum is located at 535 4th Avenue North. Show hours are 10am -5pm Saturday and 10am – 4pm Sunday\, and the Coliseum’s food and beverage concessions will be open to the public\, including beer and wine. Show Admission and parking are free. \nThis juried fine art and fine craft show is sponsored by PAVA\, the Professional Association of Visual Artists. PAVA\, the Professional Association of Visual Artists\, is a non-profit organization run by volunteer artists to serve local artisans and support the arts community in the Tampa Bay Area. It provides exhibition\, education and grant opportunities for its members\, as well as offers its members’ artwork for sale at its shop\, “The Cool Art Shop\,” located at 1240 County Road 1\, Dunedin. Additionally\, PAVA supports local art centers\, and is a local sponsor of the Pinellas County Regional National Scholastic Art Awards where scholarships are provided to students for art instruction.
URL:https://www.paradisenewsfl.com/event/pavas-32nd-annual-cool-art-show/
LOCATION:St. Petersburg Coliseum\, 535 4th Ave N\, St. Petersburg\, FL\, 33701\, United States
CATEGORIES:ALL,Art
ATTACH;FMTTYPE=image/jpeg:https://www.paradisenewsfl.com/wp-content/uploads/2021/06/32nd-cool-art-show.jpg
END:VEVENT
BEGIN:VEVENT
DTSTART;TZID=UTC:20210730T200000
DTEND;TZID=UTC:20210730T220000
DTSTAMP:20260423T042953
CREATED:20210715T183818Z
LAST-MODIFIED:20210715T183818Z
UID:23436-1627675200-1627682400@www.paradisenewsfl.com
SUMMARY:Hooked on a Bad Spirit
DESCRIPTION:The Jaw-Dropping Stage Play that’s going to have you on the Edge of Your Seats. Locked up for over a decade…”Hook” is a free man and more sneakier than ever. On A mission that only a Bad Spirit can carry\, he has to battle those that’s most closest to him to succeed…..FAMILY! And when Family is involved all hell is bound to break loose. Deep Secrets\, Lust\, Greed and laughs galore is waiting as “Hooked on a Bad Spirit”\, the new Stage play is brought to YOU! Buckle your seatbelt cause this is a ride you don’t wanna miss!\n\nThe Saturday Show has already sold out. So a FRIDAY “OPENING NIGHT” Show has been added!!!\n\nTickets are $20\, please call Tron Montgomery @ (754)367-1492\nCash App and Zelle are accepted\nCash App name: $ThatGotdamnTron\n\nTickets can be delivered personally or picked up at will-call the night of the show. PLEASE BRING YOUR ID
URL:https://www.paradisenewsfl.com/event/hooked-on-a-bad-spirit/
LOCATION:Catherine A Hickman Theater\, 5501 27th Avenue South\, Gulfport \, FL\, 33707\, United States
CATEGORIES:ALL
ATTACH;FMTTYPE=image/jpeg:https://www.paradisenewsfl.com/wp-content/uploads/2021/07/hooked-on-a-spirit.jpg
END:VEVENT
BEGIN:VEVENT
DTSTART;TZID=UTC:20210731T140000
DTEND;TZID=UTC:20210731T180000
DTSTAMP:20260423T042953
CREATED:20210708T193652Z
LAST-MODIFIED:20210708T193652Z
UID:23335-1627740000-1627754400@www.paradisenewsfl.com
SUMMARY:St. Pete Brewfest
DESCRIPTION:Welcome to St. Pete Brewfest\, sponsored by AccuBrew! One of the newest\, local\, beer festivals in Tampa Bay\, St. Pete Brewfest features an array of local craft breweries\, live music\, food trucks and beer-themed vendors. \n\n\n\n\n\nAll-you-can-sample tickets allows participants unlimited tastings from the offerings of St. Pete’s best breweries\, with proceeds benefiting Pours for a Purpose. This is an indoor/outdoor event with tastings all located in two open-air warehouses and food trucks hosted in outdoor areas. \nFor more details go to the event website at https://dtspbrewfest.com/
URL:https://www.paradisenewsfl.com/event/st-pete-brewfest/
LOCATION:Coastal Creative\, 2201 1st Avenue South\, St. Petersburg\, FL\, 33712\, United States
CATEGORIES:ALL
ATTACH;FMTTYPE=image/jpeg:https://www.paradisenewsfl.com/wp-content/uploads/2021/07/st-pete-brewfest.jpeg
END:VEVENT
END:VCALENDAR