BEGIN:VCALENDAR
VERSION:2.0
PRODID:-//Paradise News Magazine - ECPv6.15.20//NONSGML v1.0//EN
CALSCALE:GREGORIAN
METHOD:PUBLISH
X-ORIGINAL-URL:https://www.paradisenewsfl.com
X-WR-CALDESC:Events for Paradise News Magazine
REFRESH-INTERVAL;VALUE=DURATION:PT1H
X-Robots-Tag:noindex
X-PUBLISHED-TTL:PT1H
BEGIN:VTIMEZONE
TZID:UTC
BEGIN:STANDARD
TZOFFSETFROM:+0000
TZOFFSETTO:+0000
TZNAME:UTC
DTSTART:20220101T000000
END:STANDARD
END:VTIMEZONE
BEGIN:VEVENT
DTSTART;TZID=UTC:20230506T070000
DTEND;TZID=UTC:20230506T130000
DTSTAMP:20260424T102201
CREATED:20230320T145242Z
LAST-MODIFIED:20230320T145242Z
UID:42948-1683356400-1683378000@www.paradisenewsfl.com
SUMMARY:Cinco Dog Mayo 5K & 1/2 Mile Dog Fun Run
DESCRIPTION:Join us to support a great cause at our inaugural Cinco Dog Mayo themed 5K beach run with a 1/2 mile dog fun run in Madeira Beach. \n\n\n\nGrab your running shoes and furry friends for a 5k like no other. Beautiful Madeira Beach is hosting this fun Cinco Dog Mayo 5k in Archibald Park with a ½ mile dog fun run to be held in Roc Park. There will be vendors and food trucks. \nSt. Jean Creative will be on site to take themed photos. \nRun\, walk \, or even skip the 5k. Not interested in the 5k \, bring your dog to the ½ mile fun run. \nPresented by CMC Synergy Fundraising\, Cardio Sport St. Pete\, and Trash Pirates. This event is a fundraiser to support nonprofit organization Compassion Kind & ALS Association. \nSome of the proceeds will go to help with the new dog park in Madeira Beach. \nFeel free to be festive and dress up! Your participation in this event is appreciated and we look forward to seeing you. \nVendor and sponsor opportunities available. For more information email cmc@synergyfundraising.org
URL:https://www.paradisenewsfl.com/event/cinco-dog-mayo-5k-1-2-mile-dog-fun-run/
LOCATION:Archibald Park\, 15100 Gulf Blvd\, Madeira Beach\, FL\, 33708\, United States
ATTACH;FMTTYPE=image/jpeg:https://www.paradisenewsfl.com/wp-content/uploads/2023/03/cinco-dog-mayo.jpg
ORGANIZER;CN="CMC Synergy Fundraising":MAILTO:mc@synergyfundraising.org
END:VEVENT
BEGIN:VEVENT
DTSTART;TZID=UTC:20230506T170000
DTEND;TZID=UTC:20230506T210000
DTSTAMP:20260424T102201
CREATED:20230406T155613Z
LAST-MODIFIED:20230406T155737Z
UID:43721-1683392400-1683406800@www.paradisenewsfl.com
SUMMARY:Mad Beach Grouper Gala 2023
DESCRIPTION:Join the City of Madeira Beach as they Celebrate the 76th Annual Founders Day in Madeira Beach with the Grouper Gala. Live Music\, Food Trucks\, Children’s Activities & More! Dress Code: Flip Flops\, Shorts\, & Fishing Attire!
URL:https://www.paradisenewsfl.com/event/grouper-gala-2023/
LOCATION:ROC Park\, 300 Municipal Drive\, Madeira Beach\, FL\, 33708\, United States
ATTACH;FMTTYPE=image/jpeg:https://www.paradisenewsfl.com/wp-content/uploads/2023/04/mad-beach-grouper-gala.jpg
END:VEVENT
BEGIN:VEVENT
DTSTART;TZID=UTC:20230607T193000
DTEND;TZID=UTC:20230607T220000
DTSTAMP:20260424T102201
CREATED:20230308T182444Z
LAST-MODIFIED:20230308T182444Z
UID:42511-1686166200-1686175200@www.paradisenewsfl.com
SUMMARY:John John Hughes Film Fest in SPB
DESCRIPTION:Every Wednesday in June we will be showing a movie in the park\, for FREE!!! Bring your chairs\, coolers\, friends\, family & neighbors! Movies will begin showing around 8pm. \nMovie Schedule: \n\nJune 7th – Pretty in Pink\nJune 14th – Breakfast Club\nJune 21st – Sixteen Candles\nJune 28th – Ferris Bueller’s Day Off\n\nLocation: Horan Park\, 7701 Boca Ciega Dr. St. Pete Beach\, FL 33706
URL:https://www.paradisenewsfl.com/event/john-john-hughes-film-fest-in-spb/
LOCATION:Horan Park\, 7701 Boca Ciega Drive\, St. pete Beach\, FL\, 33706\, United States
ATTACH;FMTTYPE=image/jpeg:https://www.paradisenewsfl.com/wp-content/uploads/2017/04/spb-live-it-logo.jpg
END:VEVENT
BEGIN:VEVENT
DTSTART;TZID=UTC:20230614T193000
DTEND;TZID=UTC:20230614T220000
DTSTAMP:20260424T102201
CREATED:20230308T182618Z
LAST-MODIFIED:20230308T182618Z
UID:42514-1686771000-1686780000@www.paradisenewsfl.com
SUMMARY:John John Hughes Film Fest in SPB
DESCRIPTION:Every Wednesday in June we will be showing a movie in the park\, for FREE!!! Bring your chairs\, coolers\, friends\, family & neighbors! Movies will begin showing around 8pm. \nMovie Schedule: \n\nJune 7th – Pretty in Pink\nJune 14th – Breakfast Club\nJune 21st – Sixteen Candles\nJune 28th – Ferris Bueller’s Day Off\n\nLocation: Horan Park\, 7701 Boca Ciega Dr. St. Pete Beach\, FL 33706
URL:https://www.paradisenewsfl.com/event/john-john-hughes-film-fest-in-spb-2/
LOCATION:Horan Park\, 7701 Boca Ciega Drive\, St. pete Beach\, FL\, 33706\, United States
ATTACH;FMTTYPE=image/jpeg:https://www.paradisenewsfl.com/wp-content/uploads/2017/04/spb-live-it-logo.jpg
END:VEVENT
BEGIN:VEVENT
DTSTART;TZID=UTC:20230621T193000
DTEND;TZID=UTC:20230621T220000
DTSTAMP:20260424T102201
CREATED:20230308T182748Z
LAST-MODIFIED:20230308T182748Z
UID:42516-1687375800-1687384800@www.paradisenewsfl.com
SUMMARY:John John Hughes Film Fest in SPB
DESCRIPTION:Every Wednesday in June we will be showing a movie in the park\, for FREE!!! Bring your chairs\, coolers\, friends\, family & neighbors! Movies will begin showing around 8pm. \nMovie Schedule: \n\nJune 7th – Pretty in Pink\nJune 14th – Breakfast Club\nJune 21st – Sixteen Candles\nJune 28th – Ferris Bueller’s Day Off\n\nLocation: Horan Park\, 7701 Boca Ciega Dr. St. Pete Beach\, FL 33706
URL:https://www.paradisenewsfl.com/event/john-john-hughes-film-fest-in-spb-3/
LOCATION:Horan Park\, 7701 Boca Ciega Drive\, St. pete Beach\, FL\, 33706\, United States
ATTACH;FMTTYPE=image/jpeg:https://www.paradisenewsfl.com/wp-content/uploads/2017/04/spb-live-it-logo.jpg
END:VEVENT
BEGIN:VEVENT
DTSTART;TZID=UTC:20230628T193000
DTEND;TZID=UTC:20230628T220000
DTSTAMP:20260424T102201
CREATED:20230308T182856Z
LAST-MODIFIED:20230308T182929Z
UID:42518-1687980600-1687989600@www.paradisenewsfl.com
SUMMARY:John John Hughes Film Fest in SPB
DESCRIPTION:Every Wednesday in June we will be showing a movie in the park\, for FREE!!! Bring your chairs\, coolers\, friends\, family & neighbors! Movies will begin showing around 8pm. \nMovie Schedule: \n\nJune 7th – Pretty in Pink\nJune 14th – Breakfast Club\nJune 21st – Sixteen Candles\nJune 28th – Ferris Bueller’s Day Off\n\nLocation: Horan Park\, 7701 Boca Ciega Dr. St. Pete Beach\, FL 33706
URL:https://www.paradisenewsfl.com/event/john-john-hughes-film-fest-in-spb-4/
LOCATION:Horan Park\, 7701 Boca Ciega Drive\, St. pete Beach\, FL\, 33706\, United States
ATTACH;FMTTYPE=image/jpeg:https://www.paradisenewsfl.com/wp-content/uploads/2017/04/spb-live-it-logo.jpg
END:VEVENT
BEGIN:VEVENT
DTSTART;VALUE=DATE:20231007
DTEND;VALUE=DATE:20231008
DTSTAMP:20260424T102201
CREATED:20230322T212013Z
LAST-MODIFIED:20230322T212042Z
UID:43006-1696636800-1696723199@www.paradisenewsfl.com
SUMMARY:HOOTERS 40th Anniversary CHICAGO Concert for Breast Cancer Research
DESCRIPTION:As a thank you to our customers for their support for 40 years\, HOOTERS is bringing the legendary rock band Chicago to Clearwater for a good cause. HOOTERS\, in conjunction with the City of Clearwater are holding a benefit concert for Breast Cancer Research.  The Grammy award-winning group will be playing at The Sound at Coachman Park on October 7th. \nProceeds from the Breast Cancer Research benefit concert will be donated to Moffitt Cancer Center and Morton Plant Mease Hospitals. \nHooters pre-sale tickets will go on sale on Wednesday\, March 15th at 10:00am through Friday\, March 17th at 10:00am with promo code HOOTERS40. Ticket prices are $40\, $25\, and $9.  Tickets to the general public will be available on Friday\, March 17th at 10:00am.  All tickets can be purchased on RuthEckerdHall.com. \nChicago\, the Grammy Award winning band is known for songs You’re The Inspiration and Hard to Say I’m Sorry and many more hits. \n“We are looking forward to Chicago performing and raising funds for breast cancer research.  Since our first week in business on October 4\, 1983 giving back to our community has been a priority.  We have raised and donated millions over the past 40 years. We are proud to give back and celebrate HOOTERS 40th Anniversary with the wonderful communities that have welcomed us for decades\,” said HMC Hospitality Group CEO Neil Kiefer \nThe benefit concert is one of many ways Hooters will be celebrating all year. In honor of the anniversary\, on the fourth of every month HOOTERS is also hosting “throwback” events bringing the 80’s back.  The next event will kick off on Tuesday\, April 4th at the Tampa Bay and Chicagoland HOOTERS locations.  As a thank you to their customers\, Hooters in Tampa Bay and Chicagoland will be offering wings for only 83 cents on the 4th of every month. There will be several in store specials throughout the year\, featuring seafood specials and $19.83 crab legs. \nHOOTERS was created and fittingly incorporated on April Fool’s Day in 1983 by six businessmen L.D. Stewart\, Gil DiGiannantonio\, “Uncle Billy” Ranieri\, Ed Droste\, Dennis Johnson and Ken Wimmer.  Soon after\, the doors to the first HOOTERS restaurant opened on October 4th at 2800 Gulf-To-Bay Boulevard in Clearwater\, Florida. \nThe refreshing beach-like oasis was one of the first to introduce Buffalo-style chicken wings nationwide\, and with the help of the iconic HOOTERS Girls\, to foreign countries around the world.  \nAfter 40 years\, the original HOOTERS founders have stayed intact and continue to grow the concept in their territories retained in the Tampa Bay area and Chicagoland. \nHMC Hospitality Group owns and operates 22 HOOTERS Restaurants in Tampa Bay and Chicagoland and 3 HOOTS locations in Chicagoland.  For more information about HMC Hospitality Group\, please visit www.originalHOOTERS.com or follow us at Twitter @originalHOOTERS\, Instagram @originalHOOTERS and Facebook https://www.facebook.com/originalHOOTERS.
URL:https://www.paradisenewsfl.com/event/hooters-40th/
LOCATION:FL
ATTACH;FMTTYPE=image/jpeg:https://www.paradisenewsfl.com/wp-content/uploads/2023/03/chicago-hooters-concert.jpg
END:VEVENT
END:VCALENDAR