BEGIN:VCALENDAR
VERSION:2.0
PRODID:-//Paradise News Magazine - ECPv6.15.20//NONSGML v1.0//EN
CALSCALE:GREGORIAN
METHOD:PUBLISH
X-WR-CALNAME:Paradise News Magazine
X-ORIGINAL-URL:https://www.paradisenewsfl.com
X-WR-CALDESC:Events for Paradise News Magazine
REFRESH-INTERVAL;VALUE=DURATION:PT1H
X-Robots-Tag:noindex
X-PUBLISHED-TTL:PT1H
BEGIN:VTIMEZONE
TZID:UTC
BEGIN:STANDARD
TZOFFSETFROM:+0000
TZOFFSETTO:+0000
TZNAME:UTC
DTSTART:20200101T000000
END:STANDARD
END:VTIMEZONE
BEGIN:VEVENT
DTSTART;TZID=UTC:20210704T203000
DTEND;TZID=UTC:20210704T213000
DTSTAMP:20260423T055040
CREATED:20210614T213020Z
LAST-MODIFIED:20210614T213020Z
UID:22991-1625430600-1625434200@www.paradisenewsfl.com
SUMMARY:City of Treasure Island 4th of July Fireworks
DESCRIPTION:Watch as Treasure Island lights up with a stunning fireworks show on the beach at 9 p.m.! Off-site parking will be offered at Treasure Island Park for $20 a vehicle.
URL:https://www.paradisenewsfl.com/event/city-of-treasure-island-4th-of-july-fireworks/
LOCATION:Treasure Island\, Treasure Island\, FL\, United States
CATEGORIES:4th of July,ALL,Treasure Island
ATTACH;FMTTYPE=image/jpeg:https://www.paradisenewsfl.com/wp-content/uploads/2018/06/fireworks.jpg
END:VEVENT
BEGIN:VEVENT
DTSTART;VALUE=DATE:20210116
DTEND;VALUE=DATE:20210118
DTSTAMP:20260423T055040
CREATED:20210113T231232Z
LAST-MODIFIED:20210116T181824Z
UID:19973-1610755200-1610927999@www.paradisenewsfl.com
SUMMARY:24th Annual Treasure Island Sport Kite Festival
DESCRIPTION:The 24th Annual Treasure Island Sport Kite Competition and Festival\, presented by Windworks of John’s Pass\, is calling on all local flyers to perform on the beach Saturday\, January 16th & Sunday the 17th (10am-5pm daily). Come be amazed by the talented kite flyers performing to music\, including dual-line and multi-line sport kite flying\, Kite Ballet and Hot Tricks Competitions throughout each day.\n\nWindworks holds a silent auction as well as hourly raffles in the kite tent all weekend. Free Quad Line and Dual Line lessons available.\n\nTake full advantage of this opportunity to fly on white sandy beaches while many parts of the country will be covered in white stuff of a different kind!\n\nFor all other event information contact: Windworks at (727) 320-9463
URL:https://www.paradisenewsfl.com/event/24th-annual-treasure-island-sport-kite-festival/
LOCATION:Thunderbird Beach Resort\, 10700 Gulf Blvd\, Treasure Island\, FL\, 33706\, United States
CATEGORIES:ALL,Treasure Island
ATTACH;FMTTYPE=image/jpeg:https://www.paradisenewsfl.com/wp-content/uploads/2019/12/kite-beach.jpg
END:VEVENT
BEGIN:VEVENT
DTSTART;TZID=UTC:20210101T153000
DTEND;TZID=UTC:20210101T170000
DTSTAMP:20260423T055040
CREATED:20201214T173151Z
LAST-MODIFIED:20201231T175704Z
UID:19280-1609515000-1609520400@www.paradisenewsfl.com
SUMMARY:New Year's Day Beach Clean-up
DESCRIPTION:New Year’s Day- Time for a fresh start\, a clean beach\, a clean slate! People will cover the entire length of TI beach for this clean-up!\nSign up link: https://www.eventbrite.com/…/beach-clean-up-celebrating…\nIn partnership with Keep Pinellas Beautiful (KPB)\, we are dedicated to engaging community members to “adopt” an area of Treasure Island for beach cleanups. We have assigned areas with the hope that participants will help us cover the entire 3.82 miles of beach. With your help we will make the beach trash-free!\nWHERE TO MEET: — Go to your chosen/ticketed location at 3:30 to begin clean up at your adopted location along Treasure Island Beach.\n****At 5:00 PM the entire beach will be clean- Let’s walk to the shore line and raise our hands in celebration!****\nWHAT TO WEAR: Please wear closed toe shoes and clothing you don’t mind getting dirty. We recommend a hat or sunglasses\, too. Bring your PPE and reusable water bottles!\nWHAT TO EXPECT: Bring your own supplies or we will provide trash bags and gloves if you need them – please contact Carrie to set up meeting place.\nHOW TO PARTICIPATE WHILE YOU ARE THERE: Go to our event FB page and post a selfie or group shot indicating where you are\, what you collected\, and pix of other trash collectors you meet along the way!\n-Please get back to me via FB or text with an approximate weight of the trash you collected.\n**BONUS*** Any FB post during clean-up gets a goodie from Adopt A Beach and KPB! Post where you are so we can find you!\n*Please note: there is no need to print your ticket to attend this event.*\nIf you have any questions\, please contact Carrie at treasureislandadoptabeach@gmail.com or 215-694-6692.
URL:https://www.paradisenewsfl.com/event/new-years-eve-beach-clean-up/
LOCATION:Treasure Island\, Treasure Island\, FL\, United States
CATEGORIES:ALL,Treasure Island
ATTACH;FMTTYPE=image/jpeg:https://www.paradisenewsfl.com/wp-content/uploads/2016/05/beachcleanup.jpg
END:VEVENT
END:VCALENDAR