BEGIN:VCALENDAR
VERSION:2.0
PRODID:-//Paradise News Magazine - ECPv6.15.20//NONSGML v1.0//EN
CALSCALE:GREGORIAN
METHOD:PUBLISH
X-ORIGINAL-URL:https://www.paradisenewsfl.com
X-WR-CALDESC:Events for Paradise News Magazine
REFRESH-INTERVAL;VALUE=DURATION:PT1H
X-Robots-Tag:noindex
X-PUBLISHED-TTL:PT1H
BEGIN:VTIMEZONE
TZID:UTC
BEGIN:STANDARD
TZOFFSETFROM:+0000
TZOFFSETTO:+0000
TZNAME:UTC
DTSTART:20200101T000000
END:STANDARD
END:VTIMEZONE
BEGIN:VEVENT
DTSTART;TZID=UTC:20211219T183000
DTEND;TZID=UTC:20211219T203000
DTSTAMP:20260423T070658
CREATED:20211214T211726Z
LAST-MODIFIED:20211214T211726Z
UID:25979-1639938600-1639945800@www.paradisenewsfl.com
SUMMARY:Redington Beaches and Indian Shores Christmas Boat Parade
DESCRIPTION:There is nothing better than a parade during the holiday season. Wait!…maybe there is. It’s a boat parade! \nThe Redington Beaches and Indian Shores Christmas Boat Parade will be held on Sunday December 19th\, 2021! You can’t help but get into the spirit of things with lights gleaming off the cool ripples in the water and the holiday sounds coming from the lavishly decorated vessels! \nIf you would like to enter the parade with your boat\, please review\, mail or fax the completed application to:\nTown of Redington Beach\n105 164th Ave.\nRedington Beach\, FL 33708\nFAX NUMBER: (727) 397-6911\nEmail address: info@townofredingtonbeach.com\n \nHere’s an awesome aerial video of last years Holiday Boat Parade (2020).
URL:https://www.paradisenewsfl.com/event/redington-beaches-and-indian-shores-christmas-boat-parade/
LOCATION:Indian Shores
CATEGORIES:ALL,Boat Parades,Boating,Holiday Events,Indian Shores,Redington
ATTACH;FMTTYPE=image/jpeg:https://www.paradisenewsfl.com/wp-content/uploads/2016/09/boatparade_times.jpg
END:VEVENT
END:VCALENDAR