BEGIN:VCALENDAR
VERSION:2.0
PRODID:-//Paradise News Magazine - ECPv6.15.20//NONSGML v1.0//EN
CALSCALE:GREGORIAN
METHOD:PUBLISH
X-WR-CALNAME:Paradise News Magazine
X-ORIGINAL-URL:https://www.paradisenewsfl.com
X-WR-CALDESC:Events for Paradise News Magazine
REFRESH-INTERVAL;VALUE=DURATION:PT1H
X-Robots-Tag:noindex
X-PUBLISHED-TTL:PT1H
BEGIN:VTIMEZONE
TZID:UTC
BEGIN:STANDARD
TZOFFSETFROM:+0000
TZOFFSETTO:+0000
TZNAME:UTC
DTSTART:20190101T000000
END:STANDARD
END:VTIMEZONE
BEGIN:VEVENT
DTSTART;VALUE=DATE:20220120
DTEND;VALUE=DATE:20220124
DTSTAMP:20260423T055029
CREATED:20210709T194211Z
LAST-MODIFIED:20210709T194211Z
UID:23369-1642636800-1642982399@www.paradisenewsfl.com
SUMMARY:2022 Johns Pass Seafood Fest
DESCRIPTION:The 2022 John’s Pass Seafood Festival will take place January 20 – 23\, 2022 at John’s Pass Village & Boardwalk located in Madeira Beach\, FL. The 4 day festival will welcome Arts\, Crafts\, and Food vendors from all over to the area for an action packed weekend of live music and exciting activities. \nApplication for Arts & Crafts\, Jewelry\, Commercial\, and Food Vendors is available now at https://madeirabeachfl.gov/johns-pass-seafood-festival/.\n\n\n\n\n\n\n\n\n\n\n\n\nThe general vendor application is for Arts & Crafts\, Jewelry\, and Commercial Vendors. The Arts & Crafts category consists of items which are 100% handmade. \n\n\n\n\n\n\n\n\nThe food vendor application is for tent based food vendors and food trucks interested in participating throughout the festival. \n\n\n\n\n\n\n\n\n\n\n\n\nLive Music\nThe 2022 edition of the John’s Pass Seafood Festival will feature live local music on the big stage all weekend long! Performers interested in being apart of the 4 day line up are encouraged click on the image below and fill out the contact information! \n\n\n\n\n\n\nAdditional Information\nFor additional information related to the 2022 John’s Pass Seafood Festival\, please contact the Madeira Beach Recreation Department at 727-392-0665.
URL:https://www.paradisenewsfl.com/event/2022-johns-pass-seafood-fest/
LOCATION:Johns Pass Village\, 12901 Gulf Blvd\, Madeira Beach\, FL\, 33708\, United States
CATEGORIES:ALL,Madeira Beach
ATTACH;FMTTYPE=image/jpeg:https://www.paradisenewsfl.com/wp-content/uploads/2016/07/johns-pass.jpg
END:VEVENT
BEGIN:VEVENT
DTSTART;TZID=UTC:20210704T210000
DTEND;TZID=UTC:20210704T210000
DTSTAMP:20260423T055029
CREATED:20210701T184528Z
LAST-MODIFIED:20210701T184528Z
UID:23238-1625432400-1625432400@www.paradisenewsfl.com
SUMMARY:City of Madeira Beach Fireworks
DESCRIPTION:Join the City of Madeira Beach as we Celebrate Independence Day for a spectacular fireworks show. The 4th of July Fireworks are Presented by the City of Madeira Beach and The Alligator & Wildlife Discovery Center located in John’s Pass Village. Fireworks will be launched at approximately 9:00pm from the Madeira Beach Fundamental School athletics field. For safety reasons\, viewing of fireworks will not be permitted on school property or on the the beach located near the base of the bridge. Viewing may take place at ROC Park but attendees are encouraged to car pool and plan accordingly regarding limited parking. More information will follow as to where people may view and park.\n\n\n\nParking Information\nLimited parking is available at R.O.C. Park (2oo Rex Place) and City Hall (300 Municipal Drive). Parking is also available at Archibald Memorial Beach Park for $2.50 an hour. Additional parking is available around the Madeira Way area in numerous paid parking lots (non-city operated). Viewing is also available on the water via boat outside of the fall out zone. Pinellas County Sheriff’s Office will be onsite maintaining the fall out zone.\n\n*Please be aware that traffic patterns may be affected after the fireworks in an effort to get everyone in and out of Madeira Beach safely.*
URL:https://www.paradisenewsfl.com/event/city-of-madeira-beach-fireworks/
LOCATION:ROC Park\, 300 Municipal Drive\, Madeira Beach\, FL\, 33708\, United States
CATEGORIES:4th of July,ALL,Madeira Beach
ATTACH;FMTTYPE=image/jpeg:https://www.paradisenewsfl.com/wp-content/uploads/2021/07/mad-beach-4th.jpeg
END:VEVENT
BEGIN:VEVENT
DTSTART;VALUE=DATE:20210611
DTEND;VALUE=DATE:20210612
DTSTAMP:20260423T055029
CREATED:20210513T011746Z
LAST-MODIFIED:20210513T011746Z
UID:22357-1623369600-1623455999@www.paradisenewsfl.com
SUMMARY:Swim Mad Beach on Madeira Beach
DESCRIPTION:The SALT Series heads into the summer with the Inaugural Swim Mad Beach on Madeira Beach\, FL. We have teamed up with our friends at the world famous SALTWATER HIPPIE Bar and Headquarters and are excited to offer a full weekend of activities and open water swimming! \nCreated in our famous “choose your own adventure” style\, this flexible weekend layout has something for everyone. \nGulf breezes massage the soul. Fire-tinged sunsets create lifelong memories. Welcome to Madeira Beach\, where some say the term “paradise” was created. From historic John’s Pass Village where fantastic shopping\, dining\, and nightlife await\, to the pristine 2-mile long stretch of sand\, Madeira Beach is the perfect escape from\, well\, everything! \nMORE INFORMATION HERE: https://www.saltysportssociety.com/swim-mad-beach
URL:https://www.paradisenewsfl.com/event/swim-mad-beach-on-madeira-beach/
LOCATION:Archibald Park\, 15100 Gulf Blvd\, Madeira Beach\, FL\, 33708\, United States
CATEGORIES:ALL,Madeira Beach,Outdoors
ATTACH;FMTTYPE=image/jpeg:https://www.paradisenewsfl.com/wp-content/uploads/2021/05/speedo-salt-swim-series.jpg
END:VEVENT
BEGIN:VEVENT
DTSTART;VALUE=DATE:20210318
DTEND;VALUE=DATE:20210322
DTSTAMP:20260423T055029
CREATED:20210305T225856Z
LAST-MODIFIED:20210305T225856Z
UID:21061-1616025600-1616371199@www.paradisenewsfl.com
SUMMARY:Gulf Beaches Rotary Club Annual Spring Break Waterfront Festival
DESCRIPTION:The Gulf Beaches Rotary Club in partnership with City of Madeira Beach will host the Annual Spring Break Waterfront Festival\, which will take place at the Madeira Beach Recreation Complex & ROC Park located at 300 Municipal Drive from Thursday\, March 18 through Sunday\, March 21\, 2021. This 4-day\, fun-filled event will offer a collection of carnival rides provided by Arnold Amusements\, live entertainment as well as awesome food and craft vendors.\n\nEVENT IS FREE TO THE PUBLIC\n\nRead more\nPurchase $17 Ride Wristbands\nFacbook Event
URL:https://www.paradisenewsfl.com/event/gulf-beaches-rotary-club-annual-spring-break-waterfront-festival/
LOCATION:ROC Park\, 300 Municipal Drive\, Madeira Beach\, FL\, 33708\, United States
CATEGORIES:ALL,Kids Events,Madeira Beach
ATTACH;FMTTYPE=image/jpeg:https://www.paradisenewsfl.com/wp-content/uploads/2021/01/springbreak-carnival-banner.jpg
END:VEVENT
BEGIN:VEVENT
DTSTART;TZID=UTC:20201218T173000
DTEND;TZID=UTC:20201218T213000
DTSTAMP:20260423T055029
CREATED:20201203T202233Z
LAST-MODIFIED:20201203T202233Z
UID:19124-1608312600-1608327000@www.paradisenewsfl.com
SUMMARY:Madeira Beach Free Movie in the Park- ELF
DESCRIPTION:Join the Madeira Beach Recreation Department for a Free Movie In The Park on December 18th at 6:30pm. We will be screening ELF for a nice holiday movie in R.O.C. Park. The movie will begin at 6:30pm\, shortly after sunset. Attendees may begin arriving at 5:30pm to claim their free physically distanced space. Chairs\, blankets\, and personal coolers are allowed.\n\nAddress: R.O.C. Park – 200 Rex Place\, Madeira Beach 33708
URL:https://www.paradisenewsfl.com/event/madeira-beach-free-movie-in-the-park-elf/
LOCATION:ROC Park\, 300 Municipal Drive\, Madeira Beach\, FL\, 33708\, United States
CATEGORIES:ALL,Holiday Events,Kids Events,Madeira Beach
ATTACH;FMTTYPE=image/jpeg:https://www.paradisenewsfl.com/wp-content/uploads/2017/12/happy-holidays-sand.jpg
END:VEVENT
BEGIN:VEVENT
DTSTART;TZID=UTC:20201212T183000
DTEND;TZID=UTC:20201212T213000
DTSTAMP:20260423T055029
CREATED:20201203T201844Z
LAST-MODIFIED:20201203T201844Z
UID:19122-1607797800-1607808600@www.paradisenewsfl.com
SUMMARY:54th Annual Madeira Beach Festival of Lights & Merry Beach Market
DESCRIPTION:Join the City of Madeira Beach in R.O.C. Park on Dec. 12th for the Merry Beach Market at 2pm hosted by the Treasure Island Chamber of Commerce and stay to watch the 54th Annual Holiday Boat Parade which begins at 6:30pm\n\n*Interested vendors contact the Treasure Island Madeira Beach Chamber of Commerce for availability- 727-360-4121\n\nMerry Beach Market event info: Here\n\nRegister online here or visit at the Marina location at 503 150th Ave. Madeira Beach
URL:https://www.paradisenewsfl.com/event/54th-annual-madeira-beach-festival-of-lights-merry-beach-market/
LOCATION:ROC Park\, 300 Municipal Drive\, Madeira Beach\, FL\, 33708\, United States
CATEGORIES:Art,Boat Parades,Boating,Holiday Events,Madeira Beach
ATTACH;FMTTYPE=image/jpeg:https://www.paradisenewsfl.com/wp-content/uploads/2019/12/madeira-beach-lighted-boat.jpg
END:VEVENT
END:VCALENDAR