BEGIN:VCALENDAR
VERSION:2.0
PRODID:-//Paradise News Magazine - ECPv6.15.20//NONSGML v1.0//EN
CALSCALE:GREGORIAN
METHOD:PUBLISH
X-ORIGINAL-URL:https://www.paradisenewsfl.com
X-WR-CALDESC:Events for Paradise News Magazine
REFRESH-INTERVAL;VALUE=DURATION:PT1H
X-Robots-Tag:noindex
X-PUBLISHED-TTL:PT1H
BEGIN:VTIMEZONE
TZID:UTC
BEGIN:STANDARD
TZOFFSETFROM:+0000
TZOFFSETTO:+0000
TZNAME:UTC
DTSTART:20200101T000000
END:STANDARD
END:VTIMEZONE
BEGIN:VEVENT
DTSTART;TZID=UTC:20210531T190000
DTEND;TZID=UTC:20210531T210000
DTSTAMP:20260423T042627
CREATED:20210504T004841Z
LAST-MODIFIED:20210504T004841Z
UID:22223-1622487600-1622494800@www.paradisenewsfl.com
SUMMARY:Memorial Day Big Band Celebration
DESCRIPTION:Join the exciting 17-piece Tomkats Jazz Orchestra in a celebration of the Great American Songbook in a relaxed and comfortable beach bar atmosphere. With over 600 songs in their library\, the Tomkats have something for everyone!
URL:https://www.paradisenewsfl.com/event/memorial-day-big-band-celebration/
LOCATION:The Blue Parrot\, 85 Corey Cir\, St. Pete Beach\, FL\, 33707\, United States
CATEGORIES:ALL,Live Music,St. Pete Beach
ATTACH;FMTTYPE=image/jpeg:https://www.paradisenewsfl.com/wp-content/uploads/2016/08/tomkats-jazz-3.jpg
END:VEVENT
BEGIN:VEVENT
DTSTART;VALUE=DATE:20210521
DTEND;VALUE=DATE:20210524
DTSTAMP:20260423T042627
CREATED:20210519T202029Z
LAST-MODIFIED:20210519T202029Z
UID:22479-1621555200-1621814399@www.paradisenewsfl.com
SUMMARY:The Florida Music Expo Arts & Crafts Festival
DESCRIPTION:Come celebrate life\, music and a good cause at The Florida Music Expo Arts & Crafts Festival (next weekend) at Ferg’s Friday May 21 through Sunday May 23. FME is the the culmination of 30-years of dedication to the local music scene by Victor Lima of Tampa Bay Music Network and Florida Music TV. FME with have live music on two (2) stages for three (3) days along with all kinds of festival activities all for a good cause. “I have wanted to do this event or a long time and given all we have been through as a community the time to launch the first annual Florida Music Expo is now!” says Victor who looks to build on this event each year. He added\, “My hope is the Florida Music Expo can grow into a SXSW styled event on both sides of the bay\, where we can highlight all the great talent in our area and show the world there is no greater place to live\, work and play than Tampa Bay!”. We at Ferg’s agree and hope to see you out next week and FME 2021!\n\n\n\n\n\n\n\n\n\n\n\n\n\n\n\n\n\n\n\n\n\n\n\n\n\n\n\n\n\n\n\n\n\n\n\n\n\n\n\n\n\n\n\nTHE FLORIDA MUSIC EXPO ARTS & CRAFTS FESTIVAL\nPresented by: Tampa Bay Music Network and Florida Music TV Benefiting non-profit: PROJECT FREE (myprojectfree.org) Helping Children & Adults with Diverse Abilities.\n\n\nHosted by: Victor Lima of Tampa Bay Music Network and Florida Music TV (FMTV).\nArts & Crafts\, Vendor Village\, Dog Park\, Food and Drinks\, Live Music featuring some of the Best Artists and Bands from around the Bay Area and the Country.\n\nMAY 21 – Country and Good Vibe Friday!\nSouthbound 75 (Nashville TN)\nMellenchamp – Tribute to John Cougar Mellencamp\nFerg’s Patio Deck: 2pm (free entry) with Gary Schutt (FME Kickoff Party)\nFerg’s Concert Pavilion: 6pm gates/7pm show (ticketed event)\n\nMAY 22 – FMTV Rock Night with Tributes to Rocks Legendary Bands!\nHARDWIRED – Tribute to Metallica\nCALL FOR THE PRIEST – Tribute to Judas Priest\nDIARY OF AN OZZMAN – Tribute to Ozzy Osborne\nFMTV VIP After Party\nMeet and Greet in Ferg’s Upper Deck Bar\nFerg’s Patio Deck: 2pm (free entry) with Grindstone Syndicate and Solar Flair\n\nFerg’s Concert Pavilion: 7pm show (ticketed event)\nFerg’s Upper Deck VIP After Party 8pm-2am (upgrade purchase day of show)\n\n\nMAY 23 – Sunday Funday Family Day!\nJam Jones featuring Curtis Gray (American Idol Finalist)\nSpecial guests: Chas Collins (Top 10 Song CMT)\n\nFerg’s Patio Deck: 2pm (free entry) with Jaded\nFerg’s Concert Pavilion: 2pm show (ticketed event)\n\n\nTICKETS\nTicketweb.com (advance)\nFerg’s Box Office (day of show)\n$40 – Front of Stage Reserved Seats\n$20 – VIP Standing\n$10 – GA\n\n\nFerg’s Sports Bar and Entertainment Complex\n\n\n1320 Central Avenue\, St. Petersburg\, FL 33705 \nAll Ages are welcome\nFamily Friendly\nDog Friendly\nRain or Shine\n\n\nMedia Contacts\n\n\n\nVictor Lima (Promoter)\nTampa Bay Music Network\n(813) 765-7635\nvictor@tampabaymusicnetwork.com\nfloridamusicexpo.com\n\nMark Ferguson (Venue)\n(727) 742-5957\n\nMark@FergsSportsBar.com\n\nTicket Links\n\nhttps://www.ticketweb.com/event/the-florida-music-expo-arts-fergs-sports-bar-grill-tickets/10997005?pl=fergs\nhttps://www.ticketweb.com/event/the-florida-music-expo-arts-fergs-sports-bar-grill-tickets/10997025?pl=fergs\n\n\n\n\n\n\n\n\n\n\n\n\n\n\n\n\n\n\n\n\n\n\n\n\n\n\n\n\n\n\n\n\n\n\n\n\n\n\n\n\n\n\n\n\n\n\n\n\n\n\nhttps://www.ticketweb.com/event/the-florida-music-expo-arts-fergs-sports-bar-grill-tickets/10997045?pl=fergs
URL:https://www.paradisenewsfl.com/event/the-florida-music-expo-arts-crafts-festival/
LOCATION:Ferg’s Sports Bar & Grille\, 1320 Central Ave\, St. Petersburg\, FL\, 33705\, United States
CATEGORIES:Live Music,St. Petersburg
ATTACH;FMTTYPE=image/jpeg:https://www.paradisenewsfl.com/wp-content/uploads/2021/05/florida-music-expo.jpg
END:VEVENT
BEGIN:VEVENT
DTSTART;TZID=UTC:20210507T180000
DTEND;TZID=UTC:20210507T210000
DTSTAMP:20260423T042627
CREATED:20210126T202836Z
LAST-MODIFIED:20210126T202836Z
UID:20184-1620410400-1620421200@www.paradisenewsfl.com
SUMMARY:SPB Spring Concert Series- The Spazmatics
DESCRIPTION:The St. Pete Beach Parks & Recreation Department is rocking & rolling this spring with our NEW Spring Concert Series featuring: The Black Honkeys\, Classic Rock Revival – A tribute to Doobie Brothers & Santana\, New York Legends – A tribute to Billy Joel\, Barry Manilow & Neil Diamond and The Spazmatics! This is a ticketed event\, each ticket allows entry for up to 6 people per ticket\, any group larger than 6 must purchase an additional ticket. Social Distancing between each group is required. For more information please visit www.spbrec.com or call us at 727-363-9245 \nEach Concert is from 7-9pm with the park opening at 6pm. Food and drinks are permitted but please be responible.
URL:https://www.paradisenewsfl.com/event/spb-spring-concert-series-the-spazmatics/
LOCATION:Horan Park\, 7701 Boca Ciega Drive\, St. pete Beach\, FL\, 33706\, United States
CATEGORIES:ALL,Live Music,St. Pete Beach
ATTACH;FMTTYPE=image/jpeg:https://www.paradisenewsfl.com/wp-content/uploads/2017/04/spb-live-it-logo.jpg
END:VEVENT
BEGIN:VEVENT
DTSTART;TZID=UTC:20210416T180000
DTEND;TZID=UTC:20210416T210000
DTSTAMP:20260423T042627
CREATED:20210126T202705Z
LAST-MODIFIED:20210126T202705Z
UID:20182-1618596000-1618606800@www.paradisenewsfl.com
SUMMARY:SPB Spring Concert Series- New York Legends Tribute
DESCRIPTION:The St. Pete Beach Parks & Recreation Department is rocking & rolling this spring with our NEW Spring Concert Series featuring: The Black Honkeys\, Classic Rock Revival – A tribute to Doobie Brothers & Santana\, New York Legends – A tribute to Billy Joel\, Barry Manilow & Neil Diamond and The Spazmatics! This is a ticketed event\, each ticket allows entry for up to 6 people per ticket\, any group larger than 6 must purchase an additional ticket. Social Distancing between each group is required. For more information please visit www.spbrec.com or call us at 727-363-9245 \nEach Concert is from 7-9pm with the park opening at 6pm. Food and drinks are permitted but please be responible.
URL:https://www.paradisenewsfl.com/event/spb-spring-concert-series-new-york-legends-tribute/
LOCATION:Horan Park\, 7701 Boca Ciega Drive\, St. pete Beach\, FL\, 33706\, United States
CATEGORIES:ALL,Live Music,St. Pete Beach
ATTACH;FMTTYPE=image/jpeg:https://www.paradisenewsfl.com/wp-content/uploads/2017/04/spb-live-it-logo.jpg
END:VEVENT
BEGIN:VEVENT
DTSTART;TZID=UTC:20210319T180000
DTEND;TZID=UTC:20210319T210000
DTSTAMP:20260423T042627
CREATED:20210126T202507Z
LAST-MODIFIED:20210126T202507Z
UID:20180-1616176800-1616187600@www.paradisenewsfl.com
SUMMARY:SPB Spring Concert Series- Doobie Brothers & Santana Tribute
DESCRIPTION:The St. Pete Beach Parks & Recreation Department is rocking & rolling this spring with our NEW Spring Concert Series featuring: The Black Honkeys\, Classic Rock Revival – A tribute to Doobie Brothers & Santana\, New York Legends – A tribute to Billy Joel\, Barry Manilow & Neil Diamond and The Spazmatics! This is a ticketed event\, each ticket allows entry for up to 6 people per ticket\, any group larger than 6 must purchase an additional ticket. Social Distancing between each group is required. For more information please visit www.spbrec.com or call us at 727-363-9245 \nEach Concert is from 7-9pm with the park opening at 6pm. Food and drinks are permitted but please be responible.
URL:https://www.paradisenewsfl.com/event/spb-spring-concert-series-doobie-brothers-santana-tribute/
LOCATION:Horan Park\, 7701 Boca Ciega Drive\, St. pete Beach\, FL\, 33706\, United States
CATEGORIES:ALL,Live Music,St. Pete Beach
ATTACH;FMTTYPE=image/jpeg:https://www.paradisenewsfl.com/wp-content/uploads/2017/04/spb-live-it-logo.jpg
END:VEVENT
BEGIN:VEVENT
DTSTART;TZID=UTC:20210226T180000
DTEND;TZID=UTC:20210226T210000
DTSTAMP:20260423T042627
CREATED:20210126T202308Z
LAST-MODIFIED:20210126T202308Z
UID:20178-1614362400-1614373200@www.paradisenewsfl.com
SUMMARY:SPB Spring Concert Series- The Black Honkeys
DESCRIPTION:The St. Pete Beach Parks & Recreation Department is rocking & rolling this spring with our NEW Spring Concert Series featuring: The Black Honkeys\, Classic Rock Revival – A tribute to Doobie Brothers & Santana\, New York Legends – A tribute to Billy Joel\, Barry Manilow & Neil Diamond and The Spazmatics! This is a ticketed event\, each ticket allows entry for up to 6 people per ticket\, any group larger than 6 must purchase an additional ticket. Social Distancing between each group is required. For more information please visit www.spbrec.com or call us at 727-363-9245 \nEach Concert is from 7-9pm with the park opening at 6pm. Food and drinks are permitted but please be responible.
URL:https://www.paradisenewsfl.com/event/spb-spring-concert-series-the-black-honkeys/
LOCATION:Horan Park\, 7701 Boca Ciega Drive\, St. pete Beach\, FL\, 33706\, United States
CATEGORIES:ALL,Live Music,St. Pete Beach
ATTACH;FMTTYPE=image/jpeg:https://www.paradisenewsfl.com/wp-content/uploads/2017/04/spb-live-it-logo.jpg
END:VEVENT
END:VCALENDAR