BEGIN:VCALENDAR
VERSION:2.0
PRODID:-//Paradise News Magazine - ECPv6.15.20//NONSGML v1.0//EN
CALSCALE:GREGORIAN
METHOD:PUBLISH
X-ORIGINAL-URL:https://www.paradisenewsfl.com
X-WR-CALDESC:Events for Paradise News Magazine
REFRESH-INTERVAL;VALUE=DURATION:PT1H
X-Robots-Tag:noindex
X-PUBLISHED-TTL:PT1H
BEGIN:VTIMEZONE
TZID:UTC
BEGIN:STANDARD
TZOFFSETFROM:+0000
TZOFFSETTO:+0000
TZNAME:UTC
DTSTART:20190101T000000
END:STANDARD
END:VTIMEZONE
BEGIN:VEVENT
DTSTART;TZID=UTC:20210424T100000
DTEND;TZID=UTC:20210424T113000
DTSTAMP:20260423T055201
CREATED:20210420T194919Z
LAST-MODIFIED:20210420T194919Z
UID:21930-1619258400-1619263800@www.paradisenewsfl.com
SUMMARY:MFA's Painting in the Park Reimagined
DESCRIPTION:The MFA’s annual arts event is connecting with the community in a new way! This year\, in lieu of painting in the park\, we’ve assembled 500 art kits to give away to 500 kids across St. Pete\, allowing them to experience the art at the MFA in a fun and creative way. The kits are focused on four paintings on loan from the Art Bridges foundation\, and include lesson guides\, art-making supplies and a family pass to the MFA. To distribute the kits\, we are proud to partner with the Dr. Carter G. Woodson African American Museum\, Cultured Books\, Brookwood Florida\, NOMAD Art Bus\, and others. A select number of kits will also be distributed outside the MFA on April 24 from 10-11:30 am.
URL:https://www.paradisenewsfl.com/event/mfas-painting-in-the-park-reimagined/
LOCATION:Museum of Fine Arts St. Pete\, 255 Beach Drive NE\, St. Petersburg\, FL\, 33701\, United States
CATEGORIES:ALL,Art,Kids Events
ATTACH;FMTTYPE=image/jpeg:https://www.paradisenewsfl.com/wp-content/uploads/2021/04/mfa-day.jpg
END:VEVENT
BEGIN:VEVENT
DTSTART;TZID=UTC:20210403T100000
DTEND;TZID=UTC:20210403T120000
DTSTAMP:20260423T055201
CREATED:20210323T055333Z
LAST-MODIFIED:20210401T171819Z
UID:21354-1617444000-1617451200@www.paradisenewsfl.com
SUMMARY:Gulfport Hippity Hoppity Egg Hunt
DESCRIPTION:
URL:https://www.paradisenewsfl.com/event/gulfport-hippity-hoppity-egg-hunt/
LOCATION:Gulfport Recreation Center\, 5730 Shore Blvd. S.\, Gulfport\, FL\, 33707\, United States
CATEGORIES:ALL,Easter Events,Kids Events
END:VEVENT
BEGIN:VEVENT
DTSTART;TZID=UTC:20210403T100000
DTEND;TZID=UTC:20210403T120000
DTSTAMP:20260423T055201
CREATED:20210317T053436Z
LAST-MODIFIED:20210317T053436Z
UID:21220-1617444000-1617451200@www.paradisenewsfl.com
SUMMARY:St. Pete Beach Underwater Egg Hunt & Chalk-Lit Competition
DESCRIPTION:Underwater Egg Hunt\nJoin us at the St. Pete Beach Aquatic Center for a hopping good time! Registration begins March 20th\, for more information call 727-363-9264 \nWhen: April 3rd \nTime: 10:00am-12:00pm \nFee: $5 \nChalk-Lit Competition\nOur Spring sidewalk chalk competition is back! Registration begins March 1st \nWhen: April 3rd \nTime: 10:00am-12:00pm \nFee: FREE \nRegistration for Chalk-Lit Sidewalk Competition PDF
URL:https://www.paradisenewsfl.com/event/st-pete-beach-underwater-egg-hunt-chalk-lit-competition/
LOCATION:Horan Park\, 7701 Boca Ciega Drive\, St. pete Beach\, FL\, 33706\, United States
CATEGORIES:ALL,Kids Events,St. Pete Beach
ATTACH;FMTTYPE=image/jpeg:https://www.paradisenewsfl.com/wp-content/uploads/2021/03/spb-underwater-egg-hunt.jpeg
END:VEVENT
BEGIN:VEVENT
DTSTART;VALUE=DATE:20210318
DTEND;VALUE=DATE:20210322
DTSTAMP:20260423T055201
CREATED:20210305T225856Z
LAST-MODIFIED:20210305T225856Z
UID:21061-1616025600-1616371199@www.paradisenewsfl.com
SUMMARY:Gulf Beaches Rotary Club Annual Spring Break Waterfront Festival
DESCRIPTION:The Gulf Beaches Rotary Club in partnership with City of Madeira Beach will host the Annual Spring Break Waterfront Festival\, which will take place at the Madeira Beach Recreation Complex & ROC Park located at 300 Municipal Drive from Thursday\, March 18 through Sunday\, March 21\, 2021. This 4-day\, fun-filled event will offer a collection of carnival rides provided by Arnold Amusements\, live entertainment as well as awesome food and craft vendors.\n\nEVENT IS FREE TO THE PUBLIC\n\nRead more\nPurchase $17 Ride Wristbands\nFacbook Event
URL:https://www.paradisenewsfl.com/event/gulf-beaches-rotary-club-annual-spring-break-waterfront-festival/
LOCATION:ROC Park\, 300 Municipal Drive\, Madeira Beach\, FL\, 33708\, United States
CATEGORIES:ALL,Kids Events,Madeira Beach
ATTACH;FMTTYPE=image/jpeg:https://www.paradisenewsfl.com/wp-content/uploads/2021/01/springbreak-carnival-banner.jpg
END:VEVENT
BEGIN:VEVENT
DTSTART;VALUE=DATE:20201226
DTEND;VALUE=DATE:20210102
DTSTAMP:20260423T055201
CREATED:20201224T194245Z
LAST-MODIFIED:20201224T194255Z
UID:19442-1608940800-1609545599@www.paradisenewsfl.com
SUMMARY:SNOW DAYS at the Florida Aquarium
DESCRIPTION:  \nThe Florida Aquarium is safely bringing back one of Tampa Bay’s most popular Holiday traditions\, Snow Days\, with new and safe ways to play. From December 26-31st\, guests can engage in a snowball-throwing contest on the Aquarium’s rooftop. Guests will be able to toss snowballs at “sea monster” targets\, in order to fight ocean pollution. These targets will be made up of items that cause ocean pollution such as plastic bags or bottles. \nThis event is a great opportunity for kids and adults alike to enjoy real snow in Florida! This event will also feature real snow for guests to create their own snowman or snow creation. Snow will be falling on the outdoor plaza\, and there will be socially distant dance parties where guests can enjoy the snow while listening to Holiday classics. \nVisitors can enjoy Snow Days with extended hours at the Aquarium all week long from 9:30 a.m. – 9:00 p.m. \nThe Aquarium has many other Holiday events to make the Holiday season special. Visit socially distant Santa at the Aquarium on December 19th from 11 a.m. – 7:00 p.m. Santa will be inside of a “snow globe” which allows families to safely visit with Santa. Join us for Ugly Sweaters Under the Sea presented by Corona\, for a 21+ night at the Aquarium on Friday\, December 18. Guests will receive a Corona beverage or Holiday cocktail on us\, will have all access to the Aquarium at night\, and will have a snowball throwing contest on the Aquarium rooftop. Learn more about Holiday events at the Aquarium by visiting: www.flaquarium.org/holiday-events. \n 
URL:https://www.paradisenewsfl.com/event/snow-days-at-the-florida-aquarium-2/
LOCATION:The Florida Aquarium\, 701 Channelside Dr\, Tampa\, FL\, 33602\, United States
CATEGORIES:ALL,Holiday Events,Kids Events
ATTACH;FMTTYPE=image/jpeg:https://www.paradisenewsfl.com/wp-content/uploads/2019/12/snow-day-florida-aquarium.jpg
END:VEVENT
BEGIN:VEVENT
DTSTART;VALUE=DATE:20201219
DTEND;VALUE=DATE:20201220
DTSTAMP:20260423T055201
CREATED:20201126T040400Z
LAST-MODIFIED:20201126T040400Z
UID:18794-1608336000-1608422399@www.paradisenewsfl.com
SUMMARY:St. Pete Beach Santa Drive-by Parade
DESCRIPTION:December 19th will be a special day here in St. Pete Beach.  Santa and his crew will be driving through our beach town beginning at 10am.  Santa’s team will be sharing the route with us soon so we can all plan to create signs\, decorate and celebrate in a safe way this year. \nParents and Guardians\, here is a message especially for you! \nTo experience some extra special personalized magic from Santa Claus during the parade we invite you to make a fun custom sign for Santa on one side of the sign. On the other side write your kid/kids names large as possible in a big black marker. When Santa Claus is passing by your house and the kids are waving to him. You the parents will flip the sign around. It is important to make sure the kids can not see this happening. ( this is when you parents become Magicians and help with the magic) Santa will then personally say Merry Christmas to your kids with their names. Your kids will be so happy and shocked that Santa Claus knows their name/names personally. We look forward to creating this very nice and special experience for your kids during this holiday season.
URL:https://www.paradisenewsfl.com/event/st-pete-beach-santa-drive-by-parade/
LOCATION:St. Pete Beach\, St. Pete Beach\, FL\, 33706\, United States
CATEGORIES:ALL,Holiday Events,Kids Events,St. Pete Beach
ATTACH;FMTTYPE=image/jpeg:https://www.paradisenewsfl.com/wp-content/uploads/2017/12/santa-north-pole.jpg
END:VEVENT
BEGIN:VEVENT
DTSTART;TZID=UTC:20201218T183000
DTEND;TZID=UTC:20201218T203000
DTSTAMP:20260423T055201
CREATED:20201105T201947Z
LAST-MODIFIED:20201117T202408Z
UID:18466-1608316200-1608323400@www.paradisenewsfl.com
SUMMARY:St. Pete Beach Movies in the Park- The Santa Clause
DESCRIPTION:Join us for some holiday cheer in Horan park! On December 4th\, 11th and 18th we’ll be showing great holiday classics on the big screen! Tickets are required for movie entry and are $5 per ticket. 1 ticket provides enough space for up to 8 people to share. Movie starts at approximately 6:30pm but make sure to come early and join in on all the fun holiday activities as well as shopping from local vendors to find that perfect holiday gift! \nMovie Schedule: \nDec 4: Elf \nDec 11: The Polar Express \nDec 18: The Santa Clause \nTo purchase tickets please visit: https://st-pete-beach-community-center.ticketleap.com/christmas-movies-in-the-park/dates \nFor vendor information click here: Market vendor form 2020 \nFor more information call us at 727-363-9245
URL:https://www.paradisenewsfl.com/event/st-pete-beach-movies-in-the-park-the-santa-clause/
LOCATION:Horan Park\, 7701 Boca Ciega Drive\, St. pete Beach\, FL\, 33706\, United States
CATEGORIES:ALL,Holiday Events,Kids Events,St. Pete Beach
ATTACH;FMTTYPE=image/jpeg:https://www.paradisenewsfl.com/wp-content/uploads/2017/12/happy-holidays-sand.jpg
END:VEVENT
BEGIN:VEVENT
DTSTART;TZID=UTC:20201218T173000
DTEND;TZID=UTC:20201218T213000
DTSTAMP:20260423T055201
CREATED:20201203T202233Z
LAST-MODIFIED:20201203T202233Z
UID:19124-1608312600-1608327000@www.paradisenewsfl.com
SUMMARY:Madeira Beach Free Movie in the Park- ELF
DESCRIPTION:Join the Madeira Beach Recreation Department for a Free Movie In The Park on December 18th at 6:30pm. We will be screening ELF for a nice holiday movie in R.O.C. Park. The movie will begin at 6:30pm\, shortly after sunset. Attendees may begin arriving at 5:30pm to claim their free physically distanced space. Chairs\, blankets\, and personal coolers are allowed.\n\nAddress: R.O.C. Park – 200 Rex Place\, Madeira Beach 33708
URL:https://www.paradisenewsfl.com/event/madeira-beach-free-movie-in-the-park-elf/
LOCATION:ROC Park\, 300 Municipal Drive\, Madeira Beach\, FL\, 33708\, United States
CATEGORIES:ALL,Holiday Events,Kids Events,Madeira Beach
ATTACH;FMTTYPE=image/jpeg:https://www.paradisenewsfl.com/wp-content/uploads/2017/12/happy-holidays-sand.jpg
END:VEVENT
BEGIN:VEVENT
DTSTART;TZID=UTC:20201211T183000
DTEND;TZID=UTC:20201211T203000
DTSTAMP:20260423T055201
CREATED:20201105T195851Z
LAST-MODIFIED:20201117T201004Z
UID:18461-1607711400-1607718600@www.paradisenewsfl.com
SUMMARY:St. Pete Beach Holiday Movies in the Park- The Polar Express
DESCRIPTION:Join us for some holiday cheer in Horan park! On December 4th\, 11th and 18th we’ll be showing great holiday classics on the big screen! Tickets are required for movie entry and are $5 per ticket. 1 ticket provides enough space for up to 8 people to share. Movie starts at approximately 6:30pm but make sure to come early and join in on all the fun holiday activities as well as shopping from local vendors to find that perfect holiday gift! \nMovie Schedule: \nDec 4: Elf \nDec 11: The Polar Express \nDec 18: The Santa Clause \nTo purchase tickets please visit: https://st-pete-beach-community-center.ticketleap.com/christmas-movies-in-the-park/dates \nFor vendor information click here: Market vendor form 2020 \nFor more information call us at 727-363-9245
URL:https://www.paradisenewsfl.com/event/spb-holiday-movie-polar-express/
LOCATION:Horan Park\, 7701 Boca Ciega Drive\, St. pete Beach\, FL\, 33706\, United States
CATEGORIES:ALL,Holiday Events,Kids Events,St. Pete Beach
ATTACH;FMTTYPE=image/jpeg:https://www.paradisenewsfl.com/wp-content/uploads/2017/12/happy-holidays-sand.jpg
END:VEVENT
END:VCALENDAR