BEGIN:VCALENDAR
VERSION:2.0
PRODID:-//Paradise News Magazine - ECPv6.15.20//NONSGML v1.0//EN
CALSCALE:GREGORIAN
METHOD:PUBLISH
X-ORIGINAL-URL:https://www.paradisenewsfl.com
X-WR-CALDESC:Events for Paradise News Magazine
REFRESH-INTERVAL;VALUE=DURATION:PT1H
X-Robots-Tag:noindex
X-PUBLISHED-TTL:PT1H
BEGIN:VTIMEZONE
TZID:UTC
BEGIN:STANDARD
TZOFFSETFROM:+0000
TZOFFSETTO:+0000
TZNAME:UTC
DTSTART:20200101T000000
END:STANDARD
END:VTIMEZONE
BEGIN:VEVENT
DTSTART;TZID=UTC:20211218T183000
DTEND;TZID=UTC:20211218T203000
DTSTAMP:20260423T082600
CREATED:20211214T211211Z
LAST-MODIFIED:20211214T211211Z
UID:25975-1639852200-1639859400@www.paradisenewsfl.com
SUMMARY:Indian Rocks Beach Holiday Lighted Boat Parade
DESCRIPTION:HOLIDAY LIGHTED BOAT PARADE\nSATURDAY\, DECEMBER 18\, 2021\nLine up converges at 6:45 P.M.\nApproximately 200 yards South of the southern end of the Holiday Inn.\nAt 7:00 P.M. \, the parade heads under the Walsingham Bridge finishing off at Harbor Drive North .\nNO FEE TO ENTER. SEE ATTACHED ENTRY FORM
URL:https://www.paradisenewsfl.com/event/indian-rocks-beach-holiday-lighted-boat-parade/
LOCATION:Indian Rocks Beach
CATEGORIES:ALL,Boat Parades,Holiday Events,Indian Rocks Beach
ATTACH;FMTTYPE=image/jpeg:https://www.paradisenewsfl.com/wp-content/uploads/2016/11/madeira-beach-boat-parade-rusty.jpg
END:VEVENT
END:VCALENDAR