BEGIN:VCALENDAR
VERSION:2.0
PRODID:-//Paradise News Magazine - ECPv6.15.20//NONSGML v1.0//EN
CALSCALE:GREGORIAN
METHOD:PUBLISH
X-WR-CALNAME:Paradise News Magazine
X-ORIGINAL-URL:https://www.paradisenewsfl.com
X-WR-CALDESC:Events for Paradise News Magazine
REFRESH-INTERVAL;VALUE=DURATION:PT1H
X-Robots-Tag:noindex
X-PUBLISHED-TTL:PT1H
BEGIN:VTIMEZONE
TZID:UTC
BEGIN:STANDARD
TZOFFSETFROM:+0000
TZOFFSETTO:+0000
TZNAME:UTC
DTSTART:20210101T000000
END:STANDARD
END:VTIMEZONE
BEGIN:VEVENT
DTSTART;TZID=UTC:20220210T183000
DTEND;TZID=UTC:20220210T203000
DTSTAMP:20260423T081846
CREATED:20220127T214645Z
LAST-MODIFIED:20220127T214645Z
UID:26683-1644517800-1644525000@www.paradisenewsfl.com
SUMMARY:Happy Hour with the Histoiran
DESCRIPTION:Join us Thursday\, February 10th as the Museum of History and UPC Insurance welcome Eric Gray and his presentation “Bases to Bleachers: A Collection of Personal Baseball Stories.”\n\nOriginally from Plainview\, New York\, author Eric Gray asked his wife and daughter to identify their favorite baseball game. That question would take on a life of its own\, and made its way to friends and strangers alike. It gave way to a collection of incredibly diverse stories and perspectives.\n\nMore than your average baseball talk\, Gray will share unique stories about playing and watching America’s pastime from the Major League to the Little League levels.\n\nPlease note that seating is no longer pre-assigned\, so if you have special seating requirements\, please arrive at 6PM when the doors open to save your spot. There will be place cards to save your seat when you arrive so that you can stand\, chat and get your beer\, wine or soft drink before our speaker starts.\n\nPresented by UPC Insurance\, Happy Hour with the Historian is frequently sold out\, so reservations are required. Click on the link below to reserve your spot today!
URL:https://www.paradisenewsfl.com/event/happy-hour-with-the-histoiran/
LOCATION:St. Petersburg Museum of History\, 335 2nd Ave NE\, St. Petersburg\, Florida\, 33701\, United States
CATEGORIES:ALL,History,St. Petersburg
END:VEVENT
END:VCALENDAR