BEGIN:VCALENDAR
VERSION:2.0
PRODID:-//Paradise News Magazine - ECPv6.15.20//NONSGML v1.0//EN
CALSCALE:GREGORIAN
METHOD:PUBLISH
X-WR-CALNAME:Paradise News Magazine
X-ORIGINAL-URL:https://www.paradisenewsfl.com
X-WR-CALDESC:Events for Paradise News Magazine
REFRESH-INTERVAL;VALUE=DURATION:PT1H
X-Robots-Tag:noindex
X-PUBLISHED-TTL:PT1H
BEGIN:VTIMEZONE
TZID:UTC
BEGIN:STANDARD
TZOFFSETFROM:+0000
TZOFFSETTO:+0000
TZNAME:UTC
DTSTART:20190101T000000
END:STANDARD
END:VTIMEZONE
BEGIN:VEVENT
DTSTART;TZID=UTC:20210320T170000
DTEND;TZID=UTC:20210320T210000
DTSTAMP:20260423T055149
CREATED:20210302T185253Z
LAST-MODIFIED:20210302T185253Z
UID:20982-1616259600-1616274000@www.paradisenewsfl.com
SUMMARY:Gulfport Third Saturday IndieFaire
DESCRIPTION:Welcome to Third Saturday IndieFaire! Making its debut on Beach Boulevard on October 17\, 2020\, Gulfport’s Third Saturday IndieFaire is an exciting new addition to the monthly calendar for arts lovers in Pinellas County. \nIndieFaire features high quality local art and contemporary crafts from across a wide range of mediums\, as well as jewelry and locally sourced botanicals in an outdoor and socially distanced manner along scenic Beach Boulevard in downtown Gulfport. \nThird Saturday IndieFaire is curated by a committee selecting participants that expresses the vibrant\, evolving and diverse creative community of Gulfport and the region. It’s a fun\, family-friendly event with live music\, street performers\, and uniquely designed-for-the-occasion morsels created by our local restaurants for dine-in or walk about eating. \nWe welcome you to become a part of our evolving creative community in a safe and socially distanced manner. Hosted by the Gulfport Merchants Chamber\, all safety protocols are met and exceeded to ensure a safe and entertaining night out for the entire family. \nIndieFaire runs from 5-9pm on the third Saturday of each month.
URL:https://www.paradisenewsfl.com/event/gulfport-third-saturday-indiefaire-2/
LOCATION:Downtown Gulfport\, Shore & Beach Blvd\, Gulfport\, FL\, 33707\, United States
CATEGORIES:Art,Gulfport
ATTACH;FMTTYPE=image/jpeg:https://www.paradisenewsfl.com/wp-content/uploads/2020/10/gulfport-indie-faerie.jpg
END:VEVENT
BEGIN:VEVENT
DTSTART;TZID=UTC:20210320T170000
DTEND;TZID=UTC:20210320T190000
DTSTAMP:20260423T055149
CREATED:20210304T195030Z
LAST-MODIFIED:20210304T195030Z
UID:21019-1616259600-1616266800@www.paradisenewsfl.com
SUMMARY:Best Seat in the House\, A Chair-ity Auction
DESCRIPTION:Benefiting the Gulfport Senior Center Foundation\, 16 local artists have adorned 10 chairs & 6 windows to to be auctioned off! Don’t miss this fun event! For more information\, please visit https://www.facebook.com/events/3670728146385933.
URL:https://www.paradisenewsfl.com/event/best-seat-in-the-house-a-chair-ity-auction/
LOCATION:Tiki Bar & Grill\, 5519 Shore Blvd. S.\, Gulfport\, FL\, 33707\, United States
CATEGORIES:ALL,Art,Gulfport
ATTACH;FMTTYPE=image/jpeg:https://www.paradisenewsfl.com/wp-content/uploads/2021/03/chair-ity-auction.jpg
END:VEVENT
BEGIN:VEVENT
DTSTART;TZID=UTC:20210320T090000
DTEND;TZID=UTC:20210320T120000
DTSTAMP:20260423T055149
CREATED:20210120T043903Z
LAST-MODIFIED:20210120T043903Z
UID:20073-1616230800-1616241600@www.paradisenewsfl.com
SUMMARY:2021 Great American Cleanup - Clam Bayou Cleanup
DESCRIPTION:Gulfport Grassroots in partnership with Keep Pinellas Beautiful will be hosting in the City of Gulfport’s 2021 Great American Cleanup – Clam Bayou Cleanup.\n\nThis is a perfect opportunity to volunteer your groups\, family members\, neighbors or just come on down solo to meet everyone and enjoy a beautiful morning at Clam Bayou. Directions to Clam Bayou are 49th Street S. to 29th Ave S. east to Miriam St. Volunteers should wear closed-toed shoes\, sun protection\, and weather appropriate clothing. Cleanup supplies and drinks will be provided.\n\nFor more information\, please contact 732-310-4932.\nhttps://www.facebook.com/GulfportGrassRoots
URL:https://www.paradisenewsfl.com/event/2021-great-american-cleanup-clam-bayou-cleanup/
LOCATION:Clam Bayou Nature Park\, 34th Ave. S. & 40th St. S.\, St. Petersburg\, FL\, 33705\, United States
CATEGORIES:ALL,Gulfport
ATTACH;FMTTYPE=image/jpeg:https://www.paradisenewsfl.com/wp-content/uploads/2016/05/beachcleanup.jpg
END:VEVENT
BEGIN:VEVENT
DTSTART;TZID=UTC:20210313T070000
DTEND;TZID=UTC:20210313T140000
DTSTAMP:20260423T055149
CREATED:20210304T194124Z
LAST-MODIFIED:20210304T194124Z
UID:21012-1615618800-1615644000@www.paradisenewsfl.com
SUMMARY:Gulfport Marina's Nautical Flea Market
DESCRIPTION:Interested in nautical equipment or finding cool fishing gear? Look no further than the Gulfport Marina’s Nautical Flea Market\, 7 a.m. – 2 p.m. Saturday\, March 13.\n\nFor more information\, contact the Marina office at 893-1071 for more information.
URL:https://www.paradisenewsfl.com/event/gulfport-marinas-nautical-flea-market/
LOCATION:City of Gulfport Marina\, 4630 29th Ave. S.\, Gulfport\, FL\, 33711\, United States
CATEGORIES:ALL,Boating,Gulfport
ATTACH;FMTTYPE=image/jpeg:https://www.paradisenewsfl.com/wp-content/uploads/2021/03/gulfport-nautical-flea-market.jpg
END:VEVENT
BEGIN:VEVENT
DTSTART;VALUE=DATE:20210313
DTEND;VALUE=DATE:20210314
DTSTAMP:20260423T055149
CREATED:20210304T202630Z
LAST-MODIFIED:20210304T202630Z
UID:21023-1615593600-1615679999@www.paradisenewsfl.com
SUMMARY:City of Gulfport City-Wide Yard Sale
DESCRIPTION:Gulfport residents\, dust off your unused stuff and clear out the clutter and sign up for the permit free City of Gulfport City-Wide Yard Sale\, scheduled for Saturday\, March 13 (rain date\, Sunday\, March 14). Do not miss this incredible opportunity to have your Gulfport address on the brochure for added visibility for free.\n\nThe City of Gulfport is now kindly accepting addresses to be added to this year’s City Wide Yard Sale brochure. Deadline to sign up is March 5 by 3 p.m. in order to make print deadline.\n\n“How do I register?”\n\nThe easiest way is to go to https://mygulfport.us/gulfport-city-wide-yard-sale and fill out the web form and hit submit.\nFor those who do not have internet\, you can also fill out a form at Gulfport City Hall\, 2401 53rd St. S. or the Gulfport Public Library\, 5501 28th Ave. S.\n\nSo get ready and get your address on the City Wide Yard Sale brochure today! For more information\, please call Kristin Ossola at 727-893-1118.
URL:https://www.paradisenewsfl.com/event/city-of-gulfport-city-wide-yard-sale/
LOCATION:Various Locations in Gulfport\, Gulfport\, FL\, United States
CATEGORIES:ALL,Gulfport
ATTACH;FMTTYPE=image/jpeg:https://www.paradisenewsfl.com/wp-content/uploads/2017/02/yard-sale.jpeg
END:VEVENT
BEGIN:VEVENT
DTSTART;TZID=UTC:20210306T110000
DTEND;TZID=UTC:20210306T170000
DTSTAMP:20260423T055149
CREATED:20210222T203436Z
LAST-MODIFIED:20210222T203436Z
UID:20716-1615028400-1615050000@www.paradisenewsfl.com
SUMMARY:16th Annual Gulfport Pink Flamingo Home Tour
DESCRIPTION:COVID-19 has made the world topsy turvy. Why should the Pink Flamingo Tour be any different? Although we hope by March 6\, 2021 most pandemic restrictions will have been lifted\, nobody knows for sure. So the committee that organizes Gulfport’s favorite springtime event tweaked it a bit and presents: \nGulfport’s 16th Annual Pink Flamingo Tour … of Gardens \nSaturday\, March 6\, 11 am to 5 pm. \nUnlike traditional Pink Flamingo tours\, this year we’re staying completely outdoors\, which makes distancing so much easier. We are also not limiting the tour to one neighborhood; you’ll have the opportunity to stroll through yards and gardens throughout the city. \nRegistration will take place at the Gulfport Rec Center\, 5730 Shore Blvd. \nFeel free to go at your own pace\, seeing properties in any order. Unfortunately\, we will not be able to provide transportation\, so we ask visitors to bike\, scoot or carpool. The tour skims Gulfport’s waterfront district\, so there will be plenty of time to take a lunch break or shop in our historic downtown. \nMasking and social distancing will be enforced\, and hand sanitizer will be plentiful. \nFor more information email pinkflamingo@visitgulfportflorida.com.
URL:https://www.paradisenewsfl.com/event/16th-annual-gulfport-pink-flamingo-home-tour/
LOCATION:City of Gulfport\, Gulfport\, FL\, United States
CATEGORIES:ALL,Gulfport
ATTACH;FMTTYPE=image/jpeg:https://www.paradisenewsfl.com/wp-content/uploads/2021/01/pink-flamingo-home-tour.jpg
END:VEVENT
BEGIN:VEVENT
DTSTART;TZID=UTC:20210305T170000
DTEND;TZID=UTC:20210305T210000
DTSTAMP:20260423T055149
CREATED:20210302T184935Z
LAST-MODIFIED:20210302T184935Z
UID:20978-1614963600-1614978000@www.paradisenewsfl.com
SUMMARY:Gulfport First Friday Art Walk
DESCRIPTION:First Friday Art Walk is a juried event that welcomes emerging and professional artists in all media to engage our arts loving community in a safe\, creative and socially distanced manner. Hosted by the Gulfport Merchants Chamber\, all safety protocols are met and exceeded to ensure a safe and entertaining night out for the entire family. Come join us with free live music up and down the street. Follow the flags for artist clusters\, displaying paintings\, jewelry\, glass\, mixed media sculpture and more.\n\nFor more information\, please visit http://visitgulfportflorida.com/first-friday-art-walk/
URL:https://www.paradisenewsfl.com/event/gulfport-first-friday-art-walk-2/
LOCATION:Downtown Gulfport\, Shore & Beach Blvd\, Gulfport\, FL\, 33707\, United States
CATEGORIES:Art,Gulfport
ATTACH;FMTTYPE=image/jpeg:https://www.paradisenewsfl.com/wp-content/uploads/2020/10/first-friday-art-walk.jpg
END:VEVENT
BEGIN:VEVENT
DTSTART;TZID=UTC:20210227T100000
DTEND;TZID=UTC:20210227T170000
DTSTAMP:20260423T055149
CREATED:20210217T015458Z
LAST-MODIFIED:20210217T015458Z
UID:20661-1614420000-1614445200@www.paradisenewsfl.com
SUMMARY:Gulfport Get Rescued 2021
DESCRIPTION:Meet your new furry BFF\, or bring your own pup to downtown Gulfport to get the latest pet gear.\nThis year\, we celebrate the extended term of Gulfport’s pet mayor\, Coco. Coco lives at The Historic Peninsula Inn\, and last year won the title of Gulfport’s Pet Mayor by raising the most money for local rescues and the Gulfport Historical Society. Because 2020 didn’t go exactly as planned\, Coco will celebrate an extended term. Come meet her at Get Rescued!\nThis Gulfport tradition – sponsored by the Gulfport Merchants Chamber of Commerce – brings together Tampa Bay rescues for one day. Learn about the work of these dedicated organizations.\nCome celebrate and support rescues!\nThis event adheres to all #GulfportSTRONG rules about masks for vendors\, social distancing\, and hand-washing. The Gulfport Merchants Chamber of Commerce wants people to have a fun and safe time at this wonderful event.
URL:https://www.paradisenewsfl.com/event/gulfport-get-rescued-2021/
LOCATION:Downtown Gulfport\, Shore & Beach Blvd\, Gulfport\, FL\, 33707\, United States
CATEGORIES:ALL,Gulfport
ATTACH;FMTTYPE=image/jpeg:https://www.paradisenewsfl.com/wp-content/uploads/2021/01/gulfport-dog-mayor-1.jpg
END:VEVENT
BEGIN:VEVENT
DTSTART;TZID=UTC:20210220T170000
DTEND;TZID=UTC:20210220T210000
DTSTAMP:20260423T055149
CREATED:20210126T202043Z
LAST-MODIFIED:20210126T202043Z
UID:20176-1613840400-1613854800@www.paradisenewsfl.com
SUMMARY:Gulfport Third Saturday IndieFaire
DESCRIPTION:Welcome to Third Saturday IndieFaire! Making its debut on Beach Boulevard on October 17\, 2020\, Gulfport’s Third Saturday IndieFaire is an exciting new addition to the monthly calendar for arts lovers in Pinellas County. \nIndieFaire features high quality local art and contemporary crafts from across a wide range of mediums\, as well as jewelry and locally sourced botanicals in an outdoor and socially distanced manner along scenic Beach Boulevard in downtown Gulfport. \nThird Saturday IndieFaire is curated by a committee selecting participants that expresses the vibrant\, evolving and diverse creative community of Gulfport and the region. It’s a fun\, family-friendly event with live music\, street performers\, and uniquely designed-for-the-occasion morsels created by our local restaurants for dine-in or walk about eating. \nWe welcome you to become a part of our evolving creative community in a safe and socially distanced manner. Hosted by the Gulfport Merchants Chamber\, all safety protocols are met and exceeded to ensure a safe and entertaining night out for the entire family. \nIndieFaire runs from 5-9pm on the third Saturday of each month.
URL:https://www.paradisenewsfl.com/event/gulfport-third-saturday-indiefaire/
LOCATION:Downtown Gulfport\, Shore & Beach Blvd\, Gulfport\, FL\, 33707\, United States
CATEGORIES:ALL,Art,Gulfport
ATTACH;FMTTYPE=image/jpeg:https://www.paradisenewsfl.com/wp-content/uploads/2020/10/gulfport-indie-faerie.jpg
END:VEVENT
BEGIN:VEVENT
DTSTART;VALUE=DATE:20210213
DTEND;VALUE=DATE:20210215
DTSTAMP:20260423T055149
CREATED:20210126T200650Z
LAST-MODIFIED:20210126T200650Z
UID:20168-1613174400-1613347199@www.paradisenewsfl.com
SUMMARY:9th Annual VETSports Beach Volleyball Gulfport Open
DESCRIPTION:Whether you served in the military or serve on the volleyball court\, join VETSports and the Tampa Bay Beach Bums for the 9th Annual games. \n\n\n\n\n\nAbout this Event \n\n\nAll VolleyAmerica players sign up through Tampa Bay Beach Bums (Sat & Sun). \nMens and Womens 2’s on Saturday\, February 13\, 2021 (8am Start) \nTrue Co-Ed 4’s (2 Girl Minimum) on Sunday\, February 14 – Noon – For Sunday only….players register here at EventBrite if you are NOT a Volley America member. \nCOURAGE. RESILIENCE. TEAMWORK. \nVETSPORTS IS A 501 (C) 3 TAX EXEMPT ORGANIZATION: EIN 46-0560244 \nhttp://www.VETSports.org \nVetSports is a nationwide non-profit helping veterans achieve better physical\, mental and emotional health through sports\, physical activity and community involvement.
URL:https://www.paradisenewsfl.com/event/9th-annual-vetsports-beach-volleyball-gulfport-open/
LOCATION:Gulfport Beach\, 5500 Shore Blvd S\, Gulfport\, 33707\, United States
CATEGORIES:ALL,Gulfport,Outdoors
ATTACH;FMTTYPE=image/jpeg:https://www.paradisenewsfl.com/wp-content/uploads/2021/01/vetsports.jpg
END:VEVENT
BEGIN:VEVENT
DTSTART;TZID=UTC:20210211T180000
DTEND;TZID=UTC:20210211T200000
DTSTAMP:20260423T055149
CREATED:20210126T201544Z
LAST-MODIFIED:20210126T201544Z
UID:20174-1613066400-1613073600@www.paradisenewsfl.com
SUMMARY:Gulfport Candidates Debate
DESCRIPTION:The Gabber Newspaper and the Gulfport Merchants Chamber of Commerce will co-host the Gulfport In Person/Zoom Candidate’s Debate on Thursday\, February 11th at the Catherine Hickman Theater of Gulfport. Social distancing and mask protocols will be enforced. For more information\, please visit www.eventbrite.com/e/gulfport-debates-tickets-131452817917.
URL:https://www.paradisenewsfl.com/event/gulfport-candidates-debate/
LOCATION:VIRTUAL EVENT
CATEGORIES:ALL,Gulfport
ATTACH;FMTTYPE=image/jpeg:https://www.paradisenewsfl.com/wp-content/uploads/2020/10/gulfport.jpg
END:VEVENT
BEGIN:VEVENT
DTSTART;TZID=UTC:20210206T090000
DTEND;TZID=UTC:20210206T150000
DTSTAMP:20260423T055149
CREATED:20201214T195056Z
LAST-MODIFIED:20201214T195056Z
UID:19301-1612602000-1612623600@www.paradisenewsfl.com
SUMMARY:2021 12th Annual So Classic Car Show
DESCRIPTION:49th Street South Business Association is working on a FUN project for everyone. After months of practicing the safe distancing at home\, it is time to get out and re-emerge into the community our projected car show date is February 6th 2021. Our goal will be to provide; FREE Admission to Bounce Houses for the kids\, Music throughout the day\, A Car Show for all ages\, Hot Dogs $2.00\, Hamburgers $3.00\, chips and Sodas $1.00.\n\nThis will be a free and open event to the whole community. For more information\, please visit https://so49.org/so-classic-car-show\n\nCar Entry: Early Registration: $15 | At the gate: $20
URL:https://www.paradisenewsfl.com/event/2021-12th-annual-so-classic-car-show/
LOCATION:Trolley Market Square\, Tangerine Ave. S. & 49th St. S\, Gulfport\, FL\, 33707\, United States
CATEGORIES:ALL,Gulfport
ATTACH;FMTTYPE=image/jpeg:https://www.paradisenewsfl.com/wp-content/uploads/2020/12/so-classic-car-show.jpg
END:VEVENT
BEGIN:VEVENT
DTSTART;TZID=UTC:20210205T170000
DTEND;TZID=UTC:20210205T210000
DTSTAMP:20260423T055149
CREATED:20210126T201357Z
LAST-MODIFIED:20210201T195638Z
UID:20172-1612544400-1612558800@www.paradisenewsfl.com
SUMMARY:Gulfport First Friday Art Walk
DESCRIPTION:First Friday Art Walk is a juried event that welcomes emerging and professional artists in all media to engage our arts loving community in a safe\, creative and socially distanced manner. Hosted by the Gulfport Merchants Chamber\, all safety protocols are met and exceeded to ensure a safe and entertaining night out for the entire family. Come join us with free live music up and down the street. Follow the flags for artist clusters\, displaying paintings\, jewelry\, glass\, mixed media sculpture and more.\n\nFor more information\, please visit http://visitgulfportflorida.com/first-friday-art-walk/
URL:https://www.paradisenewsfl.com/event/gulfport-first-friday-art-walk/
LOCATION:Downtown Gulfport\, Shore & Beach Blvd\, Gulfport\, FL\, 33707\, United States
CATEGORIES:ALL,Art,Gulfport
ATTACH;FMTTYPE=image/jpeg:https://www.paradisenewsfl.com/wp-content/uploads/2020/10/first-friday-gulfport-4.jpg
END:VEVENT
BEGIN:VEVENT
DTSTART;TZID=UTC:20210130T100000
DTEND;TZID=UTC:20210130T120000
DTSTAMP:20260423T055149
CREATED:20210120T054822Z
LAST-MODIFIED:20210120T054822Z
UID:20090-1612000800-1612008000@www.paradisenewsfl.com
SUMMARY:Gulfport Book Donation Drive By
DESCRIPTION:Mark your calendar now for the next Circle of Friends Book Donation Drive By at the Gulfport Library (5501 28th Ave. S.) on Saturday\, January 30\, from 10 a.m. – Noon. There is a limit of 2 boxes accepted per vehicle.\nCheck out all the upcoming events the Gulfport Public Library has to offer on their Facebook page.
URL:https://www.paradisenewsfl.com/event/gulfport-book-donation-drive-by/
LOCATION:Gulfport Public Library\, 5501 28th Ave. S.\, Gulfport\, FL\, 33707\, United States
CATEGORIES:ALL,Gulfport
ATTACH;FMTTYPE=image/jpeg:https://www.paradisenewsfl.com/wp-content/uploads/2021/01/guflport-drive-by-books.jpg
END:VEVENT
BEGIN:VEVENT
DTSTART;TZID=UTC:20210116T170000
DTEND;TZID=UTC:20210116T210000
DTSTAMP:20260423T055149
CREATED:20210114T015251Z
LAST-MODIFIED:20210114T020005Z
UID:19975-1610816400-1610830800@www.paradisenewsfl.com
SUMMARY:Gulfport IndieFaire Market
DESCRIPTION:Welcome to Third Saturday IndieFaire! IndieFaire features high quality local art and contemporary crafts from across a wide range of mediums\, as well as jewelry and locally sourced botanicals in an outdoor and socially distanced manner along scenic Beach Boulevard in downtown Gulfport.\n\nFor more information\, please visit http://visitgulfportflorida.com/indiefaire/
URL:https://www.paradisenewsfl.com/event/gulfport-faire-market/
LOCATION:Downtown Gulfport\, Shore & Beach Blvd\, Gulfport\, FL\, 33707\, United States
CATEGORIES:ALL,Art,Gulfport
ATTACH;FMTTYPE=image/jpeg:https://www.paradisenewsfl.com/wp-content/uploads/2020/10/gulfport-indie-faerie.jpg
END:VEVENT
BEGIN:VEVENT
DTSTART;VALUE=DATE:20210116
DTEND;VALUE=DATE:20210117
DTSTAMP:20260423T055149
CREATED:20201214T194736Z
LAST-MODIFIED:20201214T194736Z
UID:19298-1610755200-1610841599@www.paradisenewsfl.com
SUMMARY:City of Gulfport City-Wide Yard Sale
DESCRIPTION:Gulfport residents\, dust off your unused stuff and clear out the clutter and sign up for the permit free City of Gulfport City-Wide Yard Sale\, scheduled for Saturday\, January 16 (rain date\, Sunday\, January 17). Do not miss this incredible opportunity to have your Gulfport address on the brochure for added visibility for free.\n\nThe City of Gulfport is now kindly accepting addresses to be added to this year’s City Wide Yard Sale brochure. Deadline to sign up is January 8th by 3 p.m. in order to make print deadline.\n\n“How do I register?”\n\n• The easiest way is to go to https://mygulfport.us/gulfport-city-wide-yard-sale and fill out the web form and hit submit.\n\n• For those who do not have internet\, you can also fill out a form at Gulfport City Hall\, 2401 53rd St. S. or the Gulfport Public Library\, 5501 28th Ave. S.\n\nSo get ready and get your address on the City Wide Yard Sale brochure today! For more information\, please call Kristin Ossola at 727-893-1118.
URL:https://www.paradisenewsfl.com/event/city-of-gulfport-city-wide-yard-sale-3/
LOCATION:City of Gulfport\, Gulfport\, FL\, United States
CATEGORIES:ALL,Gulfport
ATTACH;FMTTYPE=image/jpeg:https://www.paradisenewsfl.com/wp-content/uploads/2020/12/city-gulfort-yard-sale.jpg
END:VEVENT
BEGIN:VEVENT
DTSTART;TZID=UTC:20210115T153000
DTEND;TZID=UTC:20210115T160000
DTSTAMP:20260423T055149
CREATED:20210107T201142Z
LAST-MODIFIED:20210107T201142Z
UID:19790-1610724600-1610726400@www.paradisenewsfl.com
SUMMARY:City of Gulfport Arbor Day Celebration
DESCRIPTION:The City of Gulfport invites everyone to attend Arbor Day to share their commitment to environmental stewardship with a special tree planting.\n\nJoin the City of Gulfport\, as we celebrate the life of trees and their importance to the environment. For more information\, please call 727-893-1118. All are welcome. Face coverings are required and please practice social distancing.
URL:https://www.paradisenewsfl.com/event/city-of-gulfport-arbor-day-celebration-2/
LOCATION:Gulfport City Facility\, 4526 29th Ave. S.\, Gulfport\, FL\, 33711\, United States
CATEGORIES:ALL,Gulfport
END:VEVENT
BEGIN:VEVENT
DTSTART;TZID=UTC:20210101T170000
DTEND;TZID=UTC:20210101T210000
DTSTAMP:20260423T055149
CREATED:20201214T194223Z
LAST-MODIFIED:20201214T194223Z
UID:19296-1609520400-1609534800@www.paradisenewsfl.com
SUMMARY:Gulfport First Friday Art Walk
DESCRIPTION:First Friday Art Walk is a juried event that welcomes emerging and professional artists in all media to engage our arts loving community in a safe\, creative and socially distanced manner. Hosted by the Gulfport Merchants Chamber\, all safety protocols are met and exceeded to ensure a safe and entertaining night out for the entire family. Come join us with free live music up and down the street. Follow the flags for artist clusters\, displaying paintings\, jewelry\, glass\, mixed media sculpture and more.\n\nFor more information\, please visit http://visitgulfportflorida.com/first-friday-art-walk/
URL:https://www.paradisenewsfl.com/event/gulfport-first-friday-art-walk-3/
LOCATION:Downtown Gulfport\, Shore & Beach Blvd\, Gulfport\, FL\, 33707\, United States
CATEGORIES:ALL,Art,Gulfport
ATTACH;FMTTYPE=image/jpeg:https://www.paradisenewsfl.com/wp-content/uploads/2020/10/first-friday-gulfport-4.jpg
END:VEVENT
BEGIN:VEVENT
DTSTART;TZID=UTC:20201219T170000
DTEND;TZID=UTC:20201219T210000
DTSTAMP:20260423T055149
CREATED:20201214T175026Z
LAST-MODIFIED:20201214T175026Z
UID:19286-1608397200-1608411600@www.paradisenewsfl.com
SUMMARY:Gulfport Third Saturday IndieFaire
DESCRIPTION:Welcome to Third Saturday IndieFaire! IndieFaire features high quality local art and contemporary crafts from across a wide range of mediums\, as well as jewelry and locally sourced botanicals in an outdoor and socially distanced manner along scenic Beach Boulevard in downtown Gulfport.\n\nFor more information\, please visit http://visitgulfportflorida.com/indiefaire/
URL:https://www.paradisenewsfl.com/event/gulfport-third-saturday-indiefaire-3/
LOCATION:Downtown Gulfport\, Shore & Beach Blvd\, Gulfport\, FL\, 33707\, United States
CATEGORIES:ALL,Art,Gulfport
ATTACH;FMTTYPE=image/jpeg:https://www.paradisenewsfl.com/wp-content/uploads/2020/10/gulfport-indie-faerie.jpg
END:VEVENT
BEGIN:VEVENT
DTSTART;TZID=UTC:20201212T183000
DTEND;TZID=UTC:20201212T203000
DTSTAMP:20260423T055149
CREATED:20201029T182435Z
LAST-MODIFIED:20201117T200927Z
UID:18257-1607797800-1607805000@www.paradisenewsfl.com
SUMMARY:35th Annual BCYC Lighted Holiday Boat Parade
DESCRIPTION:The Boca Ciega Yacht Club (BCYC)\, a not for profit\norganization\, is announcing the 35th year of its Lighted Christmas Boat\nParade which will be held on Saturday\, December 12\, 2020 beginning at 6:30\npm. BCYC conducts the boat parade to generate donations and other support\nfor the Gulfport Police Department’s Operation Santa charity which\nprovides gifts to children whose Christmas’s would otherwise be less\njoyous without the generous support of the Gulfport community. This year\nwill mark BCYC’s 20th year of proudly supporting this wonderful program. \nThe Annual Lighted Christmas Boat Parade is an all-volunteer event\norganized by the members of BCYC and is an event happily shared with the\nresidents of Gulfport\, South Pasadena\, and St. Petersburg. Members spend\nmany hours planning and then decorating their boats for maximum enjoyment.\nThis year has been a very hard year for everyone and BCYC is happy to\n“flip it” so instead of soliciting donations from local businesses to be\nprizes for the boat captains\, BCYC will instead purchase gift certificates\nfrom the local businesses as the prizes. We want to support our local\ncommunity in a year that has been difficult and as many of our long-time\nsupporters are struggling. \nThe parade will begin by entering the Gulfport Municipal Marina at\napproximately 6:30 pm. It will then travel past the William’s Pier &\nCasino in Gulfport past the beaches and into the canals of Town Shores\nCondominiums and Pasadena Yacht Club Estates before returning to BCYC.\nThis year\, due to social-distancing and other safety protocols\, BCYC has\ncanceled the post-parade party. \nThere is an entry fee for each boat of two unwrapped toys or a monetary\ndonation (checks must be made out to “Operation Santa”). Each year toys\nare collected for “Operation Santa\,” and presented to Gulfport’s Police\nDepartment for distribution to needy children. Both sail and power boats\nare welcome to join in the fun and this event is open to both members and\nnon-members. \nRegistration is available online at\nhttp://www.sailbcyc.org/ChristmasBoatParade.
URL:https://www.paradisenewsfl.com/event/2020-bcyc-boat-parade/
LOCATION:Gulfport\, Gulfport\, FL\, United States
CATEGORIES:Boat Parades,Boating,Gulfport,Holiday Events
ATTACH;FMTTYPE=image/jpeg:https://www.paradisenewsfl.com/wp-content/uploads/2016/09/bcyc-lighted-boat-parade.jpg
END:VEVENT
END:VCALENDAR