BEGIN:VCALENDAR
VERSION:2.0
PRODID:-//Paradise News Magazine - ECPv6.15.20//NONSGML v1.0//EN
CALSCALE:GREGORIAN
METHOD:PUBLISH
X-ORIGINAL-URL:https://www.paradisenewsfl.com
X-WR-CALDESC:Events for Paradise News Magazine
REFRESH-INTERVAL;VALUE=DURATION:PT1H
X-Robots-Tag:noindex
X-PUBLISHED-TTL:PT1H
BEGIN:VTIMEZONE
TZID:UTC
BEGIN:STANDARD
TZOFFSETFROM:+0000
TZOFFSETTO:+0000
TZNAME:UTC
DTSTART:20200101T000000
END:STANDARD
END:VTIMEZONE
BEGIN:VEVENT
DTSTART;TZID=UTC:20220416T100000
DTEND;TZID=UTC:20220416T120000
DTSTAMP:20260423T065609
CREATED:20220124T213042Z
LAST-MODIFIED:20220124T213042Z
UID:26622-1650103200-1650110400@www.paradisenewsfl.com
SUMMARY:St. Pete Beach Underwater Egg Hunt
DESCRIPTION:Join us at the St. Pete Beach Aquatic Center for a hopping good time! Registration begins April 1st\, for more information call         727-363-9264. \nWhen: April 16th \nTime: 10:00am-12:00pm \nFee: $5
URL:https://www.paradisenewsfl.com/event/st-pete-beach-underwater-egg-hunt/
LOCATION:St. Pete Beach Community Center\, 7701 Boca Ciega Dr \, St. Pete Beach\, FL\, 33706\, United States
CATEGORIES:ALL,Easter Events
END:VEVENT
BEGIN:VEVENT
DTSTART;VALUE=DATE:20210404
DTEND;VALUE=DATE:20210405
DTSTAMP:20260423T065609
CREATED:20210401T184650Z
LAST-MODIFIED:20210401T184650Z
UID:21650-1617494400-1617580799@www.paradisenewsfl.com
SUMMARY:Easter at Tradewinds Island Resorts
DESCRIPTION:The TradeWinds Island Grand will be serving Easter Brunch and Easter Dinner at their Palm Court Italian Grill restaurant. \nThese special menus will be served on Sunday\, Apr. 3. Brunch is available from Noon-2:30 p.m. For dinner\, a special Easter menu will be available\, as well as their full dinner menu. Dinner is available from 5:30-10 p.m. Menus can be viewed here and are also attached. \nTo make reservations for Palm Court Bistro\, please call 727-363-2358.
URL:https://www.paradisenewsfl.com/event/easter-at-tradewinds-island-resorts/
LOCATION:Tradewinds Island Resort\, 5500 Gulf Blvd\, St. Pete Beach\, FL\, 33706\, United States
CATEGORIES:ALL,Easter Events
ATTACH;FMTTYPE=image/jpeg:https://www.paradisenewsfl.com/wp-content/uploads/2020/11/tradewinds.jpg
END:VEVENT
BEGIN:VEVENT
DTSTART;TZID=UTC:20210403T100000
DTEND;TZID=UTC:20210403T120000
DTSTAMP:20260423T065609
CREATED:20210323T055333Z
LAST-MODIFIED:20210401T171819Z
UID:21354-1617444000-1617451200@www.paradisenewsfl.com
SUMMARY:Gulfport Hippity Hoppity Egg Hunt
DESCRIPTION:
URL:https://www.paradisenewsfl.com/event/gulfport-hippity-hoppity-egg-hunt/
LOCATION:Gulfport Recreation Center\, 5730 Shore Blvd. S.\, Gulfport\, FL\, 33707\, United States
CATEGORIES:ALL,Easter Events,Kids Events
END:VEVENT
END:VCALENDAR