BEGIN:VCALENDAR
VERSION:2.0
PRODID:-//Paradise News Magazine - ECPv6.15.20//NONSGML v1.0//EN
CALSCALE:GREGORIAN
METHOD:PUBLISH
X-WR-CALNAME:Paradise News Magazine
X-ORIGINAL-URL:https://www.paradisenewsfl.com
X-WR-CALDESC:Events for Paradise News Magazine
REFRESH-INTERVAL;VALUE=DURATION:PT1H
X-Robots-Tag:noindex
X-PUBLISHED-TTL:PT1H
BEGIN:VTIMEZONE
TZID:UTC
BEGIN:STANDARD
TZOFFSETFROM:+0000
TZOFFSETTO:+0000
TZNAME:UTC
DTSTART:20190101T000000
END:STANDARD
END:VTIMEZONE
BEGIN:VEVENT
DTSTART;TZID=UTC:20201212T180000
DTEND;TZID=UTC:20201212T210000
DTSTAMP:20260423T055001
CREATED:20201210T071227Z
LAST-MODIFIED:20201210T071249Z
UID:19218-1607796000-1607806800@www.paradisenewsfl.com
SUMMARY:Pass-a-Grille and Vina Del Mar Holiday Lighted Boat Parade
DESCRIPTION:Pass-a-Grille and Vina Del Mar’s Holiday Lighted Boat Parade is set for December 12th leaving Merry Pier at 6pm. Get all the details at merrypier.com.
URL:https://www.paradisenewsfl.com/event/pag-vdm-2020-parade/
LOCATION:Merry Pier\, 801 Pass-a-Grille Way\, St. Pete Beach\, FL\, 33706\, United States
CATEGORIES:ALL,Boat Parades,Boating,Holiday Events
ATTACH;FMTTYPE=image/jpeg:https://www.paradisenewsfl.com/wp-content/uploads/2020/12/pag-boat-parade.jpg
END:VEVENT
END:VCALENDAR