BEGIN:VCALENDAR
VERSION:2.0
PRODID:-//Paradise News Magazine - ECPv6.15.20//NONSGML v1.0//EN
CALSCALE:GREGORIAN
METHOD:PUBLISH
X-WR-CALNAME:Paradise News Magazine
X-ORIGINAL-URL:https://www.paradisenewsfl.com
X-WR-CALDESC:Events for Paradise News Magazine
REFRESH-INTERVAL;VALUE=DURATION:PT1H
X-Robots-Tag:noindex
X-PUBLISHED-TTL:PT1H
BEGIN:VTIMEZONE
TZID:UTC
BEGIN:STANDARD
TZOFFSETFROM:+0000
TZOFFSETTO:+0000
TZNAME:UTC
DTSTART:20190101T000000
END:STANDARD
END:VTIMEZONE
BEGIN:VEVENT
DTSTART;TZID=UTC:20220704T160000
DTEND;TZID=UTC:20220704T220000
DTSTAMP:20260423T054910
CREATED:20220630T194933Z
LAST-MODIFIED:20220630T215719Z
UID:30615-1656950400-1656972000@www.paradisenewsfl.com
SUMMARY:St. Pete Pier 4th of July Fireworks
DESCRIPTION:The outdoor family-friendly festivities will include fun activities on the Pier\, including the second annual St. Pete Pier Run\, a craft beer garden\, food trucks and local vendors\, live music on the Visit St. Pete Clearwater main stage\, from Nightrain\, a Guns N Roses tribute band and others\, roaming entertainers\, plus more! Sponsored by the City of St. Pete\, the traditional Fourth of July fireworks show will be visible from the downtown waterfront\, including Bayshore Dr\, Straub Parka and Vinoy Park\, among others. Leading up to the fireworks show\, the 13th US Army Band will be performing patriotic orchestra music.\n\nSince opening in July 2020\, the St. Pete Pier has welcomed thousands of visitors to discover and experience the Pier’s amazing restaurants\, colorful marketplace\, educational attractions\, fun and interactive play areas\, sparkling waterfront views\, stunning public art and so much more.\n\nTo learn more about the celebration\, visit www.thefourthstpete.com.\n\n\nWHEN\nMonday July 4\, 2022 from 4 p.m. to 10 p.m.\nThe Fourth fireworks Show will begin at 9 p.m. .\n\nWHERE\nSpa Beach Park at the St. Pete Pier\n800 2nd Ave NE\, St. Petersburg\, FL 33701\n\nTICKETS\nAdmission to The Fourth is free\, however\,private viewing ticketsfor the fireworks show are available for purchase and include access to a private bar\, prime fireworks viewing area on Spa Beach with guaranteed space for your own chair and blanket and more.\n\n\nPhoto courtesy of event organizers.
URL:https://www.paradisenewsfl.com/event/st-pete-pier-4th-of-july-fireworks/
LOCATION:Spa Beach Park at the Pier\, 615 2nd Ave NE\, St. Petersburg\, FL\, 33701\, United States
CATEGORIES:4th of July,5K,ALL
ATTACH;FMTTYPE=image/jpeg:https://www.paradisenewsfl.com/wp-content/uploads/2022/06/st-pete-pier-4th.jpg
END:VEVENT
BEGIN:VEVENT
DTSTART;TZID=UTC:20220704T070000
DTEND;TZID=UTC:20220704T093000
DTSTAMP:20260423T054910
CREATED:20220630T192802Z
LAST-MODIFIED:20220630T215629Z
UID:30611-1656918000-1656927000@www.paradisenewsfl.com
SUMMARY:St. Pete Run the 4th
DESCRIPTION:Gather your friends and family\, and kick off your 4th of July celebrations with St Pete Run the 4th! This 5K FUN RUN showcases the amazing St Pete Pier\, which opened in 2020\, as well as St Pete’s scenic waterfront. The course is closed to traffic\, but this event is NOT timed\, so you can run or walk and enjoy the scenery. \nEach runner will receive a patriotic run bib\, and food from Bolay Fresh Bold Kitchen and Astro ice cream included in the entry fee. The custom designed St Pete Run the 4th shirt/tank is available for additional purchase when registering\, and net proceeds from shirt sales will go towards a portable generator for the St Pete Youth Farm.
URL:https://www.paradisenewsfl.com/event/st-pete-run-the-4th/
LOCATION:Spa Beach Park at the Pier\, 615 2nd Ave NE\, St. Petersburg\, FL\, 33701\, United States
CATEGORIES:4th of July,5K,ALL
ATTACH;FMTTYPE=image/jpeg:https://www.paradisenewsfl.com/wp-content/uploads/2022/06/pier-run.jpg
END:VEVENT
BEGIN:VEVENT
DTSTART;TZID=UTC:20220703T090000
DTEND;TZID=UTC:20220703T110000
DTSTAMP:20260423T054910
CREATED:20220629T224145Z
LAST-MODIFIED:20220630T215545Z
UID:30578-1656838800-1656846000@www.paradisenewsfl.com
SUMMARY:The Independence Day 5K
DESCRIPTION:Come on out to Clearwater the morning of Sunday\, July 3\, 2022\, for the best Independence Day 5K in the USA! \nThis year our all new 2022 flaf finisher’s medals honor all Americans with a special emphasis on first responders both here and abroad. They are HUGE and you will live them! Don’t miss this family friendly 5K run or walk beginning at 9 a.m. Don’t worry about your speed we draw a very fun promotional crowd and Buffalo Wild Wings Clearwater\, 21688 US Hwy 19 N\, Clearwater\, FL 33765 one of our favorite post race party locations on the www.727CanRace.com calendar. \n  \nThis is an electronically timed 5K with a variety of one of our promotional race technical shirts and AN AWESOME ALL NEW 2022 finisher’s medals for all runners and walkers. Awards will be presented to the first 10 males and first 10 females across the finish line (and as always “some special categories ” )…..the rest of us will be out there in good fun in an electronically timed but non-competitive 3.1 mile run or walk along the Ream Wilson Trail in Clearwater. We record your time electronically up to 59 minutes and registration includes a technical race shirt\, sessions finisher’s medal\, and a post race party at Buffalo Wild Wings Clearwater presented by Michelob Ultra Organic Seltzer. \nThe race benefits the teens from Finish Lines For Scholarships 501c3. This year your supporting the DHS Basketball 🏀 team!
URL:https://www.paradisenewsfl.com/event/the-independence-day-5k/
LOCATION:Buffalo Wild Wings Clearwater\, 21688 US Hwy 19 North\, Clearwater\, FL\, 33765\, United States
CATEGORIES:4th of July,5K,ALL
ATTACH;FMTTYPE=image/jpeg:https://www.paradisenewsfl.com/wp-content/uploads/2017/01/running-sunset.jpg
END:VEVENT
BEGIN:VEVENT
DTSTART;VALUE=DATE:20220115
DTEND;VALUE=DATE:20220117
DTSTAMP:20260423T054910
CREATED:20211130T144929Z
LAST-MODIFIED:20211130T144929Z
UID:25647-1642204800-1642377599@www.paradisenewsfl.com
SUMMARY:St. Pete Beach Classic
DESCRIPTION:St. Pete Beach Classic Launches New Events for January 15-16\, 2022:  \nThe St. Pete Beach Classic\, the first premier community event of each year\, hits St. Pete Beach January 15-16\, with a host of exciting events\, including several new ones for 2022. The St. Pete Beach Classic welcomes novice and competitive runners and walkers with races for every endurance level including: 5K\, 10K\, Beach Fun Run\, Half Marathon\, Duo Competition\, Individual Marathon Challenge and Kids’ Dashes. The half marathon is the second race in the Burg to Beach to Bayshore series. The scenic racecourses run through the streets of beautiful St. Pete Beach\, the Sunset Capital of Florida and Trip Advisor’s #1 US Beach! The courses are certified\, flat\, and fast\, coursing by waterways and through neighborhoods. \n\nAll races begin and end at the Sirata Beach Resort & Conference Center\, \n5300 Gulf Blvd.\, St. Pete Beach.The weekend also features:\n1)  Health & Fitness Expo on Friday at the St. Pete Beach Rec Center; \n2)  Craft show featuring local artisans; \n3)  Beach volleyball experience complete with instruction\, demonstrations\, open play courts\, and games played by members of the Sunshine State Outdoor Volleyball Association; \n4)  Saturday events culminating in a free beach bonfire that night with live music from The Big Brother Band;\n5)  Juried fine art exhibition hosted by Bella Unica Art Gallery\, featuring local artists showcasing works inspired by St. Pete Beach’s natural beauty; \n6)  A beach cleanup Monday (Martin Luther King Day) from 9-11am with free parking and supplies. Delicious food available for purchase all weekend. Proceeds from the event will benefit designated charities. To sign up to volunteer or to participate or for more information than you even need\, visit \nwww.stpetebeachclassic.com
URL:https://www.paradisenewsfl.com/event/st-pete-beach-classic/
LOCATION:Sirata Beach Resort\, 5300 Gulf Blvd\, St. Pete Beach\, FL\, 33706\, United States
CATEGORIES:5K,ALL,St. Pete Beach
ATTACH;FMTTYPE=image/jpeg:https://www.paradisenewsfl.com/wp-content/uploads/2020/02/2020-spb-classic.jpg
END:VEVENT
BEGIN:VEVENT
DTSTART;TZID=UTC:20210813T190000
DTEND;TZID=UTC:20210813T200000
DTSTAMP:20260423T054910
CREATED:20210709T192808Z
LAST-MODIFIED:20210709T192808Z
UID:23361-1628881200-1628884800@www.paradisenewsfl.com
SUMMARY:Madeira Beach Sunset 5K
DESCRIPTION:Join us for the Madeira Beach Sunset 5K presented by: Hooters John’s Pass\, R.O.C. Park\, and the Kids Mile presented by: Holiday Isle Elks Lodge #1912. Both events will start/finish from John’s Pass Park in Madeira Beach. This is a timed event but all runners\, joggers\, and walkers are welcome!\nKids Mile: 7pm – Register Here\nSunset 5K: 7:15pm – Register Here\n*Start times are subject to change*\nPost run party at Hooter’s in John’s Pass Village.\nPre-registered participants will receive a race themed beach towel.\nFor sponsorship information or questions\, please contact the Madeira Beach Recreation Department at 727-392-0665.
URL:https://www.paradisenewsfl.com/event/madeira-beach-sunset-5k/
LOCATION:Johns Pass Park\, 12901 Gulf Blvd\, Madeira Beach\, FL\, 33708\, United States
CATEGORIES:5K,ALL
ATTACH;FMTTYPE=image/jpeg:https://www.paradisenewsfl.com/wp-content/uploads/2021/07/mad-beach-sunset-5k.jpeg
END:VEVENT
BEGIN:VEVENT
DTSTART;VALUE=DATE:20201127
DTEND;VALUE=DATE:20201212
DTSTAMP:20260423T054910
CREATED:20201020T202251Z
LAST-MODIFIED:20201117T202430Z
UID:18180-1606435200-1607731199@www.paradisenewsfl.com
SUMMARY:38th Annual Boley Centers Jingle Bell Run
DESCRIPTION:Boley Centers 38th Annual Jingle Bell Run supports the non-profit mission of Boley Centers who has been providing permanent housing\, employment\, and mental health services for the past 50 Years.\n\nThere are hundreds of virtual runs to choose from this year\, but why not choose one that makes a difference in the lives of individuals and families who are experiencing homelessness?\n\n100% of the proceeds go back into our housing programs and services and you can tune in live on December 11 to see and hear the best local bands streaming your favorite holiday classics.
URL:https://www.paradisenewsfl.com/event/38th-annual-boley-centers-jingle-bell-run/
LOCATION:VIRTUAL EVENT
CATEGORIES:5K,Holiday Events,St. Petersburg
ATTACH;FMTTYPE=image/jpeg:https://www.paradisenewsfl.com/wp-content/uploads/2020/10/38-jingle-bell-run.jpg
END:VEVENT
END:VCALENDAR