BEGIN:VCALENDAR
VERSION:2.0
PRODID:-//Paradise News Magazine - ECPv6.15.20//NONSGML v1.0//EN
CALSCALE:GREGORIAN
METHOD:PUBLISH
X-ORIGINAL-URL:https://www.paradisenewsfl.com
X-WR-CALDESC:Events for Paradise News Magazine
REFRESH-INTERVAL;VALUE=DURATION:PT1H
X-Robots-Tag:noindex
X-PUBLISHED-TTL:PT1H
BEGIN:VTIMEZONE
TZID:UTC
BEGIN:STANDARD
TZOFFSETFROM:+0000
TZOFFSETTO:+0000
TZNAME:UTC
DTSTART:20210101T000000
END:STANDARD
END:VTIMEZONE
BEGIN:VEVENT
DTSTART;TZID=UTC:20221001T190000
DTEND;TZID=UTC:20221001T220000
DTSTAMP:20260423T200524
CREATED:20220811T204443Z
LAST-MODIFIED:20220811T205954Z
UID:32339-1664650800-1664661600@www.paradisenewsfl.com
SUMMARY:SHARKTOBERFEST at MOTE
DESCRIPTION:Raise a glass with Mote during Sharktoberfest\, a craft beer festival in the Aquarium after hours! \nOn October 1 from 7 p.m. to 10 p.m.\, Mote will host Sharktoberfest\, featuring more than 15 local and regional breweries. Each guest will receive a commemorative tasting glass for sampling and a branded gift bag. \nSharktoberfest guests will experience Mote Aquarium as they never have before\, with live entertainment\, food stations\, merchandise vendors and special experiences provided by Mote’s Education department. Dive into the fall season with Mote and join us for Sharktoberfest! \nTickets are on sale for $45. Buy now\, this event is anticipated to sell out!
URL:https://www.paradisenewsfl.com/event/sharktoberfest-at-mote/
LOCATION:MOTE Marine Lab\, 1600 Ken Thompson Parkway\, Sarasota\, FL\, 34236\, United States
ATTACH;FMTTYPE=image/jpeg:https://www.paradisenewsfl.com/wp-content/uploads/2022/08/sharktoberfest.jpg
END:VEVENT
BEGIN:VEVENT
DTSTART;TZID=UTC:20221001T200000
DTEND;TZID=UTC:20221001T220000
DTSTAMP:20260423T200524
CREATED:20220803T051446Z
LAST-MODIFIED:20220803T051611Z
UID:32016-1664654400-1664661600@www.paradisenewsfl.com
SUMMARY:The Florida Orchestra’s 55th Celebration
DESCRIPTION:Legendary violin superstar Itzhak Perlman will perform with The Florida Orchestra for its 55th Celebration concert on Saturday\, Oct. 1\, 2022\, at 8 pm at the Mahaffey Theater\, conducted by TFO Music Director Michael Francis\, the orchestra announced today. The benefit concert launches the 2022-23 season and supports TFO’s music and education programs. \nUndeniably the reigning virtuoso of the violin\, Perlman enjoys superstar status rarely afforded a classical musician. He will join the orchestra for its 55th season opener to perform some of his favorite movie music\, including the Theme from Schindler’s List – which he performed in the Academy Award-winning film – along with As Time Goes By from Casablanca\, the love theme from Cinema Paradiso and more. \nBeloved for his charm and humanity as well as his talent\, Perlman has received 16 Grammy Awards\, four Emmy Awards\, a Kennedy Center Honor\, a Grammy Lifetime Achievement Award and a Genesis Prize. Perlman has received multiple distinctions from U.S. presidents\, including a Presidential Medal of Freedom\, the nation’s highest civilian honor\, in 2015. For more about Perlman\, click here. \nConcert tickets go on sale exclusively to Florida Orchestra subscribers and top donors on Monday\, Aug. 8\, 2022\, at 10 am\, and to the general public on Monday\, Aug. 15\, at 10 am. Concert tickets are $75\, $125\, $175 and $225. Limited individual VIP tickets will be available for $550. All tickets will be available at FloridaOrchestra.org; 727.892.3337 or 1.800.662.7286; and the TFO Ticket Center. \nVIP individual and select sponsorships are limited availability\, and include premium concert seating\, a pre-concert reception with bar and hors d’oeuvres at the Duke Energy Center for the Arts – Mahaffey Theater overlooking the St. Petersburg waterfront. Sponsorships of featured guest artist\, conductor\, concertmaster and concert program music selections include other benefits. For information\, please contact TFO Chief Development Officer Susana Weymouth at (727) 362-5430 or sweymouth@floridaorchestra.org \nThe Florida Orchestra’s 55th Celebration Featuring Itzhak Perlman is the premier fundraising event of the 2022-23 season for the state’s largest professional orchestra\, and the only arts organization that bridges Tampa Bay. Non-profit TFO exists to INSPIRE – UNITE – EDUCATE as we build community through the power of music. The benefit concert supports TFO’s high standard of artistic excellence on stage as well as robust education and community programs all year long\, including free TFO Strings for Kids violin classes\, Youth Concerts and more. The event’s honorary co-chairs are Montserrat and Emmanuel Cerf. \nThe following weekend\, Oct. 7-9\, Maestro Francis will debut the Hough Family Foundation Masterworks series with the iconic Carmina Burana\, kicking off the classical series that ranges from Tchaikovsky’s Symphony No. 4 to Rachmaninoff’s Piano Concerto No. 2 and much more. The Raymond James Pops series includes blockbusters such as Harry Potter vs Star Wars and the Beatles’ iconic Abbey Road album. TFO will perform more than 100 concerts this season in venues throughout Tampa Bay. Single tickets go sale to the public Aug. 15; season tickets are available now. Details at FloridaOrchestra.org.
URL:https://www.paradisenewsfl.com/event/the-florida-orchestras-55th-celebration/
LOCATION:Mahaffey Theater\, 400 1st Street South\, St. Petersburg\, FL\, 33701\, United States
ATTACH;FMTTYPE=image/jpeg:https://www.paradisenewsfl.com/wp-content/uploads/2016/08/tfo.jpg
END:VEVENT
END:VCALENDAR