BEGIN:VCALENDAR
VERSION:2.0
PRODID:-//Paradise News Magazine - ECPv6.15.20//NONSGML v1.0//EN
CALSCALE:GREGORIAN
METHOD:PUBLISH
X-WR-CALNAME:Paradise News Magazine
X-ORIGINAL-URL:https://www.paradisenewsfl.com
X-WR-CALDESC:Events for Paradise News Magazine
REFRESH-INTERVAL;VALUE=DURATION:PT1H
X-Robots-Tag:noindex
X-PUBLISHED-TTL:PT1H
BEGIN:VTIMEZONE
TZID:UTC
BEGIN:STANDARD
TZOFFSETFROM:+0000
TZOFFSETTO:+0000
TZNAME:UTC
DTSTART:20210101T000000
END:STANDARD
END:VTIMEZONE
BEGIN:VEVENT
DTSTART;TZID=UTC:20220817T173000
DTEND;TZID=UTC:20220817T181500
DTSTAMP:20260423T183623
CREATED:20220811T150703Z
LAST-MODIFIED:20220811T150703Z
UID:32332-1660757400-1660760100@www.paradisenewsfl.com
SUMMARY:NUTRITION: FACT VS FICTION with Camilla Nichols\, MS
DESCRIPTION:THINGS YOU SHOULD KNOW FOR OPTIMAL HEALTH \nCome join Camilla Nichols\, MS to learn about what is commonly found in US processed foods that are banned in other countries; how to read a food label\, bar codes and PLU stickers so you know where your food comes from. Tips and recipes provided for quick and healthy meal preparation.  \nUltimately\, you alone are responsible for your health and wellbeing. Our fast paced\, convenience and immediate gratification-based culture does not promote health. Our health is directly linked to what we consume. Get proactive.  \nFind Camilla Nichols\, MS health advice on our website at https://www.paradisenewsfl.com/holistic-health/.
URL:https://www.paradisenewsfl.com/event/nutrition-fact-vs-fiction-with-camilla-nichols-ms/
LOCATION:The Centre St. Pete Beach\, 7525 Blind Pass Road\, St. Pete Beach\, FL\, 33706\, United States
ATTACH;FMTTYPE=image/jpeg:https://www.paradisenewsfl.com/wp-content/uploads/2022/05/camilla-nichols-edited.jpg
END:VEVENT
END:VCALENDAR