BEGIN:VCALENDAR
VERSION:2.0
PRODID:-//Paradise News Magazine - ECPv6.15.20//NONSGML v1.0//EN
CALSCALE:GREGORIAN
METHOD:PUBLISH
X-WR-CALNAME:Paradise News Magazine
X-ORIGINAL-URL:https://www.paradisenewsfl.com
X-WR-CALDESC:Events for Paradise News Magazine
REFRESH-INTERVAL;VALUE=DURATION:PT1H
X-Robots-Tag:noindex
X-PUBLISHED-TTL:PT1H
BEGIN:VTIMEZONE
TZID:UTC
BEGIN:STANDARD
TZOFFSETFROM:+0000
TZOFFSETTO:+0000
TZNAME:UTC
DTSTART:20210101T000000
END:STANDARD
END:VTIMEZONE
BEGIN:VEVENT
DTSTART;TZID=UTC:20220813T090000
DTEND;TZID=UTC:20220813T110000
DTSTAMP:20260423T184847
CREATED:20220803T175652Z
LAST-MODIFIED:20220803T175652Z
UID:32036-1660381200-1660388400@www.paradisenewsfl.com
SUMMARY:Historic St. Pete Trolley Tour
DESCRIPTION:Join St. Petersburg Museum of History Saturday\, August 13th for a historic trolley tour of the Sunshine City. From Thrill Hill and Roser Park to Coffee Pot and Mirror Lake\, the Museum of History and Star Trolley take you on a historic trip through St. Pete’s past.\n\n\nPlease note that reservations are required and seating is limited on the trolley.\n\nPlease arrive 15 minutes before departure. There will be no refunds or exchanges for those missing the tour after the trolley departs.\n \n\nMembers: $30 | Not-yet-members: $35
URL:https://www.paradisenewsfl.com/event/historic-st-pete-trolley-tour/
LOCATION:St. Petersburg Museum of History\, 335 2nd Ave NE\, St. Petersburg\, Florida\, 33701\, United States
ATTACH;FMTTYPE=image/jpeg:https://www.paradisenewsfl.com/wp-content/uploads/2020/07/spmoh-bench.jpg
END:VEVENT
END:VCALENDAR