BEGIN:VCALENDAR
VERSION:2.0
PRODID:-//Paradise News Magazine - ECPv6.15.20//NONSGML v1.0//EN
CALSCALE:GREGORIAN
METHOD:PUBLISH
X-WR-CALNAME:Paradise News Magazine
X-ORIGINAL-URL:https://www.paradisenewsfl.com
X-WR-CALDESC:Events for Paradise News Magazine
REFRESH-INTERVAL;VALUE=DURATION:PT1H
X-Robots-Tag:noindex
X-PUBLISHED-TTL:PT1H
BEGIN:VTIMEZONE
TZID:UTC
BEGIN:STANDARD
TZOFFSETFROM:+0000
TZOFFSETTO:+0000
TZNAME:UTC
DTSTART:20210101T000000
END:STANDARD
END:VTIMEZONE
BEGIN:VEVENT
DTSTART;TZID=UTC:20220810T100000
DTEND;TZID=UTC:20220810T150000
DTSTAMP:20260423T183734
CREATED:20220720T190427Z
LAST-MODIFIED:20220720T190427Z
UID:31358-1660125600-1660143600@www.paradisenewsfl.com
SUMMARY:South Pasadena Virtual Hurricane Preparedness Seminar
DESCRIPTION:Atlantic hurricane season started June 1st and runs through November 30th. The National Oceanic and Atmospheric Administration (NOAA) predicts a 65% chance of an above-average storm season this year and residents are encouraged to plan ahead. Fire Chief David Mixson and Deputy Fire Chief Emery Culverhouse will be holding virtual hurricane preparedness presentations to share information about evacuation plans\, supply lists\, alert systems\, and what to do after a storm event. Members of the public can log in to watch the presentations and will be given opportunities to ask questions. The presentations will also be broadcast live on the City’s government channel\, Spectrum channel 643. A viewing area will be available on the first floor of City Hall for those needing a place to watch the broadcast. \n10 AM Presentation\nZoom Link: https://us02web.zoom.us/j/87623577486\nMeeting ID: 876 2357 7486\nCall In Phone Number: 301-715-8592 \n2 PM Presentation\nZoom Link: https://us02web.zoom.us/j/83428509091\nMeeting ID: 834 2850 9091\nCall In Phone Number: 301-715-8592 \nFor more information about hurricane preparedness and the upcoming presentations\, please call the Public Safety Department at 727-344-1666.
URL:https://www.paradisenewsfl.com/event/south-pasadena-virtual-hurricane-preparedness-seminar/
LOCATION:Virtual
ATTACH;FMTTYPE=image/jpeg:https://www.paradisenewsfl.com/wp-content/uploads/2016/07/hurricane-image.jpg
END:VEVENT
END:VCALENDAR