BEGIN:VCALENDAR
VERSION:2.0
PRODID:-//Paradise News Magazine - ECPv6.15.20//NONSGML v1.0//EN
CALSCALE:GREGORIAN
METHOD:PUBLISH
X-ORIGINAL-URL:https://www.paradisenewsfl.com
X-WR-CALDESC:Events for Paradise News Magazine
REFRESH-INTERVAL;VALUE=DURATION:PT1H
X-Robots-Tag:noindex
X-PUBLISHED-TTL:PT1H
BEGIN:VTIMEZONE
TZID:UTC
BEGIN:STANDARD
TZOFFSETFROM:+0000
TZOFFSETTO:+0000
TZNAME:UTC
DTSTART:20210101T000000
END:STANDARD
END:VTIMEZONE
BEGIN:VEVENT
DTSTART;VALUE=DATE:20220704
DTEND;VALUE=DATE:20220705
DTSTAMP:20260423T171741
CREATED:20220629T184502Z
LAST-MODIFIED:20220630T215518Z
UID:30556-1656892800-1656979199@www.paradisenewsfl.com
SUMMARY:City of Gulfport 4th of July Celebration
DESCRIPTION:Wake up early and bring the kids to the Gulfport Marina’s Fishing Derby at the Michael J. Yakes Recreation Complex’s (5730 Shore Blvd. S.) from 8:00 a.m. to 10:30 a.m.. Registration is on the seawall and is always free. Registration starts at 7:30 a.m. today. Please bring your own fishing pole as the Marina’s staff will provide bait and prizes. \nThe Free Family Sand Sculpture Contest sponsored by the Gulfport Recreation Division will take place from 10:00 a.m. to \n12:00 p.m. on Gulfport’s very own Municipal Beach. The theme is “Patriotic”\, so bring your own tools and supplies\, registration begins at 9:30 a.m. Winners will be announced at 12:15 p.m. \nWelcome local businesses\, organizations\, family and friends in the City of Gulfport Independence Day Parade at 6 p.m. Bring your red\, white and blue and have some fun celebrating the 4th of July! The best viewing location is directly in front of the Casino at 6 p.m. \nA welcome by the Gulfport Mayor and City Councilmember’s. Northwest of the Casino steps. Immediately following the parade. \nLive music from the New Horizons Band of Gulfport as they perform patriotic music on the Casino Deck area at 7 p.m. \nAt 9 p.m.\, a phenomenal fireworks display will launch from the Williams Pier. The best viewing location is Gulfport Beach. \nPlease visit https://mygulfport.us/july_4th_celebration for more information or to register for the parade. Last day to sign-up for the parade is Monday\, June 27.
URL:https://www.paradisenewsfl.com/event/gulfport-4th-of-july-2022/
LOCATION:Downtown Gulfport\, Shore & Beach Blvd\, Gulfport\, FL\, 33707\, United States
CATEGORIES:4th of July,ALL
ATTACH;FMTTYPE=image/jpeg:https://www.paradisenewsfl.com/wp-content/uploads/2022/06/gulpfort-4th-2022.jpg
END:VEVENT
BEGIN:VEVENT
DTSTART;TZID=UTC:20220704T070000
DTEND;TZID=UTC:20220704T093000
DTSTAMP:20260423T171741
CREATED:20220630T192802Z
LAST-MODIFIED:20220630T215629Z
UID:30611-1656918000-1656927000@www.paradisenewsfl.com
SUMMARY:St. Pete Run the 4th
DESCRIPTION:Gather your friends and family\, and kick off your 4th of July celebrations with St Pete Run the 4th! This 5K FUN RUN showcases the amazing St Pete Pier\, which opened in 2020\, as well as St Pete’s scenic waterfront. The course is closed to traffic\, but this event is NOT timed\, so you can run or walk and enjoy the scenery. \nEach runner will receive a patriotic run bib\, and food from Bolay Fresh Bold Kitchen and Astro ice cream included in the entry fee. The custom designed St Pete Run the 4th shirt/tank is available for additional purchase when registering\, and net proceeds from shirt sales will go towards a portable generator for the St Pete Youth Farm.
URL:https://www.paradisenewsfl.com/event/st-pete-run-the-4th/
LOCATION:Spa Beach Park at the Pier\, 615 2nd Ave NE\, St. Petersburg\, FL\, 33701\, United States
CATEGORIES:4th of July,5K,ALL
ATTACH;FMTTYPE=image/jpeg:https://www.paradisenewsfl.com/wp-content/uploads/2022/06/pier-run.jpg
END:VEVENT
BEGIN:VEVENT
DTSTART;TZID=UTC:20220704T160000
DTEND;TZID=UTC:20220704T220000
DTSTAMP:20260423T171741
CREATED:20220630T194933Z
LAST-MODIFIED:20220630T215719Z
UID:30615-1656950400-1656972000@www.paradisenewsfl.com
SUMMARY:St. Pete Pier 4th of July Fireworks
DESCRIPTION:The outdoor family-friendly festivities will include fun activities on the Pier\, including the second annual St. Pete Pier Run\, a craft beer garden\, food trucks and local vendors\, live music on the Visit St. Pete Clearwater main stage\, from Nightrain\, a Guns N Roses tribute band and others\, roaming entertainers\, plus more! Sponsored by the City of St. Pete\, the traditional Fourth of July fireworks show will be visible from the downtown waterfront\, including Bayshore Dr\, Straub Parka and Vinoy Park\, among others. Leading up to the fireworks show\, the 13th US Army Band will be performing patriotic orchestra music.\n\nSince opening in July 2020\, the St. Pete Pier has welcomed thousands of visitors to discover and experience the Pier’s amazing restaurants\, colorful marketplace\, educational attractions\, fun and interactive play areas\, sparkling waterfront views\, stunning public art and so much more.\n\nTo learn more about the celebration\, visit www.thefourthstpete.com.\n\n\nWHEN\nMonday July 4\, 2022 from 4 p.m. to 10 p.m.\nThe Fourth fireworks Show will begin at 9 p.m. .\n\nWHERE\nSpa Beach Park at the St. Pete Pier\n800 2nd Ave NE\, St. Petersburg\, FL 33701\n\nTICKETS\nAdmission to The Fourth is free\, however\,private viewing ticketsfor the fireworks show are available for purchase and include access to a private bar\, prime fireworks viewing area on Spa Beach with guaranteed space for your own chair and blanket and more.\n\n\nPhoto courtesy of event organizers.
URL:https://www.paradisenewsfl.com/event/st-pete-pier-4th-of-july-fireworks/
LOCATION:Spa Beach Park at the Pier\, 615 2nd Ave NE\, St. Petersburg\, FL\, 33701\, United States
CATEGORIES:4th of July,5K,ALL
ATTACH;FMTTYPE=image/jpeg:https://www.paradisenewsfl.com/wp-content/uploads/2022/06/st-pete-pier-4th.jpg
END:VEVENT
BEGIN:VEVENT
DTSTART;TZID=UTC:20220704T170000
DTEND;TZID=UTC:20220704T213000
DTSTAMP:20260423T171741
CREATED:20220629T233407Z
LAST-MODIFIED:20220630T215609Z
UID:30587-1656954000-1656970200@www.paradisenewsfl.com
SUMMARY:Safety Harbor 4th of July Celebration
DESCRIPTION:Bring the whole family out for a July 4th Celebration Safety Harbor style. There will be children’s activities\, live entertainment\, food vendors\, and plenty of fun for the whole family. Get a good seat at the Marina or Waterfront Park because the best fireworks display in Tampa Bay goes off at exactly 9:00pm.
URL:https://www.paradisenewsfl.com/event/safety-harbor-4th-of-july-celebration/
LOCATION:Safety Harbor Waterfront Park\, 110 Veterans Memorial Ln\, Safety Harbor\, FL\, 34695\, United States
CATEGORIES:4th of July,ALL
ATTACH;FMTTYPE=image/jpeg:https://www.paradisenewsfl.com/wp-content/uploads/2018/06/fireworks.jpg
END:VEVENT
BEGIN:VEVENT
DTSTART;TZID=UTC:20220704T180000
DTEND;TZID=UTC:20220704T220000
DTSTAMP:20260423T171741
CREATED:20220629T224738Z
LAST-MODIFIED:20220630T215558Z
UID:30582-1656957600-1656972000@www.paradisenewsfl.com
SUMMARY:Clearwater Celebrates America
DESCRIPTION:Attendees can celebrate America’s birthday in style with the largest fireworks display in stadium history\, a star-studded concert by The Black Honkeys Band and fun activities and giveaways for kids of all ages. All-American culinary concessions\, such as hamburgers\, hot dogs and popcorn\, will be available on-site for purchase\, as well as adult beverages. \nGates open at 6 p.m. and fireworks begin around 9:15 p.m. \nThe annual fireworks display is temporarily relocating from its traditional venue at Coachman Park to BayCare Ballpark\, due to current Imagine Clearwater construction.  Clearwater Celebrates America – At the Ballpark is a ticketed-event.
URL:https://www.paradisenewsfl.com/event/clearwater-celebrates-america/
LOCATION:BayCare Ballpark\, 601 Old Coachman Rd\, Clearwater\, FL\, 33765\, United States
CATEGORIES:4th of July,ALL,Clearwater
ATTACH;FMTTYPE=image/jpeg:https://www.paradisenewsfl.com/wp-content/uploads/2022/06/clearwater-celebrates-america.jpg
END:VEVENT
BEGIN:VEVENT
DTSTART;TZID=UTC:20220704T210000
DTEND;TZID=UTC:20220704T213000
DTSTAMP:20260423T171741
CREATED:20220701T180010Z
LAST-MODIFIED:20220701T180010Z
UID:30664-1656968400-1656970200@www.paradisenewsfl.com
SUMMARY:St. Pete Beach 4th of July Fireworks
DESCRIPTION:This Independence Day\, the City of St. Pete Beach will be launching fireworks from the east end of Corey Avenue. The fireworks will begin at 9:00pm.\nThis is a great location for fireworks\, as many of our residents will be able to view from their own backyards. The same holds true for the area businesses and hotels. \nSpectators are encouraged to make reservations at local restaurants or hotels for viewing\, or pack a classic 4th of July picnic and enjoy the view from beautiful Horan Park.
URL:https://www.paradisenewsfl.com/event/st-pete-beach-4th-of-july-fireworks/
LOCATION:Corey Avenue\, Corey Avenue\, St. Pete Beach\, FL\, 33706\, United States
CATEGORIES:4th of July,ALL
ATTACH;FMTTYPE=image/jpeg:https://www.paradisenewsfl.com/wp-content/uploads/2022/07/spb-fireworks.jpeg
END:VEVENT
END:VCALENDAR