BEGIN:VCALENDAR
VERSION:2.0
PRODID:-//Paradise News Magazine - ECPv6.15.20//NONSGML v1.0//EN
CALSCALE:GREGORIAN
METHOD:PUBLISH
X-WR-CALNAME:Paradise News Magazine
X-ORIGINAL-URL:https://www.paradisenewsfl.com
X-WR-CALDESC:Events for Paradise News Magazine
REFRESH-INTERVAL;VALUE=DURATION:PT1H
X-Robots-Tag:noindex
X-PUBLISHED-TTL:PT1H
BEGIN:VTIMEZONE
TZID:UTC
BEGIN:STANDARD
TZOFFSETFROM:+0000
TZOFFSETTO:+0000
TZNAME:UTC
DTSTART:20210101T000000
END:STANDARD
END:VTIMEZONE
BEGIN:VEVENT
DTSTART;TZID=UTC:20220611T170000
DTEND;TZID=UTC:20220611T210000
DTSTAMP:20260423T155414
CREATED:20220607T161647Z
LAST-MODIFIED:20220607T161647Z
UID:29955-1654966800-1654981200@www.paradisenewsfl.com
SUMMARY:Second Saturday Art Walk
DESCRIPTION:The Central Arts District\, EDGE District\, Grand Central District\, Uptown Arts District\, Warehouse Arts District and downtown Waterfront Arts District unite every second Saturday of the month from 5 PM – 9 PM for this free celebration of the arts. We suggest you choose a district to park and walk to your favorite spots or discover new ones! \nMany of our ArtWalk studios/galleries celebrate the opening of brand new exhibitions during ArtWalk. Discover wonderful surprises\, visit your favorite artist\, or find a new one. All are waiting for your exploration\, conversation\, purchases\, and inspiration. Make an evening of it and stop for dinner\, drinks\, or dessert. \nWith 40 studios and galleries and some 200 artists of all disciplines\, it is impossible to take in the entire ArtWalk in one night! The Waterfront District galleries can be seen by using the FREE Downtown Looper\, which runs every 15 minutes. \nAlso\, check out our new Curate St. Pete | Virtual Gallery Tours of some of your favorite ArtWalk venues! \nThe St. Petersburg Arts Alliance coordinates the St. Petersburg Second Saturday ArtWalk with the EDGE District\, the Grand Central District\, and the Warehouse Arts District associations. \nArtWalk is a St. Petersburg Arts Alliance economic strategy to develop small businesses. Shop local! Join us in advocating for the arts\, facilitating the growth of our arts community\, and driving arts-related economic development in St. Petersburg. \nWould you like your studio/gallery included in ArtWalk? Click Here
URL:https://www.paradisenewsfl.com/event/second-saturday-art-walk-3/
LOCATION:Various Location in St. Petersburg
CATEGORIES:ALL,Art
ATTACH;FMTTYPE=image/jpeg:https://www.paradisenewsfl.com/wp-content/uploads/2022/06/st-pete-art-walk-2022.jpg
END:VEVENT
END:VCALENDAR