BEGIN:VCALENDAR
VERSION:2.0
PRODID:-//Paradise News Magazine - ECPv6.15.20//NONSGML v1.0//EN
CALSCALE:GREGORIAN
METHOD:PUBLISH
X-ORIGINAL-URL:https://www.paradisenewsfl.com
X-WR-CALDESC:Events for Paradise News Magazine
REFRESH-INTERVAL;VALUE=DURATION:PT1H
X-Robots-Tag:noindex
X-PUBLISHED-TTL:PT1H
BEGIN:VTIMEZONE
TZID:UTC
BEGIN:STANDARD
TZOFFSETFROM:+0000
TZOFFSETTO:+0000
TZNAME:UTC
DTSTART:20210101T000000
END:STANDARD
END:VTIMEZONE
BEGIN:VEVENT
DTSTART;TZID=UTC:20220603T170000
DTEND;TZID=UTC:20220603T210000
DTSTAMP:20260423T143118
CREATED:20220114T184614Z
LAST-MODIFIED:20220602T180334Z
UID:26533-1654275600-1654290000@www.paradisenewsfl.com
SUMMARY:Gulfport's First Friday Art Walk
DESCRIPTION:Gulfport’s First Friday Art Walk occurs each month from 5pm – 9pm. The streets of this creative town come to life with artists\, musicians and art appreciators. Come join us each First Friday of the month and get inspired! \nFirst Friday Art Walk is a juried event welcoming emerging and professional artists in all media to exhibit and sell in a safe\, creative and socially distanced manner. This event is hosted by the Gulfport Merchants Chamber. All safety protocols are met and exceeded to ensure a safe and entertaining night out for the entire family. \n  \nFour times a year Gulfport hosts ‘themed art walks’. Each theme is designed to open your mind to new ideas and solicit conversation. Whatever it does\, we trust you will leave inspired or ignited.
URL:https://www.paradisenewsfl.com/event/gulfports-first-friday-art-walk/
LOCATION:Downtown Gulfport\, Shore & Beach Blvd\, Gulfport\, FL\, 33707\, United States
ATTACH;FMTTYPE=image/jpeg:https://www.paradisenewsfl.com/wp-content/uploads/2020/10/first-friday-art-walk-2.jpg
END:VEVENT
END:VCALENDAR