BEGIN:VCALENDAR
VERSION:2.0
PRODID:-//Paradise News Magazine - ECPv6.15.20//NONSGML v1.0//EN
CALSCALE:GREGORIAN
METHOD:PUBLISH
X-WR-CALNAME:Paradise News Magazine
X-ORIGINAL-URL:https://www.paradisenewsfl.com
X-WR-CALDESC:Events for Paradise News Magazine
REFRESH-INTERVAL;VALUE=DURATION:PT1H
X-Robots-Tag:noindex
X-PUBLISHED-TTL:PT1H
BEGIN:VTIMEZONE
TZID:UTC
BEGIN:STANDARD
TZOFFSETFROM:+0000
TZOFFSETTO:+0000
TZNAME:UTC
DTSTART:20210101T000000
END:STANDARD
END:VTIMEZONE
BEGIN:VEVENT
DTSTART;TZID=UTC:20220521T093000
DTEND;TZID=UTC:20220521T110000
DTSTAMP:20260423T143107
CREATED:20220512T203744Z
LAST-MODIFIED:20220512T203744Z
UID:29154-1653125400-1653130800@www.paradisenewsfl.com
SUMMARY:
DESCRIPTION:Join the St. Petersburg Museum of History Saturday\, May 21st for our monthly Downtown Walking Tour of St. Pete! The tour explores the cultural history of downtown while viewing historic landmarks.\n\nThese 90-minute tours take place on the second Saturday of every month and depart from the Museum at 9:30AM. Admission is limited\, so reserve your spot today!\n\n\nReserve now-there are only 20 spots total! Parties are limited to 2 guests.\n\nPlease note that reservations are required and spots are limited.\n\n\n\nPlease arrive 15 minutes before departure. There will be no refunds or exchanges for those missing the tour after the it departs.\n \nThere are only 20 seats available and parties are limited to 2 members. \nReserve Your Seat Here!
URL:https://www.paradisenewsfl.com/event/29154/
LOCATION:St. Petersburg Museum of History\, 335 2nd Ave NE\, St. Petersburg\, Florida\, 33701\, United States
CATEGORIES:ALL
ATTACH;FMTTYPE=image/jpeg:https://www.paradisenewsfl.com/wp-content/uploads/2020/07/spmoh-sign.jpg
END:VEVENT
BEGIN:VEVENT
DTSTART;TZID=UTC:20220521T100000
DTEND;TZID=UTC:20220521T160000
DTSTAMP:20260423T143107
CREATED:20220511T022142Z
LAST-MODIFIED:20220511T022244Z
UID:29125-1653127200-1653148800@www.paradisenewsfl.com
SUMMARY:Floridania Fest 2022
DESCRIPTION:Gulfport Casino Ballroom\, 5500 Shore Blvd. S. \nADMISSION: $5 (children 14 and under free). \nDoor prizes every hour. \nCollectors of vintage Florida ephemera\, including souvenirs\, postcards\, books\, art and related memorabilia will be gathering for the 2022 Floridania Fest in Gulfport\, Florida. \nShow promoter Ken Breslauer\, who founded the Floridania Fest in 1994 at the Biltmore Hotel Coral Gables\, is the author of several Florida books relating to Florida souvenirs and collectibles. “The Floridania Fest is a fun\, informal gathering of vintage Florida enthusiasts\, stated Breslauer. “Many of the leading dealers of Florida travel souvenirs\, postcards\, books\, art and related vintage Florida collectibles will be attending. A wide range of Florida memorabilia will be available.”
URL:https://www.paradisenewsfl.com/event/floridania-fest-2022/
LOCATION:Gulfport Casino\, 5500 Bayshore Blvd S\, Gulfport\, FL\, 33707\, United States
CATEGORIES:ALL
ATTACH;FMTTYPE=image/jpeg:https://www.paradisenewsfl.com/wp-content/uploads/2022/05/floridania-fest.jpeg
ORGANIZER;CN="Florida Collector":MAILTO:KenBreslauer@gmail.com
END:VEVENT
BEGIN:VEVENT
DTSTART;TZID=UTC:20220521T110000
DTEND;TZID=UTC:20220521T140000
DTSTAMP:20260423T143107
CREATED:20220510T221346Z
LAST-MODIFIED:20220510T221346Z
UID:29114-1653130800-1653141600@www.paradisenewsfl.com
SUMMARY:Madeira Beach: On the Waves of Change Exhibit Opening
DESCRIPTION:Join us on Saturday\, May 21 from 11am to 2pm for the opening of the exhibit\, Madeira Beach: On the Waves of Change\, a new exhibit exploring the intersection of human and environmental history\, opening at Heritage Village. Sponsored by a grant from Florida Humanities\, this multimedia installation was created entirely by students in USF’s Judy Genshaft Honors College with support from Heritage Village staff. This beach bash kick off will feature Big Storm Coffee Co. with plenty of tasty beverages and delicious pastries and musical stylings of Lightning Jack Steel Drum Music.
URL:https://www.paradisenewsfl.com/event/madeira-beach-on-the-waves-of-change-exhibit-opening/
LOCATION:Heritage Village\, 11909 125th Street N\, Largo\, FL\, 33774\, United States
CATEGORIES:ALL
ATTACH;FMTTYPE=image/jpeg:https://www.paradisenewsfl.com/wp-content/uploads/2016/05/heritage-village-house.jpg
END:VEVENT
BEGIN:VEVENT
DTSTART;TZID=UTC:20220521T180000
DTEND;TZID=UTC:20220521T210000
DTSTAMP:20260423T143107
CREATED:20220510T210502Z
LAST-MODIFIED:20220510T210938Z
UID:29106-1653156000-1653166800@www.paradisenewsfl.com
SUMMARY:Creative Play Children’s Learning Center’s ‘Gather & Grow’ Fundraiser
DESCRIPTION:Creative Play Children’s Learning Center cordially invites you to ‘Gather & Grow’\, a fundraising reception that represents an important milestone in our journey to expand the school. \nThis magical affair will take place at Creative Play Children’s Learning Center on Saturday\, May 21st from 6:00 to 9:00 p.m. The evening will include a farm to table hors d’oeuvres experience\, performances from local musicians\, artwork on display and a silent auction. This will be an exciting opportunity to taste food fresh from the garden that the children help cultivate. Attendees will experience the captivating atmosphere of the school while learning more about the plans to grow in the community. 100% of proceeds raised from the evening will go to support the expansion of Creative Play.
URL:https://www.paradisenewsfl.com/event/creative-play-childrens-learning-centers-gather-grow-fundraiser/
LOCATION:Creative Play Children’s Learning Center\, 2624 54th Street South\, Gulfport\, FL\, 33707\, United States
ATTACH;FMTTYPE=image/jpeg:https://www.paradisenewsfl.com/wp-content/uploads/2022/05/learn-grow-fundraiser.jpg
END:VEVENT
END:VCALENDAR