BEGIN:VCALENDAR
VERSION:2.0
PRODID:-//Paradise News Magazine - ECPv6.15.20//NONSGML v1.0//EN
CALSCALE:GREGORIAN
METHOD:PUBLISH
X-WR-CALNAME:Paradise News Magazine
X-ORIGINAL-URL:https://www.paradisenewsfl.com
X-WR-CALDESC:Events for Paradise News Magazine
REFRESH-INTERVAL;VALUE=DURATION:PT1H
X-Robots-Tag:noindex
X-PUBLISHED-TTL:PT1H
BEGIN:VTIMEZONE
TZID:UTC
BEGIN:STANDARD
TZOFFSETFROM:+0000
TZOFFSETTO:+0000
TZNAME:UTC
DTSTART:20210101T000000
END:STANDARD
END:VTIMEZONE
BEGIN:VEVENT
DTSTART;TZID=UTC:20220519T173000
DTEND;TZID=UTC:20220519T213000
DTSTAMP:20260423T144102
CREATED:20220503T171859Z
LAST-MODIFIED:20220503T171859Z
UID:28964-1652981400-1652995800@www.paradisenewsfl.com
SUMMARY:Cars at Movies in the Park
DESCRIPTION:The best “small” event on the waterfront – Movies in the  Park – is back again this May! The evening starts with live music at 5:30 p.m. followed by the movie on the big screen at  dusk. The fun takes place in N. Straub Park\, between 4th Ave. & 5th Ave. NE at Beach Dr. \nIn lieu of charging for the event\, please consider the  gift of a donation or becoming a member of Preseve the ‘Burg online or at the event to help us  continue our efforts to protect our city’s history and  keep St. Pete special! \nCome early to get your favorite spot and to enjoy live music from The Joint Chiefs and grab some food from the ‘Burg’s best food vendors. Beer and wine will be available\, proceeds benefit Preserve the Burg and Jump for Kids. \nCars (2006) – While traveling to California to race against The King (Richard Petty) and Chick Hicks (Michael Keaton) for the Piston Cup Championship\, Lightning McQueen (Owen Wilson) becomes lost after falling out of his trailer in a run down town called Radiator Springs. While there he slowly befriends the town’s odd residents\, including Sally (Bonnie Hunt)\, Doc Hudson (Paul Newman) and Mater (Larry the Cable Guy). When it comes time for him to leave to championship is no longer his top priority.
URL:https://www.paradisenewsfl.com/event/cars-at-movies-in-the-park/
LOCATION:North Straub Park\, 400 Bay Shore Drive\, St. Petersburg\, 33701\, United States
CATEGORIES:ALL
ATTACH;FMTTYPE=image/jpeg:https://www.paradisenewsfl.com/wp-content/uploads/2018/04/preserve-the-burg-movies-logo.jpg
END:VEVENT
END:VCALENDAR