BEGIN:VCALENDAR
VERSION:2.0
PRODID:-//Paradise News Magazine - ECPv6.15.20//NONSGML v1.0//EN
CALSCALE:GREGORIAN
METHOD:PUBLISH
X-ORIGINAL-URL:https://www.paradisenewsfl.com
X-WR-CALDESC:Events for Paradise News Magazine
REFRESH-INTERVAL;VALUE=DURATION:PT1H
X-Robots-Tag:noindex
X-PUBLISHED-TTL:PT1H
BEGIN:VTIMEZONE
TZID:UTC
BEGIN:STANDARD
TZOFFSETFROM:+0000
TZOFFSETTO:+0000
TZNAME:UTC
DTSTART:20210101T000000
END:STANDARD
END:VTIMEZONE
BEGIN:VEVENT
DTSTART;TZID=UTC:20220518T170000
DTEND;TZID=UTC:20220518T200000
DTSTAMP:20260423T144153
CREATED:20220425T212907Z
LAST-MODIFIED:20220425T212907Z
UID:28585-1652893200-1652904000@www.paradisenewsfl.com
SUMMARY:Indian Shores Hurricane Awareness Event
DESCRIPTION:The Town of Indian Shores has scheduled its annual Hurricane Awareness Party for Wednesday\, May 18\, at 5:00 p.m. featuring Bay News 9 Meteorologist Brian McClure. Details below.
URL:https://www.paradisenewsfl.com/event/indian-shores-hurricane-awareness-event/
LOCATION:Indian Shores Municipal Center\, 19305 Gulf Blvd\, Indian Shores\, FL\, 33785\, United States
CATEGORIES:ALL
ATTACH;FMTTYPE=image/jpeg:https://www.paradisenewsfl.com/wp-content/uploads/2022/04/hurricane-awareness-party.jpg
END:VEVENT
END:VCALENDAR