BEGIN:VCALENDAR
VERSION:2.0
PRODID:-//Paradise News Magazine - ECPv6.15.20//NONSGML v1.0//EN
CALSCALE:GREGORIAN
METHOD:PUBLISH
X-ORIGINAL-URL:https://www.paradisenewsfl.com
X-WR-CALDESC:Events for Paradise News Magazine
REFRESH-INTERVAL;VALUE=DURATION:PT1H
X-Robots-Tag:noindex
X-PUBLISHED-TTL:PT1H
BEGIN:VTIMEZONE
TZID:UTC
BEGIN:STANDARD
TZOFFSETFROM:+0000
TZOFFSETTO:+0000
TZNAME:UTC
DTSTART:20210101T000000
END:STANDARD
END:VTIMEZONE
BEGIN:VEVENT
DTSTART;TZID=UTC:20220514T100000
DTEND;TZID=UTC:20220514T120000
DTSTAMP:20260423T145323
CREATED:20220512T201335Z
LAST-MODIFIED:20220512T201335Z
UID:29147-1652522400-1652529600@www.paradisenewsfl.com
SUMMARY:Madeira Beach Sea Turtle Nesting Season Expo
DESCRIPTION:Join the City of Madeira Beach for the Madeira Beach Sea Turtle Nesting Season Expo to learn a bit more on how we can help the turtles! Doors open at 10:00am with a short seminar with a Q&A section starting at 10:30am.\n\nOther participating organizations:\n\nClearwater Marine Aquarium\nTrash Pirates of Madeira Beach\nTrash Turtles\nWater Warrior Project\nKeep Pinellas Beautiful\nAlligator Discovery & Wildlife Center\nCity of Madeira Beach Staff
URL:https://www.paradisenewsfl.com/event/madeira-beach-sea-turtle-nesting-season-expo/
LOCATION:Madeira Beach City Hall\, 300 Municipal Drive\, Madeira Beach\, FL\, 33708\, United States
CATEGORIES:ALL
ATTACH;FMTTYPE=image/jpeg:https://www.paradisenewsfl.com/wp-content/uploads/2022/05/turtle-daze.jpeg
END:VEVENT
BEGIN:VEVENT
DTSTART;TZID=UTC:20220514T180000
DTEND;TZID=UTC:20220514T220000
DTSTAMP:20260423T145323
CREATED:20220512T202341Z
LAST-MODIFIED:20220512T202341Z
UID:29150-1652551200-1652565600@www.paradisenewsfl.com
SUMMARY:Treasure Island Block Party
DESCRIPTION:The City of Treasure Island is gonna rock\, gonna rock\, around the clock when Treasure Island’s favorite block party starts doing the twist around the clock tower downtown on Saturday\, May 14 from 6- 10 p.m. While everyone rocks to the music of The Black Honkeys and Chris Maning\, downtown restaurants will be offering up a full menu and outdoor dining while other businesses and vendors set up shop to showcase some of their goods and services. It’s an evening to let loose\, have some fun\, and rock around our charming beach community.\n\nTraffic detour routes during Rock Around the Clock:\n107th Avenue will be closed on Saturday\, May 14 between the hours of 4-11 p.m. from 1st Street East to Gulf Boulevard. East and westbound traffic can use 108th Avenue\, 106th Avenue and 104th Avenue as alternate routes.\n\nMetered parking will be available at the Treasure Island City Hall\, located at 120 108th Avenue; and at the Treasure Community Center and Park located at Gulf Boulevard and 106th Avenue (behind Walgreen’s).
URL:https://www.paradisenewsfl.com/event/treasure-island-block-party/
LOCATION:Downtown Treasure Island\, 134-170 107th Ave\, Treasure Island\, FL\, 33706\, United States
CATEGORIES:ALL
ATTACH;FMTTYPE=image/jpeg:https://www.paradisenewsfl.com/wp-content/uploads/2022/05/treasure-island-block-party.jpeg
END:VEVENT
END:VCALENDAR