BEGIN:VCALENDAR
VERSION:2.0
PRODID:-//Paradise News Magazine - ECPv6.15.20//NONSGML v1.0//EN
CALSCALE:GREGORIAN
METHOD:PUBLISH
X-WR-CALNAME:Paradise News Magazine
X-ORIGINAL-URL:https://www.paradisenewsfl.com
X-WR-CALDESC:Events for Paradise News Magazine
REFRESH-INTERVAL;VALUE=DURATION:PT1H
X-Robots-Tag:noindex
X-PUBLISHED-TTL:PT1H
BEGIN:VTIMEZONE
TZID:UTC
BEGIN:STANDARD
TZOFFSETFROM:+0000
TZOFFSETTO:+0000
TZNAME:UTC
DTSTART:20210101T000000
END:STANDARD
END:VTIMEZONE
BEGIN:VEVENT
DTSTART;TZID=UTC:20220511T160000
DTEND;TZID=UTC:20220511T180000
DTSTAMP:20260423T144101
CREATED:20220510T181314Z
LAST-MODIFIED:20220510T181314Z
UID:29101-1652284800-1652292000@www.paradisenewsfl.com
SUMMARY:St. Pete Beach Library Celebrates St. Pete Beach History and Special Memorial
DESCRIPTION:The St. Pete Beach Library is pleased to invite the public to an afternoon of history to be capped off with the unveiling of a memorial to a beloved former library administrator. The free event will be held at 4:00 PM on May 11th \, 2022. \nElizabeth Britt will share stories about the rich and interesting history of St. Pete Beach. From native tribes to tourists\, fish to kitsch\, military to municipality\, attendees will discover that there’s a lot more to discover in SPB than our award winning sugar sand beaches. Ms. Britt will also tell the story of how President Clinton influenced the city’s name. \nAfter the presentation\, there will be a special unveiling by the Friends of the St. Pete Beach Public Library honoring a former library administrator. Refreshments will be provided. \nSt. Pete Beach Library’s Director Betcinda Kettells said\, “We hope people will join us for this special afternoon program. While we all enjoy the beauty of our area\, few know the captivating history that has made St. Pete Beach the place it is today. This is a chance to hear some of our most intriguing stories and honor a favorite daughter of St. Pete Beach.”  \nThe event is free and open to the public.
URL:https://www.paradisenewsfl.com/event/spb-library-celebrates-spb-history/
LOCATION:St. Pete Beach Library\, 365 73rd Ave\, St. Pete Beach\, FL\, 33706\, United States
CATEGORIES:ALL
ATTACH;FMTTYPE=image/jpeg:https://www.paradisenewsfl.com/wp-content/uploads/2021/04/spb-library-computer.jpg
END:VEVENT
END:VCALENDAR