BEGIN:VCALENDAR
VERSION:2.0
PRODID:-//Paradise News Magazine - ECPv6.15.20//NONSGML v1.0//EN
CALSCALE:GREGORIAN
METHOD:PUBLISH
X-ORIGINAL-URL:https://www.paradisenewsfl.com
X-WR-CALDESC:Events for Paradise News Magazine
REFRESH-INTERVAL;VALUE=DURATION:PT1H
X-Robots-Tag:noindex
X-PUBLISHED-TTL:PT1H
BEGIN:VTIMEZONE
TZID:UTC
BEGIN:STANDARD
TZOFFSETFROM:+0000
TZOFFSETTO:+0000
TZNAME:UTC
DTSTART:20210101T000000
END:STANDARD
END:VTIMEZONE
BEGIN:VEVENT
DTSTART;VALUE=DATE:20220406
DTEND;VALUE=DATE:20220509
DTSTAMP:20260423T144153
CREATED:20220326T031548Z
LAST-MODIFIED:20220326T031548Z
UID:27857-1649203200-1652054399@www.paradisenewsfl.com
SUMMARY:American Stage in the Park: Footloose
DESCRIPTION:Get ready to kick off your Sunday shoes as the high-energy pop musical FOOTLOOSE dances into Demens Landing for American Stage in the Park’s 2022 production. Based on the explosive rock-n-roll musical movie\, this Broadway hit tells the story of Ren McCormack\, a big-city teen who finds himself out of place in a rural town where dancing has been outlawed. \nAs he tries to carve out a place for himself\, he ignites a revolution in the town as the younger generation rebels against the strict rules of the local preacher.  Through explosive choreography and invigorating songs\, FOOTLOOSE celebrates the spirit and optimism of young people fighting for change. \nPark opens at 6 PM | Show begins at 8 PM \nSPECIAL DATES: \nPay What You Can Previews: April 6-7\, 2022 \nOpening Night Gala: April 8\, 2022 \nPets in the Park Night: April 17\, 2022
URL:https://www.paradisenewsfl.com/event/american-stage-in-the-park-footloose/
LOCATION:Demen’s Landing\, Bayshore Drive SE & 2nd Ave S\, St. Petersburg\, FL\, 33701\, United States
ATTACH;FMTTYPE=image/jpeg:https://www.paradisenewsfl.com/wp-content/uploads/2022/03/american-stage-ad.jpg
END:VEVENT
BEGIN:VEVENT
DTSTART;VALUE=DATE:20220505
DTEND;VALUE=DATE:20220509
DTSTAMP:20260423T144153
CREATED:20220503T171152Z
LAST-MODIFIED:20220503T171152Z
UID:28955-1651708800-1652054399@www.paradisenewsfl.com
SUMMARY:Searchlight Hunt at Fairgrounds St. Pete
DESCRIPTION:Set out on a hunt with a UV flashlight to uncover otherwise invisible clues to activate a brand new artwork installation. Fun for kids and adults alike! \nAdditional questions? FAQ! \nLooking for Immersive Experience tickets only? Click Here
URL:https://www.paradisenewsfl.com/event/searchlight-hunt-at-fairgrounds-st-pete/
LOCATION:Fairgrounds St. Pete\, 800 28th St S\, St. Petersburg\, FL\, 33712\, United States
CATEGORIES:ALL
ATTACH;FMTTYPE=image/jpeg:https://www.paradisenewsfl.com/wp-content/uploads/2022/05/searchlight-hunt.jpg
END:VEVENT
BEGIN:VEVENT
DTSTART;TZID=UTC:20220505T173000
DTEND;TZID=UTC:20220505T193000
DTSTAMP:20260423T144153
CREATED:20220404T183410Z
LAST-MODIFIED:20220404T183410Z
UID:28116-1651771800-1651779000@www.paradisenewsfl.com
SUMMARY:Fiesta in the Gardens
DESCRIPTION:¡on Cinco de mayo! \nThursday\, May 5th 2022 from 5:30 p.m. – 7:30 p.m.\n@ Sunken Gardens\, 1825 4th St. N. \nEnjoy live music by MARIACHIS EN TAMPA LOS VIAJEROS \nFood provided by Cali St. Pete\nMexican Beers & Margaritas \nPlus a Docent Talk about the NEW History Center! \nTickets are $45
URL:https://www.paradisenewsfl.com/event/fiesta-in-the-gardens/
LOCATION:Sunken Gardens\,  1825 4th St N\, St. Petersburg\, FL\, 33704\, United States
CATEGORIES:ALL
ATTACH;FMTTYPE=image/jpeg:https://www.paradisenewsfl.com/wp-content/uploads/2022/04/fiesta-in-the-garden.jpg
END:VEVENT
BEGIN:VEVENT
DTSTART;TZID=UTC:20220505T173000
DTEND;TZID=UTC:20220505T203000
DTSTAMP:20260423T144153
CREATED:20220503T171506Z
LAST-MODIFIED:20220503T171506Z
UID:28960-1651771800-1651782600@www.paradisenewsfl.com
SUMMARY:Summer of Soul at Movies in the Park!
DESCRIPTION:The best “small” event on the waterfront – Movies in the  Park – is back again this May! The evening starts with live music at 5:30 p.m. followed by the movie on the big screen at  dusk. The fun takes place in N. Straub Park\, between 4th Ave. & 5th Ave. NE at Beach Dr. \nIn lieu of charging for the event\, please consider the  gift of a donation or becoming a member of Preseve the ‘Burg online or at the event to help us  continue our efforts to protect our city’s history and  keep St. Pete special! \nCome early to get your favorite spot and to enjoy live music from Kyah Robinson and grab some food from the ‘Burg’s best food vendors. Beer and wine will be available\, proceeds benefit Preserve the Burg and Jump for Kids. \nSummer of Soul (2021) – In his acclaimed debut as a filmmaker\, Ahmir “Questlove” Thompson presents a powerful and transporting documentary—part music film\, part historical record created around an epic event that celebrated Black history\, culture and fashion. Over the course of six weeks in the summer of 1969\, just one hundred miles south of Woodstock\, The Harlem Cultural Festival was filmed in Mount Morris Park (now Marcus Garvey Park). The footage was largely forgotten–until now. SUMMER OF SOUL shines a light on the importance of history to our spiritual well-being and stands as a testament to the healing power of music during times of unrest\, both past and present. The feature includes concert performances by Stevie Wonder\, Nina Simone\, Sly & the Family Stone\, Gladys Knight & the Pips\, Mahalia Jackson\, B.B. King\, The 5th Dimension and more.
URL:https://www.paradisenewsfl.com/event/summer-of-soul-at-movies-in-the-park/
LOCATION:North Straub Park\, 400 Bay Shore Drive\, St. Petersburg\, 33701\, United States
CATEGORIES:ALL
ATTACH;FMTTYPE=image/jpeg:https://www.paradisenewsfl.com/wp-content/uploads/2018/04/preserve-the-burg-movies-logo.jpg
END:VEVENT
END:VCALENDAR