BEGIN:VCALENDAR
VERSION:2.0
PRODID:-//Paradise News Magazine - ECPv6.15.20//NONSGML v1.0//EN
CALSCALE:GREGORIAN
METHOD:PUBLISH
X-WR-CALNAME:Paradise News Magazine
X-ORIGINAL-URL:https://www.paradisenewsfl.com
X-WR-CALDESC:Events for Paradise News Magazine
REFRESH-INTERVAL;VALUE=DURATION:PT1H
X-Robots-Tag:noindex
X-PUBLISHED-TTL:PT1H
BEGIN:VTIMEZONE
TZID:UTC
BEGIN:STANDARD
TZOFFSETFROM:+0000
TZOFFSETTO:+0000
TZNAME:UTC
DTSTART:20210101T000000
END:STANDARD
END:VTIMEZONE
BEGIN:VEVENT
DTSTART;VALUE=DATE:20220402
DTEND;VALUE=DATE:20220404
DTSTAMP:20260423T120847
CREATED:20220326T032134Z
LAST-MODIFIED:20220326T032134Z
UID:27859-1648857600-1649030399@www.paradisenewsfl.com
SUMMARY:Florida Botanical Gardens Spring Orchid Sale
DESCRIPTION:Spring Orchid Sale \nSaturday\, April 2-Sunday\, April 3\, 2022 from 9 AM-5 PM \nShop from a unique selection of vendors\, including orchids\, plants\, candles\, honey and more! \nShop from local vendors\, including orchids\, tropical plants\, honey\, candles and more! \nThe Botanical Bounty Gift Shop will be open with a variety of botanically-themed gifts and Florida Botanical Gardens merchandise for sale. \nLooking for more to do that weekend? Don’t miss their annual Tour of Public & Private Gardens on Sunday\, April 3rd from 10 AM-4 PM. \nFlorida Botanical Gardens is excited to welcome our participating vendors: Accent Orchids\, A Bee’s Place\, Miranda Orchids\, Bredren Orchids\, Winter Haven Orchids\, Lighthouse Hoya.
URL:https://www.paradisenewsfl.com/event/florida-botanical-gardens-spring-orchid-sale/
LOCATION:Florida Botanical Gardens\, 12520 Ulmerton Rd\, Largo\, FL\, 33774\, United States
CATEGORIES:ALL
ATTACH;FMTTYPE=image/jpeg:https://www.paradisenewsfl.com/wp-content/uploads/2022/03/flbg-orchid-sale-scaled.jpeg
END:VEVENT
BEGIN:VEVENT
DTSTART;TZID=UTC:20220403T130000
DTEND;TZID=UTC:20220403T170000
DTSTAMP:20260423T120847
CREATED:20220316T210514Z
LAST-MODIFIED:20220316T210640Z
UID:27683-1648990800-1649005200@www.paradisenewsfl.com
SUMMARY:Pass-a-Grille Woman's Club Gardens by the Sea Tour
DESCRIPTION:GARDENS BY THE SEA \nPAGWC’s Gardens by the Sea is a dock and garden tour of eleven docks and gardens on the island of Vina del Mar in the historic St Pete Beach community of Pass-a-Grille. Two tours are open to the public\, 1:00- 3:00 pm and 3:00-5:00pm\, on April 3\, 2022. Tickets prior to the event are $15.00 per person. Tickets can be purchased on Eventbrite.com\, https://www.eventbrite.com/e/269860308447\, Elizabeth’s Boutique and Wine Shop located at 350 Corey Ave\, St Pete Beach\, FL 33706 (727-254-952)\, and at Patchington women’s clothing store located at 5901 Sun Blvd\, Suite 116\, St Petersburg\, FL 33715 (727-865-0767).On the day of the event tickets may be purchased for $20.00 at the Vina del Mar Park located across from 291 South Isle Drive\, St Pete Beach. \nApril 3rd\, PAGWC is sponsoring a Party at the Park (Vina del Mar Park)where there will be pork sliders and salad plates available for $10.00. There will be presentations by the Pinellas Chapter of the Florida Native Plant Society\, The Garden Club of St Petersburg Inc.\, The Florida West Coast Orchid Society\, the University of Florida Master Gardner Volunteer Program and April Brader\, Doctor of Oriental Medicine. \nApril 3\, 2002 1:00 pm to 5:00pm\, rain or shine. \nDOING GREAT THINGS TOGETHER \nWelcome to the Pass–A-Grille Woman’s Club\, an organization of women committed to service to the communities in which we live\, including the Gulf Beaches\, St. Petersburg and Pinellas County. Founded in 1922\, we are the oldest social organization on Long Key Island. \nThe women of the PAGWC believe that a strong community is built on local activism and citizen involvement in civic activities. We organize events and provide services that help to foster neighborly relationships and keep our little slice of paradise clean\, safe and pleasant. Over that past 100 years of our existence\, we’ve helped make Pass-A-Grille a model beach community – and had a lot of fun doing it. \nPost Office Box 46763 \nSt. Pete Beach\, FL 33741
URL:https://www.paradisenewsfl.com/event/gardens-by-the-sea/
LOCATION:Pass-a-Grille Woman’s Club\, 2201 Pass-a-Grille Way\, St. Pete Beach\, FL\, 33706\, United States
CATEGORIES:ALL
ATTACH;FMTTYPE=image/jpeg:https://www.paradisenewsfl.com/wp-content/uploads/2022/03/passion-flower.jpg
ORGANIZER;CN="Pass-a-Grille Woman's Club":MAILTO:https://pagwc.clubexpress.com/
END:VEVENT
END:VCALENDAR