BEGIN:VCALENDAR
VERSION:2.0
PRODID:-//Paradise News Magazine - ECPv6.15.20//NONSGML v1.0//EN
CALSCALE:GREGORIAN
METHOD:PUBLISH
X-WR-CALNAME:Paradise News Magazine
X-ORIGINAL-URL:https://www.paradisenewsfl.com
X-WR-CALDESC:Events for Paradise News Magazine
REFRESH-INTERVAL;VALUE=DURATION:PT1H
X-Robots-Tag:noindex
X-PUBLISHED-TTL:PT1H
BEGIN:VTIMEZONE
TZID:UTC
BEGIN:STANDARD
TZOFFSETFROM:+0000
TZOFFSETTO:+0000
TZNAME:UTC
DTSTART:20210101T000000
END:STANDARD
END:VTIMEZONE
BEGIN:VEVENT
DTSTART;TZID=UTC:20220326T100000
DTEND;TZID=UTC:20220326T160000
DTSTAMP:20260423T130924
CREATED:20220224T202034Z
LAST-MODIFIED:20220224T202034Z
UID:27208-1648288800-1648310400@www.paradisenewsfl.com
SUMMARY:Gulfport's Art in the Yard Community Art Sale
DESCRIPTION:Registration is now open for Gulfport’s Art in the Yard event. Gulfport’s community art sale is a bi-annual event occurring in March and November that is open to all resident artists who reside in Gulfport. \nIt is a grassroots event that is sponsored by the City of Gulfport and organized by a few artists for the benefit of the entire arts community.
URL:https://www.paradisenewsfl.com/event/gulfports-art-in-the-yard-community-art-sale/
LOCATION:City of Gulfport\, Gulfport\, FL\, United States
CATEGORIES:ALL,Art
ATTACH;FMTTYPE=image/jpeg:https://www.paradisenewsfl.com/wp-content/uploads/2022/02/art-in-the-yard.jpeg
END:VEVENT
END:VCALENDAR