BEGIN:VCALENDAR
VERSION:2.0
PRODID:-//Paradise News Magazine - ECPv6.15.20//NONSGML v1.0//EN
CALSCALE:GREGORIAN
METHOD:PUBLISH
X-ORIGINAL-URL:https://www.paradisenewsfl.com
X-WR-CALDESC:Events for Paradise News Magazine
REFRESH-INTERVAL;VALUE=DURATION:PT1H
X-Robots-Tag:noindex
X-PUBLISHED-TTL:PT1H
BEGIN:VTIMEZONE
TZID:UTC
BEGIN:STANDARD
TZOFFSETFROM:+0000
TZOFFSETTO:+0000
TZNAME:UTC
DTSTART:20210101T000000
END:STANDARD
END:VTIMEZONE
BEGIN:VEVENT
DTSTART;VALUE=DATE:20220312
DTEND;VALUE=DATE:20220314
DTSTAMP:20260423T120938
CREATED:20220224T013131Z
LAST-MODIFIED:20220224T013131Z
UID:27175-1647043200-1647215999@www.paradisenewsfl.com
SUMMARY:Madeira Beach City Wide Garage Sale
DESCRIPTION:Join the City of Madeira Beach for the Annual City Wide Garage Sale Weekend\, sunrise to sunset on March 12th & 13th\,2022
URL:https://www.paradisenewsfl.com/event/madeira-beach-city-wide-garage-sale/
LOCATION:City of Madeira Beach\, Madeira Beach\, FL\, United States
CATEGORIES:ALL
ATTACH;FMTTYPE=image/jpeg:https://www.paradisenewsfl.com/wp-content/uploads/2022/02/madeira-beach-2022-garage-sale.jpeg
END:VEVENT
BEGIN:VEVENT
DTSTART;TZID=UTC:20220313T130000
DTEND;TZID=UTC:20220313T170000
DTSTAMP:20260423T120938
CREATED:20220224T051328Z
LAST-MODIFIED:20220224T051328Z
UID:27188-1647176400-1647190800@www.paradisenewsfl.com
SUMMARY:An Afternoon Wedding Stroll at Tampa Bay Watch
DESCRIPTION:Join us for an afternoon wedding show at the Tampa Bay Watch Marine and Education Center. We will host wedding vendor professionals from all over the Tampa Bay area\, including caterers\, florists\, DJs/entertainment specialists\, and photographers\, just to name a few! Our venue will also be available for tours for your big day.
URL:https://www.paradisenewsfl.com/event/an-afternoon-wedding-stroll-at-tampa-bay-watch/
LOCATION:Tampa Bay Watch\, 3000 Pinellas Bayway S\, Tierra Verde\, FL\, 33715\, United States
CATEGORIES:ALL
ATTACH;FMTTYPE=image/jpeg:https://www.paradisenewsfl.com/wp-content/uploads/2022/02/tbw-wedding.jpeg
END:VEVENT
BEGIN:VEVENT
DTSTART;TZID=UTC:20220313T140000
DTEND;TZID=UTC:20220313T160000
DTSTAMP:20260423T120938
CREATED:20220124T213950Z
LAST-MODIFIED:20220124T213950Z
UID:26635-1647180000-1647187200@www.paradisenewsfl.com
SUMMARY:St. Pete Beach Music in the Afternoon
DESCRIPTION:Join St. Pete Beach Recreation at our Boca Ciega Ballroom for our popular Music in the Afternoon Series featuring Lew Barrows and the Rhythm Kings! Enjoy listening to live music and dancing at 7701 Boca Ciega Dr. Each event is free and takes place from 2:00 to 4:00pm. Seating is provided.
URL:https://www.paradisenewsfl.com/event/st-pete-beach-music-in-the-afternoon/
LOCATION:Horan Park\, 7701 Boca Ciega Drive\, St. pete Beach\, FL\, 33706\, United States
CATEGORIES:ALL
ATTACH;FMTTYPE=image/jpeg:https://www.paradisenewsfl.com/wp-content/uploads/2016/06/horan-park-concert.jpg
END:VEVENT
END:VCALENDAR