BEGIN:VCALENDAR
VERSION:2.0
PRODID:-//Paradise News Magazine - ECPv6.15.20//NONSGML v1.0//EN
CALSCALE:GREGORIAN
METHOD:PUBLISH
X-WR-CALNAME:Paradise News Magazine
X-ORIGINAL-URL:https://www.paradisenewsfl.com
X-WR-CALDESC:Events for Paradise News Magazine
REFRESH-INTERVAL;VALUE=DURATION:PT1H
X-Robots-Tag:noindex
X-PUBLISHED-TTL:PT1H
BEGIN:VTIMEZONE
TZID:UTC
BEGIN:STANDARD
TZOFFSETFROM:+0000
TZOFFSETTO:+0000
TZNAME:UTC
DTSTART:20210101T000000
END:STANDARD
END:VTIMEZONE
BEGIN:VEVENT
DTSTART;VALUE=DATE:20220223
DTEND;VALUE=DATE:20220228
DTSTAMP:20260423T104828
CREATED:20220127T213018Z
LAST-MODIFIED:20220127T213018Z
UID:26678-1645574400-1646006399@www.paradisenewsfl.com
SUMMARY:13th St. Petersburg Jazz Festival
DESCRIPTION:The nonprofit EMIT is presenting the 13th St. Petersburg Jazz Festival February 23-27. We had to take a hiatus last year due to the pandemic. \nThe annual jazz festival is produced by the nonprofit EMIT in partnership this year with the Palladium Theater. EMIT has presented adventurous music and educational activities in St. Petersburg since 1995. \nThe lineup is: \n2/23 – O Som Do Jazz with Andrea Moraes Manson and special guests Rafael Pereira & Jose Valentino Ruiz. This Brazilian jazz group plays a diverse range of music including samba\, Bossa Nova\, MPB and Baião. Rafael tours with Janelle Monae and others. \n2/24 – Best of Blue Note with the James Suggs/Austin Vickrey Sextet \nThis group revisits great grooving Bebop standards from the Blue Note record label from Horace Silver\, Wayne Shorter\, Lee Morgan and others. \n2/25 – RADIOjazzHEAD a unique project directed by Pete Carney “jazzifying” the music of Radiohead and other 90s superbands with a 12-piece ensemble. \n2/26 – Singer Emma Hedrick and the Helios Jazz OrchestraRising jazz star Emma Hedrick joins the 18-piece jazz orchestra in a concert of big band favorites. \n2/27 – Chris Dingman TrioMystic music from New York vibraphonist/composer Chris Dingman with stellar Miami bassist Carlo DeRosa and L.A. drummer Rodolfo Zuniga. \nThese concerts will be held in the large Hough Hall at the Palladium Theater and will be socially distanced. Admission is $25 available from www.mypalladium.org
URL:https://www.paradisenewsfl.com/event/13th-st-petersburg-jazz-festival/
LOCATION:Palladium\, 253 Fifth Avenue North\, St. Petersburg\, FL\, 33701\, United States
ATTACH;FMTTYPE=image/jpeg:https://www.paradisenewsfl.com/wp-content/uploads/2016/11/music-notes.jpg
END:VEVENT
BEGIN:VEVENT
DTSTART;VALUE=DATE:20220225
DTEND;VALUE=DATE:20220228
DTSTAMP:20260423T104828
CREATED:20220111T053614Z
LAST-MODIFIED:20220203T053801Z
UID:26439-1645747200-1646006399@www.paradisenewsfl.com
SUMMARY:Firestone Grand Prix of St. Petersburg
DESCRIPTION:One of the premier events in St. Pete/Clearwater\, the Firestone Grand Prix races through the streets of downtown St. Pete as IndyCar’s season opening event.
URL:https://www.paradisenewsfl.com/event/firestone-grand-prix-of-st-petersburg/
LOCATION:Downtown St. Petersburg\, Beach Dr NE & 2nd Ave NE\, St. Petersburg\, FL\, 33701\, United States
ATTACH;FMTTYPE=image/jpeg:https://www.paradisenewsfl.com/wp-content/uploads/2022/02/2022-grand-prix-logo.jpg
END:VEVENT
BEGIN:VEVENT
DTSTART;TZID=UTC:20220225T190000
DTEND;TZID=UTC:20220225T210000
DTSTAMP:20260423T104828
CREATED:20220124T213327Z
LAST-MODIFIED:20220124T213327Z
UID:26627-1645815600-1645822800@www.paradisenewsfl.com
SUMMARY:St. Pete Beach Concerts in the Park
DESCRIPTION:Welcome to the Spring Concert Series in Horan Park! Bring your friends\, family and chairs and enjoy a night full of live entertainment! These are FREE events. Food\, beer\, and wine will be available for purchase. \nJan 28:   Fleetwood Max    (7pm-9pm) \nFeb 25:   U2.0 The Ultimate U2 Tribute (7pm-9pm) \nMar 25:   Trezz Hombres ZZ Top Tribute  (7pm-9pm) \nApr 15:   Beatle Beat Beatles Tribute     (7pm-9pm) \nLocation: Horan Park 7701 Boca Ciega Dr. St. Pete Beach FL\, 33706
URL:https://www.paradisenewsfl.com/event/st-pete-beach-concerts-in-the-park/
LOCATION:Horan Park\, 7701 Boca Ciega Drive\, St. pete Beach\, FL\, 33706\, United States
CATEGORIES:ALL
ATTACH;FMTTYPE=image/jpeg:https://www.paradisenewsfl.com/wp-content/uploads/2016/06/horan-park-concert.jpg
END:VEVENT
END:VCALENDAR