BEGIN:VCALENDAR
VERSION:2.0
PRODID:-//Paradise News Magazine - ECPv6.15.20//NONSGML v1.0//EN
CALSCALE:GREGORIAN
METHOD:PUBLISH
X-WR-CALNAME:Paradise News Magazine
X-ORIGINAL-URL:https://www.paradisenewsfl.com
X-WR-CALDESC:Events for Paradise News Magazine
REFRESH-INTERVAL;VALUE=DURATION:PT1H
X-Robots-Tag:noindex
X-PUBLISHED-TTL:PT1H
BEGIN:VTIMEZONE
TZID:UTC
BEGIN:STANDARD
TZOFFSETFROM:+0000
TZOFFSETTO:+0000
TZNAME:UTC
DTSTART:20210101T000000
END:STANDARD
END:VTIMEZONE
BEGIN:VEVENT
DTSTART;VALUE=DATE:20220211
DTEND;VALUE=DATE:20220221
DTSTAMP:20260423T104850
CREATED:20220203T222537Z
LAST-MODIFIED:20220203T222537Z
UID:26936-1644537600-1645401599@www.paradisenewsfl.com
SUMMARY:St. Pete City Theatre presents "Sin\, Sex & the C.I.A."
DESCRIPTION:International conflict finds an eager CIA agent\, an undersecretary of State\, a top-secret foreign representative\, and a caretaker holed up in a safehouse. Add two more seeking shelter from a storm. What could go wrong? Hilarity ensues in Sin\, Sex and the C.I.A. at St. Petersburg City Theatre running February 11 – 20. Jim Russell directs a great cast in this fun farce. \nTickets available at SPCityTheatre.org. $23+$2 fee\nFridays & Saturdays at 7:30 p.m.; Sundays at 2 p.m.\n4025 31st Street South\, St. Petersburg.
URL:https://www.paradisenewsfl.com/event/st-pete-city-theatre-presents-sin-sex-the-c-i-a/
LOCATION:St. Pete City Theatre\, 4025 31st Street South\, St. Petersburg\, FL\, 33712\, United States
CATEGORIES:ALL
ATTACH;FMTTYPE=image/png:https://www.paradisenewsfl.com/wp-content/uploads/2022/02/sin-sex-city.png
END:VEVENT
BEGIN:VEVENT
DTSTART;VALUE=DATE:20220212
DTEND;VALUE=DATE:20220214
DTSTAMP:20260423T104850
CREATED:20220114T184013Z
LAST-MODIFIED:20220114T184013Z
UID:26525-1644624000-1644796799@www.paradisenewsfl.com
SUMMARY:Gulfport Fine Arts Festival
DESCRIPTION:One of Florida’s most artistic towns\, Gulfport\, has a picturesque waterfront arts festival every winter. The Gulfport Fine Arts Festival hosts a select group of juried artists from across the country along Gulfport’s waterfront. Nestled against the waters of Boca Ciega Bay\, a park where an historic hotel once sat is home to artists for two days. \nThe boutique festival welcomes artists in all media\, and those who participate in this annual celebration of fine art tell us they love the festival for three reasons: the intimate gathering\, the caliber of the buyers\, and a show in a seaside city that celebrates art and artists in every corner. Select lodging available; restaurants\, coffee shops\, and bars within walking distance of the festival. \n10AM to 5PM Daily
URL:https://www.paradisenewsfl.com/event/gulfport-fine-arts-festival/
LOCATION:Gulfport Veteran’s Park\, 5350 31st Ave S\, Gulfport\, FL\, 33707\, United States
ATTACH;FMTTYPE=image/jpeg:https://www.paradisenewsfl.com/wp-content/uploads/2021/01/gulfport-fine-arts-festival.jpg
END:VEVENT
BEGIN:VEVENT
DTSTART;TZID=UTC:20220212T050000
DTEND;TZID=UTC:20220212T210000
DTSTAMP:20260423T104850
CREATED:20220109T040942Z
LAST-MODIFIED:20220109T040942Z
UID:26409-1644642000-1644699600@www.paradisenewsfl.com
SUMMARY:St. Pete 2nd Saturday Art Walk
DESCRIPTION:The Central Arts District\, EDGE District\, Grand Central District\, Warehouse Arts District and downtown Waterfront Arts District invite you to visit their studios and galleries on Saturday\, May 8th at various times throughout the day. \nCOVID guidelines will be in place at each individual venue. The ArtWalk trolleys will NOT be running this month due to not having enough space for social distancing.\nIf you do visit an ArtWalk venue this week or on Saturday\, be prepared to follow THEIR guidelines for entry into their establishment. Please note that each venue has different Saturday hours.\nHERE’S WHAT’S HAPPENING!\nDownload a PDF of these venues here!\n\nRelated
URL:https://www.paradisenewsfl.com/event/st-pete-2nd-saturday-art-walk-3/
LOCATION:Various Location in St. Petersburg
CATEGORIES:ALL,Art
ATTACH;FMTTYPE=image/jpeg:https://www.paradisenewsfl.com/wp-content/uploads/2021/02/art-walk-heart.jpg
END:VEVENT
BEGIN:VEVENT
DTSTART;TZID=UTC:20220212T100000
DTEND;TZID=UTC:20220212T170000
DTSTAMP:20260423T104850
CREATED:20220111T171639Z
LAST-MODIFIED:20220207T224922Z
UID:26453-1644660000-1644685200@www.paradisenewsfl.com
SUMMARY:Localtopia 2022
DESCRIPTION:Keep Saint Petersburg Local is proud to bring back Localtopia to Williams Park for its 9th year\, and our 2022 festival will be *our biggest EVER*!  LOCALTOPIA is St. Pete’s largest “Community Celebration of All Things Local” showcasing *OVER* 300 of our city’s favorite independent businesses and community organizations.  Voted “BEST FESTIVAL” two years in a row in the Tampa Bay Times’ “Best of the Best” Awards and nominated for “BEST FESTIVAL” by Visit St. Pete/Clearwater!  We’re honored that LOCALTOPIA has also been declared “The Event of the Year\,” has been referred to as “the most St. Pete-esque event a resident or visitor can attend\,” and many have called it *THE* best event ever in St. Pete!\nNEW FOR 2022: Even MORE local goodness as we’re adding *TWO more city blocks* to our festival footprint! In addition to Williams Park\, we will be CLOSING:\n3RD STREET between 1st and 3rd Avenues +\n2ND AVENUE between 2nd and 4th Streets\n+ we’re also adding a SECOND STAGE on 2nd Avenue!\nThis FREE* family-friendly festival also commemorates KSPL’s 10-Year Anniversary.\n* Please consider throwing something into the tip jars at the “Local Thirst Stations” to support LOCALTOPIA! *\nLOCALTOPIA has NOT been a pet-friendly event since 2016 due to large crowds. Please DO NOT bring your furry friends! We want to ensure that they (and our human friends) stay safe\, so we request that you *PLEASE LEAVE PETS AT HOME.* Thanks for your cooperation!\n\nLOCALTOPIA FEATURES:\nMAKERS & MERCHANTS: Art & Handcrafted Goods\, Artisanal + Plant-Based Food & Beverages\, Body/Self-Care\, Books\, Clothing & Accessories\, Home Decor\, Jewelry\, Pet\, Plants & Plant-Based Products\, Vintage\, Vinyl & Much More!\nVILLAGES in Williams Park : Arts Village | Family Village | Health & Wellness Village | #AllThingsPlants Village\nEAT\, DRINK & PLAY LOCAL on the streets of St. Pete:\n4TH STREET: Food Truck Rally Alley \n2ND AVENUE (from 2nd to 4th Streets): More Food Trucks + Restaurants \n+ Food & Drink Vendors\n+ “Local Thirst Stations” Selling Local Beer in Cans & Canned Wine \n+ Local Breweries Pouring Their Own Brews + Draft Beer Trucks \n3RD STREET (from 1st to 3rd Avenues): Boutiques | Vendors on Wheels | More Artists & Artisans + Collectives | Gourmet Food | Home Decor | DJs | Literary Corner | Street Fun \nLIVE LOCAL MUSIC on the Williams Park Bandstand + NEW SECOND Street Stage on 2nd Avenue \nSTREET PERFORMANCES + ENGAGING ACTIVITIES for All Ages\, Free Demos & Crafts\, Live Screen Printing\, and More Surprises!\nVOLUNTEERS NEEDED! SIGN UP HERE: bit.ly/localtopiavolunteer2022
URL:https://www.paradisenewsfl.com/event/localtopia-2022/
LOCATION:FL
CATEGORIES:ALL
ATTACH;FMTTYPE=image/jpeg:https://www.paradisenewsfl.com/wp-content/uploads/2022/01/localtopia.jpeg
END:VEVENT
END:VCALENDAR