BEGIN:VCALENDAR
VERSION:2.0
PRODID:-//Paradise News Magazine - ECPv6.15.20//NONSGML v1.0//EN
CALSCALE:GREGORIAN
METHOD:PUBLISH
X-WR-CALNAME:Paradise News Magazine
X-ORIGINAL-URL:https://www.paradisenewsfl.com
X-WR-CALDESC:Events for Paradise News Magazine
REFRESH-INTERVAL;VALUE=DURATION:PT1H
X-Robots-Tag:noindex
X-PUBLISHED-TTL:PT1H
BEGIN:VTIMEZONE
TZID:UTC
BEGIN:STANDARD
TZOFFSETFROM:+0000
TZOFFSETTO:+0000
TZNAME:UTC
DTSTART:20210101T000000
END:STANDARD
END:VTIMEZONE
BEGIN:VEVENT
DTSTART;VALUE=DATE:20220128
DTEND;VALUE=DATE:20220131
DTSTAMP:20260423T093720
CREATED:20220109T040735Z
LAST-MODIFIED:20220109T040735Z
UID:26407-1643328000-1643587199@www.paradisenewsfl.com
SUMMARY:St. Petersburg Seafood & Music Festival
DESCRIPTION:Join us on January 28-30\, 2022 in Williams Park for the 4th Annual St. Petersburg Seafood & Music Festival. Festivities begin Friday evening from 4pm-10pm and continue Saturday 11am-10pm and Sunday 11am-6pm. Come enjoy downtown St. Petersburg with friends and family. The event is graciously co-hosted by the City of St. Petersburg. General admission is FREE! \n  \nSelect from delectable foods cooked on site incorporating the freshest ingredients by local restaurants and food purveyors. A variety of seafood entrees and vegetarian dishes will be available\, along with a diversity of side dishes and desserts\, and both alcoholic and non-alcoholic drinks. \nWhile enjoying your meal\, sit back and relax to musical entertainment consisting of live on-stage performances by some of the most creative and talented musicians from both the local and regional circuit. Friday starts the weekend off with stellar performances by: the Kara Nally Band (blues\, rock)\, Albert Castiglia (blues)\, and Pat Travers (rock). Saturday sees performances by the outstanding musicians and groups: Joshua Scott Jones (rootsy rock country)\, Selwyn Birchwood (electric swamp funkin’ blues)\, the Black Honkeys (funk\, rock\, R&B\, gospel)\, ARS (–) and Big Bad Voodoo Daddy (swing\, jazz).  The ‘finale’ on Sunday will give you amazing performances by the Hummingbirds (country\, blues)\, Sean Chambers (blues\, rock)\, and Ronnie Dee & The Superstars (funk\, soul\, rock n’ roll).  In the breaks between performances explore a marketplace of arts\, crafts and fine products.  Examples of what you may find are shown in the column to the right. \nGather family members and friends to enjoy the food\, music and beautiful views of downtown St. Petersburg. Enjoy – relaxing! And as an added bonus: shop a marketplace of arts\, crafts and fine products between musical performances!
URL:https://www.paradisenewsfl.com/event/st-petersburg-seafood-music-festival/
LOCATION:Williams Park\, 330 2nd Ave N\, St. Petersburg\, FL\, 33701\, United States
ATTACH;FMTTYPE=image/jpeg:https://www.paradisenewsfl.com/wp-content/uploads/2017/03/st-pete-seafood-fest.jpg
END:VEVENT
BEGIN:VEVENT
DTSTART;VALUE=DATE:20220128
DTEND;VALUE=DATE:20220131
DTSTAMP:20260423T093720
CREATED:20220111T054100Z
LAST-MODIFIED:20220111T054100Z
UID:26441-1643328000-1643587199@www.paradisenewsfl.com
SUMMARY:Clearwater Running Festival
DESCRIPTION:SCHEDULE OF EVENTS:\n\nSATURDAY\, JANUARY 29\, 2022 \n6:00am-12:00pm: Expo / Early Bib Pick Up at Sand Key Park \n7:00am: 5K Start \n9:30am: Kids Fun Runs (100m dash) \n11:00am: Moms On The Run Live Show hosted by C-Tolle Run (Olympian Carrie Tollefson) & Ali on the Run (podcaster\, Ali Feller) \nSUNDAY\, JANUARY 30\, 2022 \n5:45am-6:45am: Race Day Bib Pick Up /Race Day Registration at Sand Key Park \n7:00am: Ultra\, Marathon\, Half-Marathon\, Half Marathon Relay Start \n8:30am-2pm: Finish Line Party sponsored by Caddy’s
URL:https://www.paradisenewsfl.com/event/clearwater-running-festival/
LOCATION:Sand Key Park\, 1060 Gulf Blvd\, Clearwater\, FL\, 33767\, United States
ATTACH;FMTTYPE=image/jpeg:https://www.paradisenewsfl.com/wp-content/uploads/2022/01/clearwater-running-festival.jpg
END:VEVENT
BEGIN:VEVENT
DTSTART;TZID=UTC:20220128T190000
DTEND;TZID=UTC:20220128T210000
DTSTAMP:20260423T093720
CREATED:20220124T213209Z
LAST-MODIFIED:20220124T213221Z
UID:26624-1643396400-1643403600@www.paradisenewsfl.com
SUMMARY:St. Pete Beach Concerts in the Park
DESCRIPTION:Welcome to the Spring Concert Series in Horan Park! Bring your friends\, family and chairs and enjoy a night full of live entertainment! These are FREE events. Food\, beer\, and wine will be available for purchase. \nJan 28:   Fleetwood Max    (7pm-9pm) \nFeb 25:   U2.0 The Ultimate U2 Tribute (7pm-9pm) \nMar 25:   Trezz Hombres ZZ Top Tribute  (7pm-9pm) \nApr 15:   Beatle Beat Beatles Tribute     (7pm-9pm) \nLocation: Horan Park 7701 Boca Ciega Dr. St. Pete Beach FL\, 33706
URL:https://www.paradisenewsfl.com/event/st-pete-beach-spring-concerts-in-the-park/
LOCATION:Horan Park\, 7701 Boca Ciega Drive\, St. pete Beach\, FL\, 33706\, United States
CATEGORIES:ALL
END:VEVENT
END:VCALENDAR