BEGIN:VCALENDAR
VERSION:2.0
PRODID:-//Paradise News Magazine - ECPv6.15.20//NONSGML v1.0//EN
CALSCALE:GREGORIAN
METHOD:PUBLISH
X-ORIGINAL-URL:https://www.paradisenewsfl.com
X-WR-CALDESC:Events for Paradise News Magazine
REFRESH-INTERVAL;VALUE=DURATION:PT1H
X-Robots-Tag:noindex
X-PUBLISHED-TTL:PT1H
BEGIN:VTIMEZONE
TZID:UTC
BEGIN:STANDARD
TZOFFSETFROM:+0000
TZOFFSETTO:+0000
TZNAME:UTC
DTSTART:20200101T000000
END:STANDARD
END:VTIMEZONE
BEGIN:VEVENT
DTSTART;VALUE=DATE:20211118
DTEND;VALUE=DATE:20211122
DTSTAMP:20260423T070316
CREATED:20210901T165136Z
LAST-MODIFIED:20210901T205145Z
UID:24188-1637193600-1637539199@www.paradisenewsfl.com
SUMMARY:Sanding Ovations presents Sandlantis
DESCRIPTION:Treasure Island\, Florida’s sand sculpture capital\, hosts Sandlantis\, A Sand Sculpting Exhibition and Competition \n All it takes is a pile of sand\, some buckets of water\, and lots of imagination to build a masterpiece — at least for master sculptors who return to Treasure Island for Sanding Ovations presents Sandlantis\, a Sand Sculpting Exhibition and Competition from November 18-21\, 2021. \nThe masterful exhibition of sand sculpting talent at the world-class level is the big appeal\, supplemented by the sponsor sculptures created by Treasure Island’s own Meredith and Dan Doubleday of Sanding Ovations professional sand sculptors. Sanding Ovations welcomes sculptors Sue McGrew\, Deborah Barrett-Cutulle\, Melineige Beauregard\, Manuel Campos\, Damon Meri\, Abe Waterman and Bruce Philips who will be creating Sandlantis. \nThere is plenty of room to spread out at the beach food court\, beer garden and arts and crafts marketplace. Kites and night fly’s provided by Windworks of Madeira Beach. Fireworks on Saturday evening at 10:00 PM and local music and entertainment make Sandlantis a must-see event while visiting Treasure Island. \nSanding Ovations presents Sandlantis\, a Sand Sculpting Exhibition and Competition is free and open to the public. For sand sculptor bio’s\, and other information\, visit www.sandingovationsmasterscup.com or call Treasure Island Parks & Recreation at 727-547-4575 ext. 237. \nAttendees are encouraged to practice social distancing. \nThis year\, join us for a second weekend of more sandtastic fun from Friday\, November 26th to Sunday\, November 28th\, 10 AM to 6:00 PM daily. \n 
URL:https://www.paradisenewsfl.com/event/sandlantis/
LOCATION:Treasure Island\, Treasure Island\, FL\, United States
ATTACH;FMTTYPE=image/jpeg:https://www.paradisenewsfl.com/wp-content/uploads/2017/11/sanding-ovations.jpg
END:VEVENT
BEGIN:VEVENT
DTSTART;VALUE=DATE:20211118
DTEND;VALUE=DATE:20211122
DTSTAMP:20260423T070316
CREATED:20211026T212334Z
LAST-MODIFIED:20211026T212334Z
UID:25042-1637193600-1637539199@www.paradisenewsfl.com
SUMMARY:4th Annual St. Pete BikeFest
DESCRIPTION:OCC Road House and Bert’s Barracuda will host erform on two stages throughout the weekend\, with nightly headline acts that include Saving Abel & Saliva (Thursday)\, chart-topping country act Lo Cash (Friday)\, and rockers Night Ranger (Saturday). Also performing throughout the weekend will be favorites Tobacco Rd Band and Autograph. There will be live music on two alternating stages all day Thursday through Sunday until 6 p.m. The afternoon concerts are complimentary\, while the evening headliner concerts are ticketed.\n\n\n\n\n\nPaul Teutul Sr. of Orange County Choppers fame will rev things up Saturday\, Nov. 20\, along with a bike show featuring more than 200 cycles presented by Full Throttle magazine. Vendors Row (Thursday-Saturday) will feature the latest bike gear\, clothing and accessories. Food and drink specials will be offered throughout the event.\n\n\n\n\n\nSt. Pete BikeFest has partnered with RumFish Beach Resort\, a TradeWinds resort\, to offer festival goers a special three-night package for two with rates as low as $720 per package. Packages include various extras such as discounted accommodations\, VIP concert tickets nightly\, guaranteed motorcycle parking at OCC Road House during the nightly national acts\, and beach bar crawl entries. To book the RumFish Beach Resort package\, please visit TradeWinds BikeFest packages.\n\nThe St. Pete BikeFest is free and open to the public\, but nightly headliner concerts are ticketed. Pricing options include the following \n\nGeneral Admission: $10 one-day ticket or $50 three-day ticket; includes ticket to concert(s)\nVIP: $50 one-day ticket or $125 three-day ticket; includes ticket to concert(s) with roped off VIP area and closer view\nSuper VIP: $100 one-day ticket or $250 three-day ticket; includes ticket to concert(s) with exclusive roped off front of stage view area for headlining acts
URL:https://www.paradisenewsfl.com/event/4th-annual-st-pete-bikefest/
LOCATION:OCC Road House & Museum\, 10575 49th Street North\, Clearwater\, FL\, 33762\, United States
ATTACH;FMTTYPE=image/jpeg:https://www.paradisenewsfl.com/wp-content/uploads/2021/10/st-pete-bike-fest.jpg
END:VEVENT
END:VCALENDAR