BEGIN:VCALENDAR
VERSION:2.0
PRODID:-//Paradise News Magazine - ECPv6.15.20//NONSGML v1.0//EN
CALSCALE:GREGORIAN
METHOD:PUBLISH
X-ORIGINAL-URL:https://www.paradisenewsfl.com
X-WR-CALDESC:Events for Paradise News Magazine
REFRESH-INTERVAL;VALUE=DURATION:PT1H
X-Robots-Tag:noindex
X-PUBLISHED-TTL:PT1H
BEGIN:VTIMEZONE
TZID:UTC
BEGIN:STANDARD
TZOFFSETFROM:+0000
TZOFFSETTO:+0000
TZNAME:UTC
DTSTART:20200101T000000
END:STANDARD
END:VTIMEZONE
BEGIN:VEVENT
DTSTART;TZID=UTC:20211030T100000
DTEND;TZID=UTC:20211030T130000
DTSTAMP:20260423T055000
CREATED:20211018T211224Z
LAST-MODIFIED:20211018T211224Z
UID:24922-1635588000-1635598800@www.paradisenewsfl.com
SUMMARY:Barktoberfest
DESCRIPTION:ro
URL:https://www.paradisenewsfl.com/event/barktoberfest/
LOCATION:Rosselli Park\, Capri Circle South and 2nd Street East\, Isle of Capri\, Treasure Island\, FL\, 33708\, United States
END:VEVENT
END:VCALENDAR