BEGIN:VCALENDAR
VERSION:2.0
PRODID:-//Paradise News Magazine - ECPv6.15.20//NONSGML v1.0//EN
CALSCALE:GREGORIAN
METHOD:PUBLISH
X-ORIGINAL-URL:https://www.paradisenewsfl.com
X-WR-CALDESC:Events for Paradise News Magazine
REFRESH-INTERVAL;VALUE=DURATION:PT1H
X-Robots-Tag:noindex
X-PUBLISHED-TTL:PT1H
BEGIN:VTIMEZONE
TZID:UTC
BEGIN:STANDARD
TZOFFSETFROM:+0000
TZOFFSETTO:+0000
TZNAME:UTC
DTSTART:20200101T000000
END:STANDARD
END:VTIMEZONE
BEGIN:VEVENT
DTSTART;TZID=UTC:20211028T180000
DTEND;TZID=UTC:20211028T220000
DTSTAMP:20260423T055000
CREATED:20211007T010730Z
LAST-MODIFIED:20211007T010730Z
UID:24813-1635444000-1635458400@www.paradisenewsfl.com
SUMMARY:Movies in the Park- Beetlejuice
DESCRIPTION:The best “small” event on the waterfront – Movies in the Park – is back again this October! The evening starts with live music at 6 p.m. followed by the movie on the big screen at dusk. The fun takes place in N. Straub Park\, between 4th Ave. & 5th Ave. NE at Beach Dr. \nMovies in the Park is free\, but attendance is limited and an RSVP ticket is required for entry. In lieu of charging for the event\, please consider the gift of a donation or becoming a member of Preserve the ‘Burg online or at the event to help us continue our efforts to protect our city’s history and keep St. Pete special! \nMovies in the Park will adhere to CDC guidance regarding COVID-19. Face coverings are strongly encouraged\, and social distancing between groups is also encouraged. Capacity will be limited; advance registration is required.  \nCome early to get your favorite spot and to enjoy live music from The Wandering Hours and grab some food from the ‘Burg’s best food vendors. Beer and Wine will be available\, proceeds benefit Preserve the Burg and Jump for Kids. \nEntry to Movies in the Park is located on Beach Drive. \nOct. 28th – Beetlejuice (1988) – After Barbara (Geena Davis) and Adam Maitland (Alec Baldwin) die in a car accident\, they find themselves stuck haunting their country residence\, unable to leave the house. When the unbearable Deetzes (Catherine O’Hara\, Jeffrey Jones) and teen daughter Lydia (Winona Ryder) buy the home\, the Maitlands attempt to scare them away without success. Their efforts attract Beetlejuice (Michael Keaton)\, a rambunctious spirit whose “help” quickly becomes dangerous for the Maitlands and innocent Lydia.
URL:https://www.paradisenewsfl.com/event/movies-in-the-park-beetlejuice/
LOCATION:North Straub Park\, 400 Bay Shore Drive\, St. Petersburg\, 33701\, United States
ATTACH;FMTTYPE=image/jpeg:https://www.paradisenewsfl.com/wp-content/uploads/2021/10/movies-beetlejuice.jpg
END:VEVENT
END:VCALENDAR