BEGIN:VCALENDAR
VERSION:2.0
PRODID:-//Paradise News Magazine - ECPv6.15.20//NONSGML v1.0//EN
CALSCALE:GREGORIAN
METHOD:PUBLISH
X-ORIGINAL-URL:https://www.paradisenewsfl.com
X-WR-CALDESC:Events for Paradise News Magazine
REFRESH-INTERVAL;VALUE=DURATION:PT1H
X-Robots-Tag:noindex
X-PUBLISHED-TTL:PT1H
BEGIN:VTIMEZONE
TZID:UTC
BEGIN:STANDARD
TZOFFSETFROM:+0000
TZOFFSETTO:+0000
TZNAME:UTC
DTSTART:20200101T000000
END:STANDARD
END:VTIMEZONE
BEGIN:VEVENT
DTSTART;VALUE=DATE:20211015
DTEND;VALUE=DATE:20211025
DTSTAMP:20260423T054958
CREATED:20211007T005706Z
LAST-MODIFIED:20211007T005706Z
UID:24804-1634256000-1635119999@www.paradisenewsfl.com
SUMMARY:SHINE Mural Festival
DESCRIPTION:The internationally recognized SHINE® St. Petersburg Mural Festival is back for its seventh year\, October 15-24\, 2021. With a fresh lineup featuring some of the world’s best mural artists\, SHINE will ignite the streets of St. Pete with 16 new murals located throughout the arts districts\, plus a series of Bright Spots—community murals to engage and inspire. Mark your calendars—don’t miss St. Pete’s biggest art event! Mural map and more details coming soon. \nInterested in supporting one of St. Pete’s most transformative events? Sponsorship is still available\, please contact Jenee Priebe at jenee@stpeteartsalliance.org or visit our SHINE Sponsorship page. \nThe SHINE® Mural Festival is an event of the St. Petersburg Arts Alliance\, a non-profit\, 501 (c)3 dedicated to advocating for the arts and driving arts-related economic impact. We rely on your support to continue producing this world-class event. To make a donation\, click here.
URL:https://www.paradisenewsfl.com/event/shine-mural-festival/
LOCATION:Various Location in St. Petersburg
ATTACH;FMTTYPE=image/jpeg:https://www.paradisenewsfl.com/wp-content/uploads/2021/09/shine-7-logo-1.jpg
END:VEVENT
BEGIN:VEVENT
DTSTART;VALUE=DATE:20211022
DTEND;VALUE=DATE:20211025
DTSTAMP:20260423T054958
CREATED:20210927T233427Z
LAST-MODIFIED:20210927T233427Z
UID:24525-1634860800-1635119999@www.paradisenewsfl.com
SUMMARY:The Amazing Acro-cats Stumble into St. Petersburg!
DESCRIPTION:Catherine A. Hickman Theatre\n5501 27th Ave South\nGulfport\, FL 33707 \n10/22 7pm\n10/23 3pm 8pm\n10/24 1pm \nTickets are $30-45and available here!\nGeneral admission $30 \nVICP (Very Importand Cat Person) $45 VICP ticket holders get to sit in priority seating for the meet and greet! \nAll patrons get to purrticipate in the meet and greet after the show AND recieve a complimentary purrbill! \nHave you ever seen a cat walk across a rope? Come see it live! \nOMG WHUT? – a cat riding a skateboard! \nAlley\, our rising star\, has even leapt into theGuinness Book of World Records\, holding the record for the longest cat jump! \nBut wait\, there’s more! \nYou wont want to miss the grand finale\, presenting the ONLY ALL-CAT BAND IN THE ENTIRE WORLD -Tuna and the Rock Cats! The current band lineup features Roux on guitar\, Bowie on drums\, Nue on keyboard\, and NOW some brand new members: Ahi and Albacore on cowbell and woodblocks\, Buggles on trumpet\, and even a chicken – Cluck Norris – rockin the tambourine! These amazing animals purr-forming with actual instruments have blown minds and shown audiences everywhere that CATS CAN ACTUALLY BE TRAINED! \nFeatured on Netflix docu-series Cat People\, the Rock Cats have also appeared next to Stephen Colbert on his late show as well as on PBS and Animal Planet. While the cats love being screen stars\, the Acro-cats live experience is where its really at: you have to actually see it to believe it! \nThe Amazing Acro-cats Featuring Tuna and the Rock Cats are a troupe of REAL performing house cats that jump and pounce their way into the heart of your city! The Acro-cats experience all started with Chief Executive Human (CEH for short) and animal trainerSamantha Martin. She has not only rescued her own pets\, but also has found happy homes for over 200 homeless cats and kittens. Using the magic ofclicker training(a stress-free positive reinforcement method)Samantha and the cats take their newfound amazing abilities on the road\, and tour the nations stages in the infamousAcro-cat bus! A portion of the proceeds always benefits our mobile foster and rescue efforts. \nOnly four shows at this location\, you won’t want to miss this!
URL:https://www.paradisenewsfl.com/event/the-amazing-acro-cats-stumble-into-st-petersburg/
LOCATION:Catherine A Hickman Theater\, 5501 27th Avenue South\, Gulfport \, FL\, 33707\, United States
ATTACH;FMTTYPE=image/jpeg:https://www.paradisenewsfl.com/wp-content/uploads/2021/09/acro-cat.jpg
ORGANIZER;CN="Rock Cats Rescue":MAILTO:polly@rockcatsrescue.org
END:VEVENT
BEGIN:VEVENT
DTSTART;VALUE=DATE:20211023
DTEND;VALUE=DATE:20211025
DTSTAMP:20260423T054958
CREATED:20211020T020547Z
LAST-MODIFIED:20211020T020547Z
UID:24963-1634947200-1635119999@www.paradisenewsfl.com
SUMMARY:Pumpkinfest
DESCRIPTION:The Florida Botanical Gardens is adding some Autumn spice to the Garden this weekend! \nPurchase pumpkins on site\, $10 each\, Members of the Florida Botanical Gardens Foundation receive first pumpkin free. \nJoin us for a pumpkin patch\, pumpkin carving\, and spooky activities from our returning sponsors Florida Nursery\, Growers and Landscaping Association (FNGLA) and Pinellas County Farm Bureau. \nAlligator Attraction will be on site\, allowing guests to get a glimpse of their reptiles and astaple of the event\, Kona Ice of Seminole\, will also be serving up delicious shaved ice creations. \nAdditional vendors will be on site with information and activities\, and our Botanical Bounty Gift Shop will have seasonal items for sale. \nThe Professional Association of Visual Artists (PAVA) will host a premium activity in the Tropical Pavilion\, pre-registration only.\nVisit:www.flbgfoundation.org/pavapaint to get started. \nTrick-or-treat! Come dressed in costume and take part in our TaleBlazer Scavenger Hunt to receive candy for an early Halloween celebration. \nBuy Farm Food will be on site\, providing fresh fruit and veggies\, which can be ordered on their website or purchased for cash at the event. We will also provide a nice mix of fruit and veggies that can be purchased individually as well. To purchase in advance\, visit their website:www.buyfarmfood.comand select “Pumpkin Fest at the Florida Botanical Gardens” as your pickup location. \nDon’t forget to vote for your favorites from our Scarecrow Contest\, presented by 4-H.\nInterested in participating?\nVisit:www.flbgfoundation.org/scarecrowcontest.\nWinners will be announced on Monday\, October 25th. \nFree parking\, free admission.
URL:https://www.paradisenewsfl.com/event/pumpkinfest/
LOCATION:Florida Botanical Gardens\, 12520 Ulmerton Rd\, Largo\, FL\, 33774\, United States
ATTACH;FMTTYPE=image/jpeg:https://www.paradisenewsfl.com/wp-content/uploads/2021/10/pumpkinfest.jpeg
END:VEVENT
END:VCALENDAR