BEGIN:VCALENDAR
VERSION:2.0
PRODID:-//Paradise News Magazine - ECPv6.15.20//NONSGML v1.0//EN
CALSCALE:GREGORIAN
METHOD:PUBLISH
X-WR-CALNAME:Paradise News Magazine
X-ORIGINAL-URL:https://www.paradisenewsfl.com
X-WR-CALDESC:Events for Paradise News Magazine
REFRESH-INTERVAL;VALUE=DURATION:PT1H
X-Robots-Tag:noindex
X-PUBLISHED-TTL:PT1H
BEGIN:VTIMEZONE
TZID:UTC
BEGIN:STANDARD
TZOFFSETFROM:+0000
TZOFFSETTO:+0000
TZNAME:UTC
DTSTART:20200101T000000
END:STANDARD
END:VTIMEZONE
BEGIN:VEVENT
DTSTART;VALUE=DATE:20211009
DTEND;VALUE=DATE:20211018
DTSTAMP:20260423T054858
CREATED:20211005T231110Z
LAST-MODIFIED:20211005T231110Z
UID:24773-1633737600-1634515199@www.paradisenewsfl.com
SUMMARY:St. Pete Pier's Pumpkin Patch
DESCRIPTION:The St. Pete Pier’s pumpkin patch returns this October. Located at the Family Park beneath the stunning ‘Bending Arc’ sculpture by Janet Echelman\, the pumpkin patch is the fall fun you’re waiting for in the Sunshine City. The pump patch will arrive on October 9 and remain the St. Pete’s massive waterfront park until October 17. \nOperating Hours are as follows: \n12 to 9 p.m. Oct. 9\n12 to 8 p.m. Oct. 10\n5 to 9 p.m. Oct. 11 through 15\n12 to 9 p.m. Oct. 16\n12 to 6 p.m. Oct. 17
URL:https://www.paradisenewsfl.com/event/st-pete-piers-pumpkin-patch/
LOCATION:St. Pete Pier\, 800 2nd Avenue Northeast\, St. Petersburg\, FL\, 33701\, United States
ATTACH;FMTTYPE=image/jpeg:https://www.paradisenewsfl.com/wp-content/uploads/2018/10/luckys-market-pumpkin-patch.jpg
END:VEVENT
BEGIN:VEVENT
DTSTART;VALUE=DATE:20211014
DTEND;VALUE=DATE:20211017
DTSTAMP:20260423T054858
CREATED:20210923T000741Z
LAST-MODIFIED:20210923T001016Z
UID:24469-1634169600-1634428799@www.paradisenewsfl.com
SUMMARY:Bucs Beach Bash at TradeWinds Island Resorts
DESCRIPTION: TradeWinds Island Resorts\, the Official Beach Resort of the Tampa Bay Buccaneers\, is hosting the Bucs Beach Bash Oct. 14-16. Fans can party like a pirate all weekend long with live music\, corn hole tournaments\, poolside parties\, Bucs Watch Party and Kid Zone\, plus fan favorites\, like the Buccaneer’s Cheerleaders\, Captain Fear\, pirates and the Buccaneer’s Street Team.  Guests can stay right in the middle of the action at the RumFish Beach Resort with two- and three-night packages which offer upfront VIP experiences for the multitude of fun and fanatical weekend activities. \nBoth the two- and three-night VIP Bucs Beach Bash packages include accommodations at a discounted rate\, VIP wristbands providing upfront access to the evening concerts\, 50% off one team entry into the corn hole tournament and the nightly resort amenity fee that includes one parking pass\, one beach cabana and more. Both packages also include two chances to win the “Gameday Getaway” – a private charter to the Tampa Bay Buccaneers vs. Atlanta Falcons game in Atlanta on Dec. 5\, including escorted transportation to and from the airport. The three-night package also includes access to the upfront VIP area at the game watch party on the beach on Thur.\, Oct. 14. Cost for the two-night package begins at $508\, while the three-night package begins at $695. \nThe events begin on Thur.\, Oct. 14 with a tailgate kickoff party including a DJ\, contests\, happy hour specials and more. Guests can then watch the Bucs take on the Eagles on a big screen on the beach. Friday’s schedule begins in the afternoon including a live beachside DJ and ending that evening with rising country music star Angie Rey. Attendees can enter day one of the cornhole tournament and enjoy more from a live DJ\, contests and happy hour specials. Saturday’s schedule highlights include a pool party for registered package guests\, continuation of the cornhole tournament and more live music on the beach. The Kenny Chesney tribute band\, Pirate Flag Band\, takes the stage that evening\, followed by a spectacular fireworks display on the beach. The Bucs Beach Bash events are free and open to the public. Daily onsite parking is $25 and subject to availability. \n“We are so proud to be the Official Beach Resort of the Super Bowl Champions- the Tampa Bay Buccaneers – and thrilled to bring back the Bucs Beach Bash weekend allowing fans to celebrate the victory and the new season\,” said Bob LaCasse\, Managing Director\, TradeWinds Island Resorts. \nThe TradeWinds Island Resorts – the Island Grand and Rumfish Beach Resort – are located directly on the sugary white sands of the Gulf of Mexico on St. Pete Beach in Florida. The resorts offer limitless beachfront recreation\, sumptuous dining\, fantastic family activities and programs\, and world class meeting and function facilities.
URL:https://www.paradisenewsfl.com/event/tradewinds-island-resorts-hosts-bucs-beach-bash-oct-14-16/
LOCATION:Tradewinds Island Resort\, 5500 Gulf Blvd\, St. Pete Beach\, FL\, 33706\, United States
ATTACH;FMTTYPE=image/jpeg:https://www.paradisenewsfl.com/wp-content/uploads/2020/11/tradewinds.jpg
END:VEVENT
BEGIN:VEVENT
DTSTART;VALUE=DATE:20211015
DTEND;VALUE=DATE:20211025
DTSTAMP:20260423T054858
CREATED:20211007T005706Z
LAST-MODIFIED:20211007T005706Z
UID:24804-1634256000-1635119999@www.paradisenewsfl.com
SUMMARY:SHINE Mural Festival
DESCRIPTION:The internationally recognized SHINE® St. Petersburg Mural Festival is back for its seventh year\, October 15-24\, 2021. With a fresh lineup featuring some of the world’s best mural artists\, SHINE will ignite the streets of St. Pete with 16 new murals located throughout the arts districts\, plus a series of Bright Spots—community murals to engage and inspire. Mark your calendars—don’t miss St. Pete’s biggest art event! Mural map and more details coming soon. \nInterested in supporting one of St. Pete’s most transformative events? Sponsorship is still available\, please contact Jenee Priebe at jenee@stpeteartsalliance.org or visit our SHINE Sponsorship page. \nThe SHINE® Mural Festival is an event of the St. Petersburg Arts Alliance\, a non-profit\, 501 (c)3 dedicated to advocating for the arts and driving arts-related economic impact. We rely on your support to continue producing this world-class event. To make a donation\, click here.
URL:https://www.paradisenewsfl.com/event/shine-mural-festival/
LOCATION:Various Location in St. Petersburg
ATTACH;FMTTYPE=image/jpeg:https://www.paradisenewsfl.com/wp-content/uploads/2021/09/shine-7-logo-1.jpg
END:VEVENT
BEGIN:VEVENT
DTSTART;TZID=UTC:20211016T090000
DTEND;TZID=UTC:20211016T120000
DTSTAMP:20260423T054858
CREATED:20210914T213742Z
LAST-MODIFIED:20210914T213742Z
UID:24354-1634374800-1634385600@www.paradisenewsfl.com
SUMMARY:Skyway Marina District Quarterly Cleanup
DESCRIPTION:
URL:https://www.paradisenewsfl.com/event/skyway-marina-district-quarterly-cleanup/
LOCATION:Maximo Marina\, 4801 37th Street S\, St. Petersburg\, FL\, 33711\, United States
END:VEVENT
BEGIN:VEVENT
DTSTART;TZID=UTC:20211016T090000
DTEND;TZID=UTC:20211016T120000
DTSTAMP:20260423T054858
CREATED:20210920T192854Z
LAST-MODIFIED:20210920T192854Z
UID:24426-1634374800-1634385600@www.paradisenewsfl.com
SUMMARY:International Coastal Clean Up
DESCRIPTION:International Coastal Clean Up \nSaturday\, October 16th | 9 a.m. – noon \nClam Bayou Nature Park \nMiriam St. S. \nJoin Gulfport Grassroots\, Keep Pinellas Beautiful\, and the City of Gulfport Florida to clean up our Clam Bayou Nature Preserve on land & water. \nRegistration will be at Osgood Point by the Coast Guard Station at the end of Miriam Street South.
URL:https://www.paradisenewsfl.com/event/international-coastal-clean-up/
LOCATION:Clam Bayou Nature Park\, 34th Ave. S. & 40th St. S.\, St. Petersburg\, FL\, 33705\, United States
ATTACH;FMTTYPE=image/jpeg:https://www.paradisenewsfl.com/wp-content/uploads/2021/09/international-coastal-cleanup.jpg
END:VEVENT
BEGIN:VEVENT
DTSTART;TZID=UTC:20211016T190000
DTEND;TZID=UTC:20211016T220000
DTSTAMP:20260423T054858
CREATED:20210715T204111Z
LAST-MODIFIED:20210715T210131Z
UID:23450-1634410800-1634421600@www.paradisenewsfl.com
SUMMARY:Cocktails on the Courts- A Centennial Celebration
DESCRIPTION:The Museum of History Is Throwing a Party to Kickoff their 100th Birthday! \n\nUnlimited Florida Food & Cocktails\nLive Music and Dancing under the Stars\n1920s Fashion Show\n1920s Costume Contest\nA Not-so-Silent Auction\nGuest Appearances by Babe Ruth\, Perry Snell and Mary Wheeler Eaton\n\n\n\nDate: October 16\, 2021\nTime: 7-10pm\nLocation: St. Petersburg Shuffleboard Club\nTicket Cost: $75 in advance\, $90 at the door (Paradise News local tip: This event typically sells out. Get your tickets early.)\n\n\nClick here to purchase tickets.
URL:https://www.paradisenewsfl.com/event/cocktails-on-the-courts-2021/
LOCATION:St. Petersburg Shuffleboard Courts\, 555 Mirror Lake Drive N\, St. Petersburg \, FL\, 33701\, United States
CATEGORIES:ALL
ATTACH;FMTTYPE=image/jpeg:https://www.paradisenewsfl.com/wp-content/uploads/2021/07/cocktails-on-courts.jpg
END:VEVENT
END:VCALENDAR