BEGIN:VCALENDAR
VERSION:2.0
PRODID:-//Paradise News Magazine - ECPv6.15.20//NONSGML v1.0//EN
CALSCALE:GREGORIAN
METHOD:PUBLISH
X-ORIGINAL-URL:https://www.paradisenewsfl.com
X-WR-CALDESC:Events for Paradise News Magazine
REFRESH-INTERVAL;VALUE=DURATION:PT1H
X-Robots-Tag:noindex
X-PUBLISHED-TTL:PT1H
BEGIN:VTIMEZONE
TZID:UTC
BEGIN:STANDARD
TZOFFSETFROM:+0000
TZOFFSETTO:+0000
TZNAME:UTC
DTSTART:20200101T000000
END:STANDARD
END:VTIMEZONE
BEGIN:VEVENT
DTSTART;VALUE=DATE:20211004
DTEND;VALUE=DATE:20211011
DTSTAMP:20260423T055015
CREATED:20210909T004845Z
LAST-MODIFIED:20210909T004845Z
UID:24275-1633305600-1633910399@www.paradisenewsfl.com
SUMMARY:2021 Taste of the Beaches
DESCRIPTION:Over 35 local restaurants will participate in this year’s  Taste of the Beaches! Restaurants spanning from Tierra Verde to Clearwater Beach will be featuring their unique cuisines for this week-long taste tour. From Monday\, October 4th to Sunday\, October 10th\, patrons will purchase their tickets and turn them in at the participating restaurants of their choice in exchange for the restaurant’s signature “taste”. \n\n\n\n\nPlan your own “taste tour” with friends and family and enjoy signature dishes from a variety of local restaurants. Participating restaurants include: 3 Daughters Brewing\, 82 Degrees Bar & Grill\, Buoys Waterfront Bar & Grill\, Burrito Social\, Castile Restaurant at The Hotel Zamora\, CD Roma Restaurant\, Chill Restaurant & Bar\, Coconut Charlies at Hilton Garden Inn\, Crabby Bill’s St. Pete Beach\, Crabby’s on the Pass\, DJ’s Clam Shack\, FUSION Resort & Marina\, Giuseppe’s Pizzeria\, Island Way Grill\, Jake’s Coastal Cantina\, Kahwa Coffee Roasting\, Kokomos Bar & Grille at Marriott Sand Key\, Kuba en la Playa\, Mangos Restaurant & Tiki Bar\, Mastry’s Brewing Co. and The Kitchen\, Pesky Pelican Brew Pub\, Pipo’s Cuban Cafe\, Rumba Grill\, RumFish Grill\, Rum Runners at Sirata Beach Resort\, Salt Rock Grill\, Seabreeze Island Grill\, Sloppy Joe’s\, Slyce Pizza Bar (IRB)\, Slyce Pizza (Madeira)\, Slyce Pizza (St. Pete Beach)\, Society Table at The Don Cesar\, Stamps at Postcard Inn\, The Island Grille & Raw Bar\, The Original Crabby Bill’s\, Twisted Tiki\, Vino Simpatico\, Vista at the Top at Residence Inn Tierra Verde and Watercolour Grillhouse at Marriott Sand Key. \nTickets are $10 per ticket\, each ticket provides one (1) taste per participating restaurant. You can order tickets online at www.tampabaybeaches.com/taste or find a Ticket Pop-Up near you at https://www.tampabaybeaches.com/taste-pop-up. \nA portion of the proceeds will be donated to Tampa Bay Watch. \nTaste of the Beaches is sponsored by the Tampa Bay Times\, City of St. Pete Beach\, Smith and Associates Real Estate\, St. Pete Beach Fun Page\, Abbott Flooring and Restorations and Liberte Resorts & Management . \n\n\n\n\nFor more information\, please contact Amanda Page at  amanda@tampabaybeaches.com or visit TampaBayBeaches.com/Taste.
URL:https://www.paradisenewsfl.com/event/2021-taste/
LOCATION:Various Locations
ATTACH;FMTTYPE=image/jpeg:https://www.paradisenewsfl.com/wp-content/uploads/2021/09/2021-taste-of-the-beaches-flyer.jpg
END:VEVENT
BEGIN:VEVENT
DTSTART;VALUE=DATE:20211008
DTEND;VALUE=DATE:20211010
DTSTAMP:20260423T055015
CREATED:20210924T180820Z
LAST-MODIFIED:20210924T181754Z
UID:24485-1633651200-1633823999@www.paradisenewsfl.com
SUMMARY:German American Society Oktoberfest
DESCRIPTION:The German American Sociatey of Pinells County is well known for being a friendly and family-oriented place on any Saturday night – and during special events. The annual Oktoberfest is no different. \nOur guests are encouraged to participate in all kinds of fun activities\, including learning German dances. For our youngsters\, there’s always a Kiddie Corner with things to keep the children busy for a while. \nMost foods\, available during our three-weekend October Event\, are prepared on-site from scratch. \nThe ‘Apfelstrudel’ (apple strudel) is one of our staples and is appreciated by regular and first-time visitors alike. \nDespite all the traditional German foods\, it would not be Oktoberfest without the imported Bavarian beers we’ll have in stock. This includes the Official Bier of München Oktoberfest: The famous Spaten Oktoberfest!
URL:https://www.paradisenewsfl.com/event/german-american-society-oktoberfest/
LOCATION:German American Society Hall\, 8098 66th St N\, Pinellas Park\, FL\, 33781\, United States
ATTACH;FMTTYPE=image/jpeg:https://www.paradisenewsfl.com/wp-content/uploads/2021/09/german-american-oktoberfest.jpg
ORGANIZER;CN="German American Society":MAILTO:germanclubpp@gmail.com
END:VEVENT
BEGIN:VEVENT
DTSTART;VALUE=DATE:20211009
DTEND;VALUE=DATE:20211018
DTSTAMP:20260423T055015
CREATED:20211005T231110Z
LAST-MODIFIED:20211005T231110Z
UID:24773-1633737600-1634515199@www.paradisenewsfl.com
SUMMARY:St. Pete Pier's Pumpkin Patch
DESCRIPTION:The St. Pete Pier’s pumpkin patch returns this October. Located at the Family Park beneath the stunning ‘Bending Arc’ sculpture by Janet Echelman\, the pumpkin patch is the fall fun you’re waiting for in the Sunshine City. The pump patch will arrive on October 9 and remain the St. Pete’s massive waterfront park until October 17. \nOperating Hours are as follows: \n12 to 9 p.m. Oct. 9\n12 to 8 p.m. Oct. 10\n5 to 9 p.m. Oct. 11 through 15\n12 to 9 p.m. Oct. 16\n12 to 6 p.m. Oct. 17
URL:https://www.paradisenewsfl.com/event/st-pete-piers-pumpkin-patch/
LOCATION:St. Pete Pier\, 800 2nd Avenue Northeast\, St. Petersburg\, FL\, 33701\, United States
ATTACH;FMTTYPE=image/jpeg:https://www.paradisenewsfl.com/wp-content/uploads/2018/10/luckys-market-pumpkin-patch.jpg
END:VEVENT
BEGIN:VEVENT
DTSTART;TZID=UTC:20211009T080000
DTEND;TZID=UTC:20211009T130000
DTSTAMP:20260423T055015
CREATED:20210920T192652Z
LAST-MODIFIED:20210920T192652Z
UID:24423-1633766400-1633784400@www.paradisenewsfl.com
SUMMARY:City of Gulfport Junk Drop
DESCRIPTION:Get ready for some fall cleaning! The City of Gulfport has another Junk Drop coming up on Saturday\, October 9th 8 am to 1 pm at the 49th Street Neighborhood Center. They ask that residents please stay in their vehicle and that all items are placed in an easily accessible location; the backseat\, trunk\, truck bed\, or trailer.\n\n\n \n\n\nFor questions or more information\, please contact 727-893-1089.\n\n\n \n\n\nTo see what you should bring\, visit http://www.pinellascounty.org/solidwaste/mobileoptions.htm.
URL:https://www.paradisenewsfl.com/event/city-of-gulfport-junk-drop/
LOCATION:49th Street Neighborhood Center\, 1617 49th St. S.\, Gulfport\, FL\, 33707\, United States
ATTACH;FMTTYPE=image/jpeg:https://www.paradisenewsfl.com/wp-content/uploads/2021/09/junk-drop.jpg
END:VEVENT
BEGIN:VEVENT
DTSTART;TZID=UTC:20211009T170000
DTEND;TZID=UTC:20211009T210000
DTSTAMP:20260423T055015
CREATED:20211005T231656Z
LAST-MODIFIED:20211005T231656Z
UID:24777-1633798800-1633813200@www.paradisenewsfl.com
SUMMARY:Second Saturday Art Walk
DESCRIPTION:The Central Arts District\, EDGE District\, Grand Central District\, Warehouse Arts District and downtown Waterfront Arts District invite you to visit their studios and galleries on Saturday\, May 8th at various times throughout the day. \nCOVID guidelines will be in place at each individual venue. The ArtWalk trolleys will NOT be running this month due to not having enough space for social distancing.\nIf you do visit an ArtWalk venue this week or on Saturday\, be prepared to follow THEIR guidelines for entry into their establishment. Please note that each venue has different Saturday hours.\nHERE’S WHAT’S HAPPENING!\nDownload a PDF of these venues here!
URL:https://www.paradisenewsfl.com/event/second-saturday-art-walk/
LOCATION:Various Location in St. Petersburg
ATTACH;FMTTYPE=image/jpeg:https://www.paradisenewsfl.com/wp-content/uploads/2020/10/art-walk-fall.jpg
END:VEVENT
END:VCALENDAR