BEGIN:VCALENDAR
VERSION:2.0
PRODID:-//Paradise News Magazine - ECPv6.15.20//NONSGML v1.0//EN
CALSCALE:GREGORIAN
METHOD:PUBLISH
X-WR-CALNAME:Paradise News Magazine
X-ORIGINAL-URL:https://www.paradisenewsfl.com
X-WR-CALDESC:Events for Paradise News Magazine
REFRESH-INTERVAL;VALUE=DURATION:PT1H
X-Robots-Tag:noindex
X-PUBLISHED-TTL:PT1H
BEGIN:VTIMEZONE
TZID:UTC
BEGIN:STANDARD
TZOFFSETFROM:+0000
TZOFFSETTO:+0000
TZNAME:UTC
DTSTART:20200101T000000
END:STANDARD
END:VTIMEZONE
BEGIN:VEVENT
DTSTART;VALUE=DATE:20211004
DTEND;VALUE=DATE:20211011
DTSTAMP:20260423T054857
CREATED:20210909T004845Z
LAST-MODIFIED:20210909T004845Z
UID:24275-1633305600-1633910399@www.paradisenewsfl.com
SUMMARY:2021 Taste of the Beaches
DESCRIPTION:Over 35 local restaurants will participate in this year’s  Taste of the Beaches! Restaurants spanning from Tierra Verde to Clearwater Beach will be featuring their unique cuisines for this week-long taste tour. From Monday\, October 4th to Sunday\, October 10th\, patrons will purchase their tickets and turn them in at the participating restaurants of their choice in exchange for the restaurant’s signature “taste”. \n\n\n\n\nPlan your own “taste tour” with friends and family and enjoy signature dishes from a variety of local restaurants. Participating restaurants include: 3 Daughters Brewing\, 82 Degrees Bar & Grill\, Buoys Waterfront Bar & Grill\, Burrito Social\, Castile Restaurant at The Hotel Zamora\, CD Roma Restaurant\, Chill Restaurant & Bar\, Coconut Charlies at Hilton Garden Inn\, Crabby Bill’s St. Pete Beach\, Crabby’s on the Pass\, DJ’s Clam Shack\, FUSION Resort & Marina\, Giuseppe’s Pizzeria\, Island Way Grill\, Jake’s Coastal Cantina\, Kahwa Coffee Roasting\, Kokomos Bar & Grille at Marriott Sand Key\, Kuba en la Playa\, Mangos Restaurant & Tiki Bar\, Mastry’s Brewing Co. and The Kitchen\, Pesky Pelican Brew Pub\, Pipo’s Cuban Cafe\, Rumba Grill\, RumFish Grill\, Rum Runners at Sirata Beach Resort\, Salt Rock Grill\, Seabreeze Island Grill\, Sloppy Joe’s\, Slyce Pizza Bar (IRB)\, Slyce Pizza (Madeira)\, Slyce Pizza (St. Pete Beach)\, Society Table at The Don Cesar\, Stamps at Postcard Inn\, The Island Grille & Raw Bar\, The Original Crabby Bill’s\, Twisted Tiki\, Vino Simpatico\, Vista at the Top at Residence Inn Tierra Verde and Watercolour Grillhouse at Marriott Sand Key. \nTickets are $10 per ticket\, each ticket provides one (1) taste per participating restaurant. You can order tickets online at www.tampabaybeaches.com/taste or find a Ticket Pop-Up near you at https://www.tampabaybeaches.com/taste-pop-up. \nA portion of the proceeds will be donated to Tampa Bay Watch. \nTaste of the Beaches is sponsored by the Tampa Bay Times\, City of St. Pete Beach\, Smith and Associates Real Estate\, St. Pete Beach Fun Page\, Abbott Flooring and Restorations and Liberte Resorts & Management . \n\n\n\n\nFor more information\, please contact Amanda Page at  amanda@tampabaybeaches.com or visit TampaBayBeaches.com/Taste.
URL:https://www.paradisenewsfl.com/event/2021-taste/
LOCATION:Various Locations
ATTACH;FMTTYPE=image/jpeg:https://www.paradisenewsfl.com/wp-content/uploads/2021/09/2021-taste-of-the-beaches-flyer.jpg
END:VEVENT
BEGIN:VEVENT
DTSTART;TZID=UTC:20211005T100000
DTEND;TZID=UTC:20211005T120000
DTSTAMP:20260423T054857
CREATED:20210914T213245Z
LAST-MODIFIED:20210914T213245Z
UID:24349-1633428000-1633435200@www.paradisenewsfl.com
SUMMARY:Meet the Women of MOTE - Virtual Event
DESCRIPTION:Take a behind-the-scenes look at the powerful women of Mote Marine Laboratory\, their groundbreaking discoveries and their back-breaking work. You’ll get to know who they are\, how they got here and what amazing accomplishments they’ve made as passionate marine scientists. \nThrough technology\, we’ll bring these amazing changemakers right into your living room. Join us virtually as we celebrate these powerful women and learn about their journeys\, challenges\, and most importantly\, their incredible accomplishments impacting our oceans in our own backyard and across the globe. \nJoin us for three virtual events: \n\nMote’s Coral Crusaders: September 22\, 2021 at 10 a.m.\nMote’s Women Trailblazers: October 5\, 2021 at 10 a.m.\nMote’s Fearless Women: October 22\, 2021 at 10 a.m.
URL:https://www.paradisenewsfl.com/event/meet-the-women-of-mote-virtual-event-2/
LOCATION:VIRTUAL EVENT
ATTACH;FMTTYPE=image/jpeg:https://www.paradisenewsfl.com/wp-content/uploads/2016/05/mote-marine-logo.jpg
END:VEVENT
BEGIN:VEVENT
DTSTART;TZID=UTC:20211005T160000
DTEND;TZID=UTC:20211005T200000
DTSTAMP:20260423T054857
CREATED:20211005T233433Z
LAST-MODIFIED:20211005T233433Z
UID:24779-1633449600-1633464000@www.paradisenewsfl.com
SUMMARY:1st Annual St. Pete OktoBEERfest
DESCRIPTION:Visit The Coliseum for the 1st Annual St. Pete OktoBEERfest on October 9th. Enjoy huge steins\, boots of beer and delicious German food. There will be select local craft beers\, ciders and cocktails to sample. Celebrate Oktoberfest with traditional Oktoberfest music\, games & prizes! Get Into the Spirit with Your Lederhosen and Dirndl Dresses. \nTickets start at $19 for basic entry up to $69 for VIP entry that includes a boot of beer\, samples of cocktails\, additional access and more.
URL:https://www.paradisenewsfl.com/event/1st-annual-st-pete-oktobeerfest/
LOCATION:St. Petersburg Coliseum\, 535 4th Ave N\, St. Petersburg\, FL\, 33701\, United States
ATTACH;FMTTYPE=image/jpeg:https://www.paradisenewsfl.com/wp-content/uploads/2021/10/oktobeerfest.jpg
END:VEVENT
BEGIN:VEVENT
DTSTART;TZID=UTC:20211005T180000
DTEND;TZID=UTC:20211005T190000
DTSTAMP:20260423T054857
CREATED:20210916T184854Z
LAST-MODIFIED:20210916T184854Z
UID:24371-1633456800-1633460400@www.paradisenewsfl.com
SUMMARY:Mayors Forum on the Arts Hosted by St. Petersburg Arts Alliance
DESCRIPTION:St. Petersburg Arts Alliance\, along with its community partners\, The Palladium and the Institute for Strategic Policy Solutions is pleased to announce a special Mayoral Forum on the Arts that will be attended by both candidates running for Mayor\, Robert Blackmon and Kenneth Welch.  \nThe forum is provided for the entire community to ask questions and gain knowledge from both candidates on the views and plans for the arts within the City of St. Petersburg.  The moderator for this discussion will be Kimberly Jackson\, Executive Director of the Institute for Strategic Policy Solutions and a board member of the St. Petersburg Arts Alliance. \nPaul Wilborn\, Executive Director of The Palladium and Terry Marks\, CEO of the St. Petersburg Arts Alliance will welcome the community at this free event at The Palladium on Tuesday\, October 5 at 6:00PM for the one hour forum.   \nPre-registration for this event\, as well as submitting your questions in advance for the candidates can be found at https://stpeteartsalliance.org/arts-alliance-events/ Doors open at 5PM for seating and will adhere to mask and CDC Covid safety requirements. \nTopics for this forum will include\, but not limited to: funding\, housing for artists\, economic development through the arts\, creative workforce development and tourism. \nThe St. Petersburg Arts Alliance will also broadcast this event live on the SPAA’s Facebook page as well as making it available on the SPAA YouTube Channel after the event.
URL:https://www.paradisenewsfl.com/event/mayors-forum-on-the-arts-hosted-by-st-petersburg-arts-alliance/
LOCATION:Palladium\, 253 Fifth Avenue North\, St. Petersburg\, FL\, 33701\, United States
END:VEVENT
END:VCALENDAR