BEGIN:VCALENDAR
VERSION:2.0
PRODID:-//Paradise News Magazine - ECPv6.15.20//NONSGML v1.0//EN
CALSCALE:GREGORIAN
METHOD:PUBLISH
X-WR-CALNAME:Paradise News Magazine
X-ORIGINAL-URL:https://www.paradisenewsfl.com
X-WR-CALDESC:Events for Paradise News Magazine
REFRESH-INTERVAL;VALUE=DURATION:PT1H
X-Robots-Tag:noindex
X-PUBLISHED-TTL:PT1H
BEGIN:VTIMEZONE
TZID:UTC
BEGIN:STANDARD
TZOFFSETFROM:+0000
TZOFFSETTO:+0000
TZNAME:UTC
DTSTART:20200101T000000
END:STANDARD
END:VTIMEZONE
BEGIN:VEVENT
DTSTART;TZID=UTC:20210922T080000
DTEND;TZID=UTC:20210922T170000
DTSTAMP:20260423T042950
CREATED:20210922T234005Z
LAST-MODIFIED:20210922T234005Z
UID:24460-1632297600-1632330000@www.paradisenewsfl.com
SUMMARY:Clothes to Kids 2021 Kick Back One
DESCRIPTION:All children need shoes that fit. Many children we serve come in with shoes that are too small or too\nlarge\, have holes and no support. At Clothes To Kids shoes are part of our school wardrobe that every\nchild gets when they shop at Clothes To Kids. Each year\, we distribute more than 13\,000 pairs of\nshoes. \nWhat is Kick Back One? A fun evening of networking\, live music\, food and open bar on October 21 st\nfrom 6:30 to 8:30 pm at Hyde House. Kick One back will greatly help raise awareness and funds\nneeded in order to give each kid a pair of shoes that fit!! Here is the link to purchase a ticket to the\nevent.  https://clothes-to-kids-inc.networkforgood.com/events/33253-kick-one-back-2021 \nQualifyhyde for free and reduced lunch\, live in Pinellas or Hillsborough counties\, make appointment to come\nshop with us in person. To shop at CTK in person at our Clearwater and St. Pete stores\, please call\n727-441-5050. To shop at our Tampa Store\, schedule an appointment at:\nhttps://app.squarespacescheduling.com/schedule.php?owner=22132487
URL:https://www.paradisenewsfl.com/event/clothes-to-kids-2021-kick-back-one/
LOCATION:Hyde House\, 1646 West Snow Ave\, Tampa\, FL\, 33606\, United States
ATTACH;FMTTYPE=image/jpeg:https://www.paradisenewsfl.com/wp-content/uploads/2016/08/clothes-to-kids.jpg
END:VEVENT
BEGIN:VEVENT
DTSTART;TZID=UTC:20210922T100000
DTEND;TZID=UTC:20210922T120000
DTSTAMP:20260423T042950
CREATED:20210914T213057Z
LAST-MODIFIED:20210914T213057Z
UID:24346-1632304800-1632312000@www.paradisenewsfl.com
SUMMARY:Meet the Women of MOTE- Virtual Event
DESCRIPTION:Take a behind-the-scenes look at the powerful women of Mote Marine Laboratory\, their groundbreaking discoveries and their back-breaking work. You’ll get to know who they are\, how they got here and what amazing accomplishments they’ve made as passionate marine scientists. \nThrough technology\, we’ll bring these amazing changemakers right into your living room. Join us virtually as we celebrate these powerful women and learn about their journeys\, challenges\, and most importantly\, their incredible accomplishments impacting our oceans in our own backyard and across the globe. \nJoin us for three virtual events: \n\nMote’s Coral Crusaders: September 22\, 2021 at 10 a.m.\nMote’s Women Trailblazers: October 5\, 2021 at 10 a.m.\nMote’s Fearless Women: October 22\, 2021 at 10 a.m.
URL:https://www.paradisenewsfl.com/event/meet-the-women-of-mote-virtual-event/
LOCATION:VIRTUAL EVENT
ATTACH;FMTTYPE=image/jpeg:https://www.paradisenewsfl.com/wp-content/uploads/2016/08/mote-marine-logo.jpeg
END:VEVENT
END:VCALENDAR