BEGIN:VCALENDAR
VERSION:2.0
PRODID:-//Paradise News Magazine - ECPv6.15.20//NONSGML v1.0//EN
CALSCALE:GREGORIAN
METHOD:PUBLISH
X-ORIGINAL-URL:https://www.paradisenewsfl.com
X-WR-CALDESC:Events for Paradise News Magazine
REFRESH-INTERVAL;VALUE=DURATION:PT1H
X-Robots-Tag:noindex
X-PUBLISHED-TTL:PT1H
BEGIN:VTIMEZONE
TZID:UTC
BEGIN:STANDARD
TZOFFSETFROM:+0000
TZOFFSETTO:+0000
TZNAME:UTC
DTSTART:20200101T000000
END:STANDARD
END:VTIMEZONE
BEGIN:VEVENT
DTSTART;VALUE=DATE:20210918
DTEND;VALUE=DATE:20210919
DTSTAMP:20260423T043116
CREATED:20210914T205512Z
LAST-MODIFIED:20210914T205512Z
UID:24333-1631923200-1632009599@www.paradisenewsfl.com
SUMMARY:Arts Alive Free Museum Day in St. Petersburg
DESCRIPTION:Free Museum Day returns to St. Pete for 2021\, offering free tickets for one day only. As part of the annual celebration of art\, these St. Petersburg museums will be offering free tickets on Saturday\, September 18th. This is known nationwide as Arts Alive\, or Free Museum Day. St. Petersburg Arts Alive! Participants include The James Museum of Western and Wildlife Art\, Imagine Museum\, The Florida Holocaust Museum\, Museum of Fine and The Dali. Check with your favorite local museum to see if they are participating. 
URL:https://www.paradisenewsfl.com/event/arts-alive-free-museum-day-in-st-petersburg/
LOCATION:Various Locations
ATTACH;FMTTYPE=image/jpeg:https://www.paradisenewsfl.com/wp-content/uploads/2021/04/mfa-day.jpg
END:VEVENT
END:VCALENDAR