BEGIN:VCALENDAR
VERSION:2.0
PRODID:-//Paradise News Magazine - ECPv6.15.20//NONSGML v1.0//EN
CALSCALE:GREGORIAN
METHOD:PUBLISH
X-WR-CALNAME:Paradise News Magazine
X-ORIGINAL-URL:https://www.paradisenewsfl.com
X-WR-CALDESC:Events for Paradise News Magazine
REFRESH-INTERVAL;VALUE=DURATION:PT1H
X-Robots-Tag:noindex
X-PUBLISHED-TTL:PT1H
BEGIN:VTIMEZONE
TZID:UTC
BEGIN:STANDARD
TZOFFSETFROM:+0000
TZOFFSETTO:+0000
TZNAME:UTC
DTSTART:20200101T000000
END:STANDARD
END:VTIMEZONE
BEGIN:VEVENT
DTSTART;TZID=UTC:20210917T193000
DTEND;TZID=UTC:20210917T213000
DTSTAMP:20260423T042949
CREATED:20210914T215131Z
LAST-MODIFIED:20210914T215214Z
UID:24357-1631907000-1631914200@www.paradisenewsfl.com
SUMMARY:Gypsy Star Band at Sacred Lands
DESCRIPTION:SACRED LANDS OUTDOOR CONCERT WITH THE GYPSY STAR BAND –\nSACRED LANDS will hold its first CONCERT since before Covid-19 on Friday\, September 17th in the outside garden area with the GYPSY STAR BAND performing on the dolphin stage.\nWe will require that all COVID safety procedures be followed: maintaining safe distancing and masks to be worn except while eating at your table.\nThe concert will start at 7:30 p.m. and seating will be limited to 50 people with a $15.00 admission. Reservations and prepayment required. You can prepay in several ways: 1) Visit the Sacred Lands website at www.sacredlandspreservationandeducation.org and use the Donate button to make your payment or send a check to Sacred Lands\, 1620 Park St. N.\,St. Petersburg\, FL 33710\,\nAny other questions please contact the coordinator at 727-367-3592.\nPlease check out the music videos for the Gypsy Star Band on youtube or their website. The band includes beautiful belly dancers:\nGYPSY STAR BAND\nA DYNAMIC MULTI-GENRE BAND WITH A WORLD BEAT.\nUp-and-coming band Gypsy Star are driven to uplift and enchant listeners with their multi-genre brilliance. Inspired by the likes of icons such as Jesse Cook and Sting\, Gypsy Star’s musical compositions are uniquely represented by World music with elements of Spanish\, Latin\, Celtic\, the Caribbean and sounds of the Middle East underscored by Pop\, Rock and Jazz influences performed on acoustic instruments. With a burning passion to bring their rich and mystical style to audiences everywhere\, Gypsy Star is a stirring addition to the acoustic music scene.\nDINNER WILL BE AVAILABLE FOR $10.00 and it includes: Lasagna with Eggplant\, Green Salad\, Fruit and homemade Brownie. Meal is optional. Please call Sacred Lands with your dinner reservation at the same time as concert reservation so we have enough food available. 727-347-0354\nSEATING WILL BE LIMITED\, SO PLEASE MAKE YOUR RESERVATIONS.\nWEBSITE: www.sacredlandspreservationandeducation.org
URL:https://www.paradisenewsfl.com/event/gypsy-star-band-sacred-lands/
LOCATION:Sacred Lands\, 1620 Park Street North\, St. Petersburg\, FL\, 33710\, United States
ATTACH;FMTTYPE=image/jpeg:https://www.paradisenewsfl.com/wp-content/uploads/2019/03/sacred-lands.jpg
END:VEVENT
BEGIN:VEVENT
DTSTART;TZID=UTC:20210917T193000
DTEND;TZID=UTC:20210917T220000
DTSTAMP:20260423T042949
CREATED:20210914T210255Z
LAST-MODIFIED:20210914T210255Z
UID:24335-1631907000-1631916000@www.paradisenewsfl.com
SUMMARY:JAWS Free Movie on the Beach
DESCRIPTION:Jaws Returns! Join us for a Free Movie on the Beach at Archibald Memorial Beach Park. Movie begins at sunset and attendees are welcome to bring their own chairs\, blankets\, and coolers.\n\nNo glass on the beach and no tents in the viewing area as they will block the view of others.\nParking is available at Archibald Memorial Beach Park until full. Additional parking at City Hall\, 300 Municipal Drive\, for Free. Parking also available at other non-city paid lots.\n\nIf you do not want to bring a chair\, Saltwater Destination with have chairs available for reservation until they are sold out.\n\nFacebook event: Click Here\n\nFor more information\, contact the Madeira Beach Recreation Center at 727-392-0665.
URL:https://www.paradisenewsfl.com/event/jaws-free-movie-on-the-beach/
LOCATION:Archibald Park\, 15100 Gulf Blvd\, Madeira Beach\, FL\, 33708\, United States
ATTACH;FMTTYPE=image/jpeg:https://www.paradisenewsfl.com/wp-content/uploads/2021/09/jaws-movie-beach.jpeg
END:VEVENT
END:VCALENDAR