BEGIN:VCALENDAR
VERSION:2.0
PRODID:-//Paradise News Magazine - ECPv6.15.20//NONSGML v1.0//EN
CALSCALE:GREGORIAN
METHOD:PUBLISH
X-WR-CALNAME:Paradise News Magazine
X-ORIGINAL-URL:https://www.paradisenewsfl.com
X-WR-CALDESC:Events for Paradise News Magazine
REFRESH-INTERVAL;VALUE=DURATION:PT1H
X-Robots-Tag:noindex
X-PUBLISHED-TTL:PT1H
BEGIN:VTIMEZONE
TZID:UTC
BEGIN:STANDARD
TZOFFSETFROM:+0000
TZOFFSETTO:+0000
TZNAME:UTC
DTSTART:20200101T000000
END:STANDARD
END:VTIMEZONE
BEGIN:VEVENT
DTSTART;TZID=UTC:20210814T160000
DTEND;TZID=UTC:20210814T210000
DTSTAMP:20260423T054858
CREATED:20210728T204356Z
LAST-MODIFIED:20210728T204356Z
UID:23591-1628956800-1628974800@www.paradisenewsfl.com
SUMMARY:16th Annual Gecko Crawl
DESCRIPTION:The 16th annual Gecko Crawl will help again usher in “Gecko Season” in Gulfport with an opportunity to sample drinks at various locations\, a poker run\, and a festive after party in Gulfport’s colorful Waterfront District at Salty’s Gulfport. The Crawl will be held Saturday\, August 14th from 4 p.m. to 9 p.m.\, with the After-Party beginning at 9 p.m. \nGecko Crawl participating locations are – Caddy’s\, Gulfport Brewery\, Neptune Grill\, Salty’s\, Sea Dog Cantina\, Stella’s\, and The North End Taphouse. Salty’s Gulfport will be this year’s host of the after-party and there will be live music. Gecko Crawlers will be able to enjoy a free beverage at participating locations\, all are located within walking distance. \nADVANCE TICKETS WILL GO ON SALE JULY 4TH FOR $20.00 at Gulfport Beach Bazaar\, 3115 Beach Blvd. S. Gulfport\, Florida 33707 or online at VisitGulfportFlorida.com. Tickets are limited to 250 participants and advanced purchase is encouraged\, as this event does sell out.
URL:https://www.paradisenewsfl.com/event/16th-annual-gecko-crawl/
LOCATION:Downtown Gulfport\, Shore & Beach Blvd\, Gulfport\, FL\, 33707\, United States
ATTACH;FMTTYPE=image/jpeg:https://www.paradisenewsfl.com/wp-content/uploads/2021/07/geckocrawl-2021-1.jpeg
END:VEVENT
END:VCALENDAR