BEGIN:VCALENDAR
VERSION:2.0
PRODID:-//Paradise News Magazine - ECPv6.15.20//NONSGML v1.0//EN
CALSCALE:GREGORIAN
METHOD:PUBLISH
X-ORIGINAL-URL:https://www.paradisenewsfl.com
X-WR-CALDESC:Events for Paradise News Magazine
REFRESH-INTERVAL;VALUE=DURATION:PT1H
X-Robots-Tag:noindex
X-PUBLISHED-TTL:PT1H
BEGIN:VTIMEZONE
TZID:UTC
BEGIN:STANDARD
TZOFFSETFROM:+0000
TZOFFSETTO:+0000
TZNAME:UTC
DTSTART:20200101T000000
END:STANDARD
END:VTIMEZONE
BEGIN:VEVENT
DTSTART;TZID=UTC:20210808T140000
DTEND;TZID=UTC:20210808T140000
DTSTAMP:20260423T054909
CREATED:20210728T215852Z
LAST-MODIFIED:20210728T215852Z
UID:23612-1628431200-1628431200@www.paradisenewsfl.com
SUMMARY:City of Gulfport's Celebration of Life
DESCRIPTION:Thousands of Floridians infected with the coronavirus have passed away. Many people missed the opportunity to go to weddings\, funerals\, and birthday parties during the coronavirus pandemic. Restrictions from the pandemic made gatherings nearly impossible\, and what is worse\, we could not gather and hug and remember and comfort each other. We need your help to tell their stories.\n\nIf you’ve lost a loved one or friend to COVID-19\, please join us in honoring their legacy at the Historic Gulfport Casino Ballroom on Sunday\, August 8th at 2 p.m.\n\nFill out the form at https://mygulfport.us/celebration-of-life/\, to participate and share with the community.
URL:https://www.paradisenewsfl.com/event/city-of-gulfports-celebration-of-life/
LOCATION:Gulfport Casino\, 5500 Bayshore Blvd S\, Gulfport\, FL\, 33707\, United States
END:VEVENT
END:VCALENDAR