BEGIN:VCALENDAR
VERSION:2.0
PRODID:-//Paradise News Magazine - ECPv6.15.20//NONSGML v1.0//EN
CALSCALE:GREGORIAN
METHOD:PUBLISH
X-ORIGINAL-URL:https://www.paradisenewsfl.com
X-WR-CALDESC:Events for Paradise News Magazine
REFRESH-INTERVAL;VALUE=DURATION:PT1H
X-Robots-Tag:noindex
X-PUBLISHED-TTL:PT1H
BEGIN:VTIMEZONE
TZID:UTC
BEGIN:STANDARD
TZOFFSETFROM:+0000
TZOFFSETTO:+0000
TZNAME:UTC
DTSTART:20200101T000000
END:STANDARD
END:VTIMEZONE
BEGIN:VEVENT
DTSTART;VALUE=DATE:20210705
DTEND;VALUE=DATE:20210717
DTSTAMP:20260423T055002
CREATED:20210708T210318Z
LAST-MODIFIED:20210708T210318Z
UID:23352-1625443200-1626479999@www.paradisenewsfl.com
SUMMARY:Creative Clay's Folk Art Frenzy Online Art Auction
DESCRIPTION:Folk Art Frenzy benefits Creative Clay’s programs that create equality through art by making the arts accessible to all.\nWhat: Folk Art Frenzy: A Kaleidoscope of Art is an online\, virtual auction offering 15 paintings by Creative Clay Member Artists. Participants are invited to bid on favorite original works by Creative Clay artists. All proceeds benefit Creative Clay’s programs that create equality through art by making the arts accessible to all.\nWhy: To support Creative Clay’s member artists and to raise funds for Creative Clay’s programs that create equality through art by making the arts accessible to all.\nWhen: Bid as often as you’d like from July 5-16\, 2021\nWhere: https://creativeclay.cbo.io – online and from the comfort of your home\, office or even the beach!
URL:https://www.paradisenewsfl.com/event/creative-clays-folk-art-frenzy-online-art-auction/
LOCATION:VIRTUAL EVENT
CATEGORIES:ALL,Art
ATTACH;FMTTYPE=image/jpeg:https://www.paradisenewsfl.com/wp-content/uploads/2021/07/folk-art-frenzy.jpg
END:VEVENT
END:VCALENDAR