BEGIN:VCALENDAR
VERSION:2.0
PRODID:-//Paradise News Magazine - ECPv6.15.20//NONSGML v1.0//EN
CALSCALE:GREGORIAN
METHOD:PUBLISH
X-WR-CALNAME:Paradise News Magazine
X-ORIGINAL-URL:https://www.paradisenewsfl.com
X-WR-CALDESC:Events for Paradise News Magazine
REFRESH-INTERVAL;VALUE=DURATION:PT1H
X-Robots-Tag:noindex
X-PUBLISHED-TTL:PT1H
BEGIN:VTIMEZONE
TZID:UTC
BEGIN:STANDARD
TZOFFSETFROM:+0000
TZOFFSETTO:+0000
TZNAME:UTC
DTSTART:20200101T000000
END:STANDARD
END:VTIMEZONE
BEGIN:VEVENT
DTSTART;TZID=UTC:20210626T180000
DTEND;TZID=UTC:20210626T200000
DTSTAMP:20260423T070226
CREATED:20210623T182558Z
LAST-MODIFIED:20210623T182558Z
UID:23119-1624730400-1624737600@www.paradisenewsfl.com
SUMMARY:Visit SPACEcraft at Clymer Park!
DESCRIPTION:Explore FREE all-ages creative activities on the themes of Make and Play\, led by local artists\, musicians\, crafters\, and educators.\n\nNo sign-up required. Come as you are for this fun\, outdoor experience\, presented in partnership with the Gulfport Arts Center and the City of Gulfport.\n\nTwice each week\, the Make/Play SPACE presents participant-driven programs such as art workshops and crafting\, musical performance and drum circles\, educational toys and games\, pop-up art exhibitions\, an interactive chalkboard mural\, and more.\n\nPrograms are offered June 26 – Aug. 7 during these days/times:\n\nThursdays 6pm – 8pm\nSaturdays 6pm – 8pm\n\n\nPLUS we’ll host three pop-up Teen Nights from 6pm – 8pm on these dates:\n\nFriday\, July 9\nFriday\, July 23\nFriday\, Aug. 6\n\n\nAvailable outside the SPACEs during all daylight hours you’ll find interactive activities to explore\, such as colorful magnetic shapes and a giant\, playable Lego block wall!\n\nRepurposing locally sourced shipping containers in an open-air environment\, SPACEcraft lands in different Pinellas host communities to share creative programs that encourage people to interact and create together. Visit for hands-on\, self-guided fun!\n\nSPACEcraft is produced with the support of Creative Pinellas and is funded by the Pinellas County Board of County Commissioners. This public art project is an original work conceived and produced by artists Carrie Boucher\, Bridget Elmer\, and Mitzi Gordon.\n\nLearn more at www.exploreSPACEcraft.com
URL:https://www.paradisenewsfl.com/event/visit-spacecraft-at-clymer-park/
LOCATION:Clymer Park\, 5501 27th Ave. S.\, Gulfport\, FL\, 33707\, United States
CATEGORIES:ALL,Gulfport
ATTACH;FMTTYPE=image/jpeg:https://www.paradisenewsfl.com/wp-content/uploads/2020/10/gulfport.jpg
END:VEVENT
END:VCALENDAR