BEGIN:VCALENDAR
VERSION:2.0
PRODID:-//Paradise News Magazine - ECPv6.15.20//NONSGML v1.0//EN
CALSCALE:GREGORIAN
METHOD:PUBLISH
X-WR-CALNAME:Paradise News Magazine
X-ORIGINAL-URL:https://www.paradisenewsfl.com
X-WR-CALDESC:Events for Paradise News Magazine
REFRESH-INTERVAL;VALUE=DURATION:PT1H
X-Robots-Tag:noindex
X-PUBLISHED-TTL:PT1H
BEGIN:VTIMEZONE
TZID:UTC
BEGIN:STANDARD
TZOFFSETFROM:+0000
TZOFFSETTO:+0000
TZNAME:UTC
DTSTART:20200101T000000
END:STANDARD
END:VTIMEZONE
BEGIN:VEVENT
DTSTART;VALUE=DATE:20210521
DTEND;VALUE=DATE:20210524
DTSTAMP:20260423T082050
CREATED:20210519T202029Z
LAST-MODIFIED:20210519T202029Z
UID:22479-1621555200-1621814399@www.paradisenewsfl.com
SUMMARY:The Florida Music Expo Arts & Crafts Festival
DESCRIPTION:Come celebrate life\, music and a good cause at The Florida Music Expo Arts & Crafts Festival (next weekend) at Ferg’s Friday May 21 through Sunday May 23. FME is the the culmination of 30-years of dedication to the local music scene by Victor Lima of Tampa Bay Music Network and Florida Music TV. FME with have live music on two (2) stages for three (3) days along with all kinds of festival activities all for a good cause. “I have wanted to do this event or a long time and given all we have been through as a community the time to launch the first annual Florida Music Expo is now!” says Victor who looks to build on this event each year. He added\, “My hope is the Florida Music Expo can grow into a SXSW styled event on both sides of the bay\, where we can highlight all the great talent in our area and show the world there is no greater place to live\, work and play than Tampa Bay!”. We at Ferg’s agree and hope to see you out next week and FME 2021!\n\n\n\n\n\n\n\n\n\n\n\n\n\n\n\n\n\n\n\n\n\n\n\n\n\n\n\n\n\n\n\n\n\n\n\n\n\n\n\n\n\n\n\nTHE FLORIDA MUSIC EXPO ARTS & CRAFTS FESTIVAL\nPresented by: Tampa Bay Music Network and Florida Music TV Benefiting non-profit: PROJECT FREE (myprojectfree.org) Helping Children & Adults with Diverse Abilities.\n\n\nHosted by: Victor Lima of Tampa Bay Music Network and Florida Music TV (FMTV).\nArts & Crafts\, Vendor Village\, Dog Park\, Food and Drinks\, Live Music featuring some of the Best Artists and Bands from around the Bay Area and the Country.\n\nMAY 21 – Country and Good Vibe Friday!\nSouthbound 75 (Nashville TN)\nMellenchamp – Tribute to John Cougar Mellencamp\nFerg’s Patio Deck: 2pm (free entry) with Gary Schutt (FME Kickoff Party)\nFerg’s Concert Pavilion: 6pm gates/7pm show (ticketed event)\n\nMAY 22 – FMTV Rock Night with Tributes to Rocks Legendary Bands!\nHARDWIRED – Tribute to Metallica\nCALL FOR THE PRIEST – Tribute to Judas Priest\nDIARY OF AN OZZMAN – Tribute to Ozzy Osborne\nFMTV VIP After Party\nMeet and Greet in Ferg’s Upper Deck Bar\nFerg’s Patio Deck: 2pm (free entry) with Grindstone Syndicate and Solar Flair\n\nFerg’s Concert Pavilion: 7pm show (ticketed event)\nFerg’s Upper Deck VIP After Party 8pm-2am (upgrade purchase day of show)\n\n\nMAY 23 – Sunday Funday Family Day!\nJam Jones featuring Curtis Gray (American Idol Finalist)\nSpecial guests: Chas Collins (Top 10 Song CMT)\n\nFerg’s Patio Deck: 2pm (free entry) with Jaded\nFerg’s Concert Pavilion: 2pm show (ticketed event)\n\n\nTICKETS\nTicketweb.com (advance)\nFerg’s Box Office (day of show)\n$40 – Front of Stage Reserved Seats\n$20 – VIP Standing\n$10 – GA\n\n\nFerg’s Sports Bar and Entertainment Complex\n\n\n1320 Central Avenue\, St. Petersburg\, FL 33705 \nAll Ages are welcome\nFamily Friendly\nDog Friendly\nRain or Shine\n\n\nMedia Contacts\n\n\n\nVictor Lima (Promoter)\nTampa Bay Music Network\n(813) 765-7635\nvictor@tampabaymusicnetwork.com\nfloridamusicexpo.com\n\nMark Ferguson (Venue)\n(727) 742-5957\n\nMark@FergsSportsBar.com\n\nTicket Links\n\nhttps://www.ticketweb.com/event/the-florida-music-expo-arts-fergs-sports-bar-grill-tickets/10997005?pl=fergs\nhttps://www.ticketweb.com/event/the-florida-music-expo-arts-fergs-sports-bar-grill-tickets/10997025?pl=fergs\n\n\n\n\n\n\n\n\n\n\n\n\n\n\n\n\n\n\n\n\n\n\n\n\n\n\n\n\n\n\n\n\n\n\n\n\n\n\n\n\n\n\n\n\n\n\n\n\n\n\nhttps://www.ticketweb.com/event/the-florida-music-expo-arts-fergs-sports-bar-grill-tickets/10997045?pl=fergs
URL:https://www.paradisenewsfl.com/event/the-florida-music-expo-arts-crafts-festival/
LOCATION:Ferg’s Sports Bar & Grille\, 1320 Central Ave\, St. Petersburg\, FL\, 33705\, United States
CATEGORIES:Live Music,St. Petersburg
ATTACH;FMTTYPE=image/jpeg:https://www.paradisenewsfl.com/wp-content/uploads/2021/05/florida-music-expo.jpg
END:VEVENT
BEGIN:VEVENT
DTSTART;TZID=UTC:20210523T190000
DTEND;TZID=UTC:20210523T220000
DTSTAMP:20260423T082050
CREATED:20210422T205304Z
LAST-MODIFIED:20210422T205304Z
UID:21959-1621796400-1621807200@www.paradisenewsfl.com
SUMMARY:A Starry Night at The Dalí
DESCRIPTION:Join The Dali Museum for A Starry Night at The Dalí\, a fundraising evening under the stars sponsored by Publix Supermarkets Charities. Enjoy exclusive after-hours access to the Van Gogh Alive special exhibition\, tarot card readings\, music and a complimentary Van Gogh Vodka craft cocktail. Light fare from Café Gala will be available for purchase. The Museum store will be open from 7-8pm during the event. \nProceeds from the event will support The Dalí’s nonprofit mission. \nSpace for this event is limited to allow for physical distancing. Masks are required while inside The Dalí Museum. Learn more about the Museum’s health & safety precautions. \nTickets: $80\nMuseum Members: $70 (MEMBER CARD NUMBER necessary to purchase. Don’t see it on your card? Click here.) \n\nbuy tickets\n\n\nmember tickets\n\n\nThis event is for guests 21 and over; children cannot be admitted. We encourage you to take a cab or car service like Lyft or Uber to this event. We love animals\, but the event is not pet-friendly. Tickets are nonrefundable. In case of rain\, the event will be moved indoors.
URL:https://www.paradisenewsfl.com/event/a-starry-night/
LOCATION:The Dali\, 1 Dali Blvd\, St. Petersburg\, FL\, 33701\, United States
CATEGORIES:ALL,Art,St. Petersburg
ATTACH;FMTTYPE=image/jpeg:https://www.paradisenewsfl.com/wp-content/uploads/2016/10/the-dali-museum.jpg
END:VEVENT
END:VCALENDAR