BEGIN:VCALENDAR
VERSION:2.0
PRODID:-//Paradise News Magazine - ECPv6.15.20//NONSGML v1.0//EN
CALSCALE:GREGORIAN
METHOD:PUBLISH
X-ORIGINAL-URL:https://www.paradisenewsfl.com
X-WR-CALDESC:Events for Paradise News Magazine
REFRESH-INTERVAL;VALUE=DURATION:PT1H
X-Robots-Tag:noindex
X-PUBLISHED-TTL:PT1H
BEGIN:VTIMEZONE
TZID:UTC
BEGIN:STANDARD
TZOFFSETFROM:+0000
TZOFFSETTO:+0000
TZNAME:UTC
DTSTART:20200101T000000
END:STANDARD
END:VTIMEZONE
BEGIN:VEVENT
DTSTART;TZID=UTC:20210519T180000
DTEND;TZID=UTC:20210519T193000
DTSTAMP:20260423T082211
CREATED:20210430T232400Z
LAST-MODIFIED:20210430T232400Z
UID:22097-1621447200-1621452600@www.paradisenewsfl.com
SUMMARY:2021 Barrier Islands Hurricane Preparedness Summit
DESCRIPTION:Disaster Preparedness has always been essential for Pinellas County beach residents and businesses. To help the community better prepare for Hurricane Season\, Pinellas County Emergency Management and beach community partners present the annual Barrier Islands Hurricane Preparedness Summit. \nModerated by St. Pete Beach Mayor Alan Johnson\, president of the Barrier Islands Governmental Council (BIG-C)\, the panelists will discuss personal and home preparation\, evacuation procedures\, shelter options\, special needs\, and insurance considerations for the residents of the barrier island\, as well as the responsibilities before\, during and after a storm. This webinar will address the unique considerations of Pinellas County beach residents\, from Clearwater Beach to Tierra Verde. \nPinellas County Emergency Management encourages the barrier island communities to “Pledge to Plan” in 2021 and will provide the information and resources needed to create\, or update\, disaster plans for the 2021 storm season. \nSummit panelists include representatives from Pinellas County Emergency Management\, the National Weather Service\, Local Law Enforcement\, Local Fire Rescue\, Public Works and the insurance industry. \nIn addition\, local subject matter experts and personnel from the various beach municipalities will be on hand to answer questions. \nThe summit will be a hybrid event\, with the option of participating in person at Madeira Beach City Hall\, or virtually via Zoom. Registration is required to attend the live and virtual event. \nLive Event \nMadeira Beach City Hall\n300 Municipal Dr.\nMadeira Beach\, FL 33708 \nVirtual Event will be held via Zoom \nEvent Registration Link – LINK TO REGISTER \nFull URL: https://us02web.zoom.us/webinar/register/WN_e7zH-Y3JTXWiAETiWRzHIg \nYou will be asked to indicate how you wish to attend the event \nFor questions\, or assistance with registration\, please contact Pinellas County Emergency Management at 727-464-5550 | ema@pinellascounty.org
URL:https://www.paradisenewsfl.com/event/2021-barrier-islands-hurricane-preparedness-summit/
LOCATION:VIRTUAL EVENT
CATEGORIES:ALL
ATTACH;FMTTYPE=image/jpeg:https://www.paradisenewsfl.com/wp-content/uploads/2016/07/hurricane-image.jpg
END:VEVENT
END:VCALENDAR